BEGIN:VCALENDAR
VERSION:2.0
PRODID:-//Mallorca Sunshine Radio - ECPv6.15.20//NONSGML v1.0//EN
CALSCALE:GREGORIAN
METHOD:PUBLISH
X-ORIGINAL-URL:https://www.mallorcasunshineradio.com
X-WR-CALDESC:Events for Mallorca Sunshine Radio
REFRESH-INTERVAL;VALUE=DURATION:PT1H
X-Robots-Tag:noindex
X-PUBLISHED-TTL:PT1H
BEGIN:VTIMEZONE
TZID:Europe/Madrid
BEGIN:DAYLIGHT
TZOFFSETFROM:+0100
TZOFFSETTO:+0200
TZNAME:CEST
DTSTART:20190331T010000
END:DAYLIGHT
BEGIN:STANDARD
TZOFFSETFROM:+0200
TZOFFSETTO:+0100
TZNAME:CET
DTSTART:20191027T010000
END:STANDARD
BEGIN:DAYLIGHT
TZOFFSETFROM:+0100
TZOFFSETTO:+0200
TZNAME:CEST
DTSTART:20200329T010000
END:DAYLIGHT
BEGIN:STANDARD
TZOFFSETFROM:+0200
TZOFFSETTO:+0100
TZNAME:CET
DTSTART:20201025T010000
END:STANDARD
BEGIN:DAYLIGHT
TZOFFSETFROM:+0100
TZOFFSETTO:+0200
TZNAME:CEST
DTSTART:20210328T010000
END:DAYLIGHT
BEGIN:STANDARD
TZOFFSETFROM:+0200
TZOFFSETTO:+0100
TZNAME:CET
DTSTART:20211031T010000
END:STANDARD
END:VTIMEZONE
BEGIN:VEVENT
DTSTART;TZID=Europe/Madrid:20200604T180000
DTEND;TZID=Europe/Madrid:20200625T193000
DTSTAMP:20260422T014737
CREATED:20200514T115441Z
LAST-MODIFIED:20200514T121635Z
UID:10235-1591293600-1593113400@www.mallorcasunshineradio.com
SUMMARY:Palma Music Studios Songwriting online course
DESCRIPTION:Palma Music Studios now offer online courses in songwriting and music production with co-owner/-founder Fredrik Thomander. \nThe songwriting course -basic to mid level – will be about the whole writing process\, from an idea to a finished song\, keeping the end result in focus. I will show the tricks we use to find inspiration\, to get to the point\, and how to make your music stand out. \nSix Thursdays\, starting the 4th of June
URL:https://www.mallorcasunshineradio.com/event/palma-music-studios-songwritting-online-course-basic-to-mid-level/
LOCATION:online
CATEGORIES:Virtual Event
ATTACH;FMTTYPE=image/jpeg:https://www.mallorcasunshineradio.com/wp-content/uploads/PalmamusicStudios-Master-Class-Fredrik-Thomander-scaled.jpg
END:VEVENT
END:VCALENDAR