BEGIN:VCALENDAR
VERSION:2.0
PRODID:-//Mallorca Sunshine Radio - ECPv6.15.20//NONSGML v1.0//EN
CALSCALE:GREGORIAN
METHOD:PUBLISH
X-WR-CALNAME:Mallorca Sunshine Radio
X-ORIGINAL-URL:https://www.mallorcasunshineradio.com
X-WR-CALDESC:Events for Mallorca Sunshine Radio
REFRESH-INTERVAL;VALUE=DURATION:PT1H
X-Robots-Tag:noindex
X-PUBLISHED-TTL:PT1H
BEGIN:VTIMEZONE
TZID:Europe/Madrid
BEGIN:DAYLIGHT
TZOFFSETFROM:+0100
TZOFFSETTO:+0200
TZNAME:CEST
DTSTART:20190331T010000
END:DAYLIGHT
BEGIN:STANDARD
TZOFFSETFROM:+0200
TZOFFSETTO:+0100
TZNAME:CET
DTSTART:20191027T010000
END:STANDARD
BEGIN:DAYLIGHT
TZOFFSETFROM:+0100
TZOFFSETTO:+0200
TZNAME:CEST
DTSTART:20200329T010000
END:DAYLIGHT
BEGIN:STANDARD
TZOFFSETFROM:+0200
TZOFFSETTO:+0100
TZNAME:CET
DTSTART:20201025T010000
END:STANDARD
BEGIN:DAYLIGHT
TZOFFSETFROM:+0100
TZOFFSETTO:+0200
TZNAME:CEST
DTSTART:20210328T010000
END:DAYLIGHT
BEGIN:STANDARD
TZOFFSETFROM:+0200
TZOFFSETTO:+0100
TZNAME:CET
DTSTART:20211031T010000
END:STANDARD
END:VTIMEZONE
BEGIN:VEVENT
DTSTART;TZID=Europe/Madrid:20200814T190000
DTEND;TZID=Europe/Madrid:20200814T190000
DTSTAMP:20260421T220924
CREATED:20200811T115309Z
LAST-MODIFIED:20200811T120030Z
UID:10311-1597431600-1597431600@www.mallorcasunshineradio.com
SUMMARY:MLF Summer Edition: MALA RODRIGUEZ
DESCRIPTION:You can’t miss Mallorca Live Festival Summer Edition: A unique opportunity to enjoy the best summer shows at the most outstanding terrace on the island.
URL:https://www.mallorcasunshineradio.com/event/mlf-summer-edition-mala-rodriguez/
LOCATION:Antiguo Aquapark de Calviá\, Carretera Cala Figuera a Sa Porrasa\, Magaluf/Mallorca\, Baleares\, 07181\, Spain
CATEGORIES:Concert,Festival,Music
ATTACH;FMTTYPE=image/jpeg:https://www.mallorcasunshineradio.com/wp-content/uploads/mala_1.1-2-1280x1280-1.jpg
ORGANIZER;CN="MallorcaLive Festival":MAILTO:info@mallorcalivefestival.com
END:VEVENT
BEGIN:VEVENT
DTSTART;TZID=Europe/Madrid:20200814T200000
DTEND;TZID=Europe/Madrid:20200814T213000
DTSTAMP:20260421T220924
CREATED:20200813T021353Z
LAST-MODIFIED:20200813T021353Z
UID:10331-1597435200-1597440600@www.mallorcasunshineradio.com
SUMMARY:Noches de Flamenco
DESCRIPTION:The passion of Flamenco joins the magic of s’Embat in Ses Covetes…
URL:https://www.mallorcasunshineradio.com/event/noches-de-flamenco/
LOCATION:s’Embat Ses Covetes\, Carretera des Murters\, s/n\, Ses Covetes\, Baleares\, Spain
CATEGORIES:Dance,Music
ATTACH;FMTTYPE=image/jpeg:https://www.mallorcasunshineradio.com/wp-content/uploads/event_s_embat_flamenco_1_6_2017052.jpg
END:VEVENT
END:VCALENDAR