BEGIN:VCALENDAR
VERSION:2.0
PRODID:-//Mallorca Sunshine Radio - ECPv6.15.20//NONSGML v1.0//EN
CALSCALE:GREGORIAN
METHOD:PUBLISH
X-ORIGINAL-URL:https://www.mallorcasunshineradio.com
X-WR-CALDESC:Events for Mallorca Sunshine Radio
REFRESH-INTERVAL;VALUE=DURATION:PT1H
X-Robots-Tag:noindex
X-PUBLISHED-TTL:PT1H
BEGIN:VTIMEZONE
TZID:Europe/Madrid
BEGIN:DAYLIGHT
TZOFFSETFROM:+0100
TZOFFSETTO:+0200
TZNAME:CEST
DTSTART:20190331T010000
END:DAYLIGHT
BEGIN:STANDARD
TZOFFSETFROM:+0200
TZOFFSETTO:+0100
TZNAME:CET
DTSTART:20191027T010000
END:STANDARD
BEGIN:DAYLIGHT
TZOFFSETFROM:+0100
TZOFFSETTO:+0200
TZNAME:CEST
DTSTART:20200329T010000
END:DAYLIGHT
BEGIN:STANDARD
TZOFFSETFROM:+0200
TZOFFSETTO:+0100
TZNAME:CET
DTSTART:20201025T010000
END:STANDARD
BEGIN:DAYLIGHT
TZOFFSETFROM:+0100
TZOFFSETTO:+0200
TZNAME:CEST
DTSTART:20210328T010000
END:DAYLIGHT
BEGIN:STANDARD
TZOFFSETFROM:+0200
TZOFFSETTO:+0100
TZNAME:CET
DTSTART:20211031T010000
END:STANDARD
END:VTIMEZONE
BEGIN:VEVENT
DTSTART;TZID=Europe/Madrid:20200822T200000
DTEND;TZID=Europe/Madrid:20200822T200000
DTSTAMP:20260421T220943
CREATED:20200813T020102Z
LAST-MODIFIED:20200813T020102Z
UID:10322-1598126400-1598126400@www.mallorcasunshineradio.com
SUMMARY:MLF Summer Edition: TABURETE
DESCRIPTION:You can’t miss Mallorca Live Festival Summer Edition: A unique opportunity to enjoy the best summer shows at the most outstanding terrace on the island.
URL:https://www.mallorcasunshineradio.com/event/mlf-summer-edition-taburete/
LOCATION:Antiguo Aquapark de Calviá\, Carretera Cala Figuera a Sa Porrasa\, Magaluf/Mallorca\, Baleares\, 07181\, Spain
CATEGORIES:Concert,Festival,Music
ATTACH;FMTTYPE=image/jpeg:https://www.mallorcasunshineradio.com/wp-content/uploads/taburete-2-1280x1280-1.jpg
ORGANIZER;CN="MallorcaLive Festival":MAILTO:info@mallorcalivefestival.com
END:VEVENT
BEGIN:VEVENT
DTSTART;TZID=Europe/Madrid:20200822T200000
DTEND;TZID=Europe/Madrid:20200822T200000
DTSTAMP:20260421T220943
CREATED:20200818T104339Z
LAST-MODIFIED:20200818T104339Z
UID:10357-1598126400-1598126400@www.mallorcasunshineradio.com
SUMMARY:Chico Ocaña "Mártires del Compás" y Rafael Rodríguez "El Cabeza"
DESCRIPTION:
URL:https://www.mallorcasunshineradio.com/event/chico-ocana-martires-del-compas-y-rafael-rodriguez-el-cabeza/
LOCATION:s’Embat Ses Covetes\, Carretera des Murters\, s/n\, Ses Covetes\, Baleares\, Spain
CATEGORIES:Concert,Music
ATTACH;FMTTYPE=image/jpeg:https://www.mallorcasunshineradio.com/wp-content/uploads/event_IMG-20200812-WA0011.jpg
END:VEVENT
END:VCALENDAR