BEGIN:VCALENDAR
VERSION:2.0
PRODID:-//Mallorca Sunshine Radio - ECPv6.15.20//NONSGML v1.0//EN
CALSCALE:GREGORIAN
METHOD:PUBLISH
X-WR-CALNAME:Mallorca Sunshine Radio
X-ORIGINAL-URL:https://www.mallorcasunshineradio.com
X-WR-CALDESC:Events for Mallorca Sunshine Radio
REFRESH-INTERVAL;VALUE=DURATION:PT1H
X-Robots-Tag:noindex
X-PUBLISHED-TTL:PT1H
BEGIN:VTIMEZONE
TZID:Europe/Madrid
BEGIN:DAYLIGHT
TZOFFSETFROM:+0100
TZOFFSETTO:+0200
TZNAME:CEST
DTSTART:20190331T010000
END:DAYLIGHT
BEGIN:STANDARD
TZOFFSETFROM:+0200
TZOFFSETTO:+0100
TZNAME:CET
DTSTART:20191027T010000
END:STANDARD
BEGIN:DAYLIGHT
TZOFFSETFROM:+0100
TZOFFSETTO:+0200
TZNAME:CEST
DTSTART:20200329T010000
END:DAYLIGHT
BEGIN:STANDARD
TZOFFSETFROM:+0200
TZOFFSETTO:+0100
TZNAME:CET
DTSTART:20201025T010000
END:STANDARD
BEGIN:DAYLIGHT
TZOFFSETFROM:+0100
TZOFFSETTO:+0200
TZNAME:CEST
DTSTART:20210328T010000
END:DAYLIGHT
BEGIN:STANDARD
TZOFFSETFROM:+0200
TZOFFSETTO:+0100
TZNAME:CET
DTSTART:20211031T010000
END:STANDARD
END:VTIMEZONE
BEGIN:VEVENT
DTSTART;TZID=Europe/Madrid:20200830T200000
DTEND;TZID=Europe/Madrid:20200830T200000
DTSTAMP:20260421T220913
CREATED:20200818T103554Z
LAST-MODIFIED:20200818T103554Z
UID:10350-1598817600-1598817600@www.mallorcasunshineradio.com
SUMMARY:MLF Summer Edition: LA FURA DELS BAUS
DESCRIPTION:You can’t miss Mallorca Live Festival Summer Edition: A unique opportunity to enjoy the best summer shows at the most outstanding terrace on the island.
URL:https://www.mallorcasunshineradio.com/event/mlf-summer-edition-la-fura-dels-baus/
LOCATION:Antiguo Aquapark de Calviá\, Carretera Cala Figuera a Sa Porrasa\, Magaluf/Mallorca\, Baleares\, 07181\, Spain
CATEGORIES:Concert,Festival,Music
ATTACH;FMTTYPE=image/jpeg:https://www.mallorcasunshineradio.com/wp-content/uploads/lafura_buena-1-1-1280x1280-1.jpg
ORGANIZER;CN="MallorcaLive Festival":MAILTO:info@mallorcalivefestival.com
END:VEVENT
BEGIN:VEVENT
DTSTART;TZID=Europe/Madrid:20200830T200000
DTEND;TZID=Europe/Madrid:20200830T200000
DTSTAMP:20260421T220913
CREATED:20200818T104700Z
LAST-MODIFIED:20200818T104700Z
UID:10363-1598817600-1598817600@www.mallorcasunshineradio.com
SUMMARY:Kiko Navarro\, La Mulatona de Cuba\, Benji Habichuela y Joe Orson
DESCRIPTION:
URL:https://www.mallorcasunshineradio.com/event/kiko-navarro-la-mulatona-de-cuba-benji-habichuela-y-joe-orson-2/
LOCATION:s’Embat Ses Covetes\, Carretera des Murters\, s/n\, Ses Covetes\, Baleares\, Spain
CATEGORIES:Concert,Music
ATTACH;FMTTYPE=image/jpeg:https://www.mallorcasunshineradio.com/wp-content/uploads/event_kiko_navarro.jpg
END:VEVENT
END:VCALENDAR