BEGIN:VCALENDAR
VERSION:2.0
PRODID:-//Mallorca Sunshine Radio - ECPv6.15.20//NONSGML v1.0//EN
CALSCALE:GREGORIAN
METHOD:PUBLISH
X-ORIGINAL-URL:https://www.mallorcasunshineradio.com
X-WR-CALDESC:Events for Mallorca Sunshine Radio
REFRESH-INTERVAL;VALUE=DURATION:PT1H
X-Robots-Tag:noindex
X-PUBLISHED-TTL:PT1H
BEGIN:VTIMEZONE
TZID:Europe/Madrid
BEGIN:DAYLIGHT
TZOFFSETFROM:+0100
TZOFFSETTO:+0200
TZNAME:CEST
DTSTART:20190331T010000
END:DAYLIGHT
BEGIN:STANDARD
TZOFFSETFROM:+0200
TZOFFSETTO:+0100
TZNAME:CET
DTSTART:20191027T010000
END:STANDARD
BEGIN:DAYLIGHT
TZOFFSETFROM:+0100
TZOFFSETTO:+0200
TZNAME:CEST
DTSTART:20200329T010000
END:DAYLIGHT
BEGIN:STANDARD
TZOFFSETFROM:+0200
TZOFFSETTO:+0100
TZNAME:CET
DTSTART:20201025T010000
END:STANDARD
BEGIN:DAYLIGHT
TZOFFSETFROM:+0100
TZOFFSETTO:+0200
TZNAME:CEST
DTSTART:20210328T010000
END:DAYLIGHT
BEGIN:STANDARD
TZOFFSETFROM:+0200
TZOFFSETTO:+0100
TZNAME:CET
DTSTART:20211031T010000
END:STANDARD
END:VTIMEZONE
BEGIN:VEVENT
DTSTART;TZID=Europe/Madrid:20200911T190000
DTEND;TZID=Europe/Madrid:20200911T193000
DTSTAMP:20260421T201244
CREATED:20200909T165338Z
LAST-MODIFIED:20200909T171509Z
UID:10422-1599850800-1599852600@www.mallorcasunshineradio.com
SUMMARY:Ciclop Festival Sineu - FUGIR
DESCRIPTION:Genre: Dance \nCo: 9Espai Escènic \nChoreography: Mireia Sans Aleu \nPerformed by: Mar Fiol\, Mireia Sans Aleu & Pedro Mas \nMusical composition: Mon Joan Tiquat \nPlaywriting: Joan Fullana \nMore info: www.facebook.com/pg/9espaiescenic \n  \nAnimals\, facing a dangerous situation\, attack\, submit themselves or escape but humans can’t escape the dangers that are inherent to beings.
URL:https://www.mallorcasunshineradio.com/event/ciclop-festival-sineu-fugir/
LOCATION:Pavelló IES Sineu\, Sineu\, Illes Balears\, 07510\, Spain
CATEGORIES:Dance,Festival,Theatre
ATTACH;FMTTYPE=image/jpeg:https://www.mallorcasunshineradio.com/wp-content/uploads/IMG_1292.jpg
ORGANIZER;CN="Ciclop Festival Sineu":MAILTO:reserves@ciclopfestival.com
END:VEVENT
BEGIN:VEVENT
DTSTART;TZID=Europe/Madrid:20200911T200000
DTEND;TZID=Europe/Madrid:20200911T200000
DTSTAMP:20260421T201244
CREATED:20200829T131626Z
LAST-MODIFIED:20200829T131626Z
UID:10408-1599854400-1599854400@www.mallorcasunshineradio.com
SUMMARY:MLF Summer Edition: MISS CAFFEINA
DESCRIPTION:You can’t miss Mallorca Live Festival Summer Edition: A unique opportunity to enjoy the best summer shows at the most outstanding terrace on the island.
URL:https://www.mallorcasunshineradio.com/event/mlf-summer-edition-miss-caffeina/
LOCATION:Antiguo Aquapark de Calviá\, Carretera Cala Figuera a Sa Porrasa\, Magaluf/Mallorca\, Baleares\, 07181\, Spain
CATEGORIES:Concert,Festival,Music
ATTACH;FMTTYPE=image/png:https://www.mallorcasunshineradio.com/wp-content/uploads/01_MLFse_RRSS_Pola_MissCaffeina_1-1-1.png
ORGANIZER;CN="MallorcaLive Festival":MAILTO:info@mallorcalivefestival.com
END:VEVENT
BEGIN:VEVENT
DTSTART;TZID=Europe/Madrid:20200911T210000
DTEND;TZID=Europe/Madrid:20200911T213000
DTSTAMP:20260421T201244
CREATED:20200909T165452Z
LAST-MODIFIED:20200909T171457Z
UID:10431-1599858000-1599859800@www.mallorcasunshineradio.com
SUMMARY:Ciclop Festival Sineu - FUGIR
DESCRIPTION:Genre: Dance \nCo: 9Espai Escènic \nChoreography: Mireia Sans Aleu \nPerformed by: Mar Fiol\, Mireia Sans Aleu & Pedro Mas \nMusical composition: Mon Joan Tiquat \nPlaywriting: Joan Fullana \nMore info: www.facebook.com/pg/9espaiescenic \n  \nAnimals\, facing a dangerous situation\, attack\, submit themselves or escape but humans can’t escape the dangers that are inherent to beings.
URL:https://www.mallorcasunshineradio.com/event/ciclop-festival-sineu-fugir-2/
LOCATION:Pavelló IES Sineu\, Sineu\, Illes Balears\, 07510\, Spain
CATEGORIES:Dance,Festival,Theatre
ATTACH;FMTTYPE=image/jpeg:https://www.mallorcasunshineradio.com/wp-content/uploads/IMG_1292.jpg
ORGANIZER;CN="Ciclop Festival Sineu":MAILTO:reserves@ciclopfestival.com
END:VEVENT
END:VCALENDAR