BEGIN:VCALENDAR
VERSION:2.0
PRODID:-//Mallorca Sunshine Radio - ECPv6.15.20//NONSGML v1.0//EN
CALSCALE:GREGORIAN
METHOD:PUBLISH
X-ORIGINAL-URL:https://www.mallorcasunshineradio.com
X-WR-CALDESC:Events for Mallorca Sunshine Radio
REFRESH-INTERVAL;VALUE=DURATION:PT1H
X-Robots-Tag:noindex
X-PUBLISHED-TTL:PT1H
BEGIN:VTIMEZONE
TZID:Europe/Madrid
BEGIN:DAYLIGHT
TZOFFSETFROM:+0100
TZOFFSETTO:+0200
TZNAME:CEST
DTSTART:20190331T010000
END:DAYLIGHT
BEGIN:STANDARD
TZOFFSETFROM:+0200
TZOFFSETTO:+0100
TZNAME:CET
DTSTART:20191027T010000
END:STANDARD
BEGIN:DAYLIGHT
TZOFFSETFROM:+0100
TZOFFSETTO:+0200
TZNAME:CEST
DTSTART:20200329T010000
END:DAYLIGHT
BEGIN:STANDARD
TZOFFSETFROM:+0200
TZOFFSETTO:+0100
TZNAME:CET
DTSTART:20201025T010000
END:STANDARD
BEGIN:DAYLIGHT
TZOFFSETFROM:+0100
TZOFFSETTO:+0200
TZNAME:CEST
DTSTART:20210328T010000
END:DAYLIGHT
BEGIN:STANDARD
TZOFFSETFROM:+0200
TZOFFSETTO:+0100
TZNAME:CET
DTSTART:20211031T010000
END:STANDARD
END:VTIMEZONE
BEGIN:VEVENT
DTSTART;TZID=Europe/Madrid:20200913T103000
DTEND;TZID=Europe/Madrid:20200913T113000
DTSTAMP:20260421T201246
CREATED:20200909T171158Z
LAST-MODIFIED:20200909T171158Z
UID:10445-1599993000-1599996600@www.mallorcasunshineradio.com
SUMMARY:Ciclop Festival Sineu - LA MÀQUINA GRAMÒPTICA UNIVERSAL
DESCRIPTION:Genre: Magic\, audiovisual\, music \nCo: Marino e Marini \nCreated\, performed and directed by: Marino e Marini \nMore info: www.facebook.com/marinoemarini \n  \n  \nMarino and Marini are two brothers who travel around the world with their mysterious invention: the incredible books-reader machine\, a rare automatous chest\, full of gears and ropes that transforms books into real life. A machine that can bring words to life\, today will run again to turn an original tale into reality: En Mateu sense Neu\, the story of a rope obsessed with seeing the snow. \nA performance for everybody that combines drama\, magic\, audiovisual content\, music and automata. \n  \n  \n  \n 
URL:https://www.mallorcasunshineradio.com/event/ciclop-festival-sineu-la-maquina-gramoptica-universal/
LOCATION:Ajuntament Sineu\, Carrer de Sant Francesc\, 10\, Sineu\, Illes Balears\, 07510\, Spain
CATEGORIES:Dance,Festival,Theatre
ATTACH;FMTTYPE=image/jpeg:https://www.mallorcasunshineradio.com/wp-content/uploads/IMG_1296.jpg
ORGANIZER;CN="Ciclop Festival Sineu":MAILTO:reserves@ciclopfestival.com
END:VEVENT
BEGIN:VEVENT
DTSTART;TZID=Europe/Madrid:20200913T120000
DTEND;TZID=Europe/Madrid:20200913T130000
DTSTAMP:20260421T201246
CREATED:20200909T171303Z
LAST-MODIFIED:20200909T171303Z
UID:10448-1599998400-1600002000@www.mallorcasunshineradio.com
SUMMARY:Ciclop Festival Sineu - LA MÀQUINA GRAMÒPTICA UNIVERSAL
DESCRIPTION:Genre: Magic\, audiovisual\, music \nCo: Marino e Marini \nCreated\, performed and directed by: Marino e Marini \nMore info: www.facebook.com/marinoemarini \n  \n  \nMarino and Marini are two brothers who travel around the world with their mysterious invention: the incredible books-reader machine\, a rare automatous chest\, full of gears and ropes that transforms books into real life. A machine that can bring words to life\, today will run again to turn an original tale into reality: En Mateu sense Neu\, the story of a rope obsessed with seeing the snow. \nA performance for everybody that combines drama\, magic\, audiovisual content\, music and automata. \n  \n  \n  \n 
URL:https://www.mallorcasunshineradio.com/event/ciclop-festival-sineu-la-maquina-gramoptica-universal-2/
LOCATION:Ajuntament Sineu\, Carrer de Sant Francesc\, 10\, Sineu\, Illes Balears\, 07510\, Spain
CATEGORIES:Dance,Festival,Theatre
ATTACH;FMTTYPE=image/jpeg:https://www.mallorcasunshineradio.com/wp-content/uploads/IMG_1296.jpg
ORGANIZER;CN="Ciclop Festival Sineu":MAILTO:reserves@ciclopfestival.com
END:VEVENT
BEGIN:VEVENT
DTSTART;TZID=Europe/Madrid:20200913T133000
DTEND;TZID=Europe/Madrid:20200913T143000
DTSTAMP:20260421T201246
CREATED:20200909T171349Z
LAST-MODIFIED:20200909T171349Z
UID:10450-1600003800-1600007400@www.mallorcasunshineradio.com
SUMMARY:Ciclop Festival Sineu - LA MÀQUINA GRAMÒPTICA UNIVERSAL
DESCRIPTION:Genre: Magic\, audiovisual\, music \nCo: Marino e Marini \nCreated\, performed and directed by: Marino e Marini \nMore info: www.facebook.com/marinoemarini \n  \n  \nMarino and Marini are two brothers who travel around the world with their mysterious invention: the incredible books-reader machine\, a rare automatous chest\, full of gears and ropes that transforms books into real life. A machine that can bring words to life\, today will run again to turn an original tale into reality: En Mateu sense Neu\, the story of a rope obsessed with seeing the snow. \nA performance for everybody that combines drama\, magic\, audiovisual content\, music and automata. \n  \n  \n  \n 
URL:https://www.mallorcasunshineradio.com/event/ciclop-festival-sineu-la-maquina-gramoptica-universal-3/
LOCATION:Ajuntament Sineu\, Carrer de Sant Francesc\, 10\, Sineu\, Illes Balears\, 07510\, Spain
CATEGORIES:Dance,Festival,Theatre
ATTACH;FMTTYPE=image/jpeg:https://www.mallorcasunshineradio.com/wp-content/uploads/IMG_1296.jpg
ORGANIZER;CN="Ciclop Festival Sineu":MAILTO:reserves@ciclopfestival.com
END:VEVENT
BEGIN:VEVENT
DTSTART;TZID=Europe/Madrid:20200913T200000
DTEND;TZID=Europe/Madrid:20200913T200000
DTSTAMP:20260421T201246
CREATED:20200829T131757Z
LAST-MODIFIED:20200829T131757Z
UID:10410-1600027200-1600027200@www.mallorcasunshineradio.com
SUMMARY:MLF Summer Edition: ISMAEL SERRANO
DESCRIPTION:You can’t miss Mallorca Live Festival Summer Edition: A unique opportunity to enjoy the best summer shows at the most outstanding terrace on the island.
URL:https://www.mallorcasunshineradio.com/event/mlf-summer-edition-ismael-serrano/
LOCATION:Antiguo Aquapark de Calviá\, Carretera Cala Figuera a Sa Porrasa\, Magaluf/Mallorca\, Baleares\, 07181\, Spain
CATEGORIES:Concert,Festival,Music
ATTACH;FMTTYPE=image/png:https://www.mallorcasunshineradio.com/wp-content/uploads/01_MLFse_RRSS_Pola_IsmaelSerrano_1-1.png
ORGANIZER;CN="MallorcaLive Festival":MAILTO:info@mallorcalivefestival.com
END:VEVENT
END:VCALENDAR