BEGIN:VCALENDAR
VERSION:2.0
PRODID:-//Mallorca Sunshine Radio - ECPv6.15.20//NONSGML v1.0//EN
CALSCALE:GREGORIAN
METHOD:PUBLISH
X-WR-CALNAME:Mallorca Sunshine Radio
X-ORIGINAL-URL:https://www.mallorcasunshineradio.com
X-WR-CALDESC:Events for Mallorca Sunshine Radio
REFRESH-INTERVAL;VALUE=DURATION:PT1H
X-Robots-Tag:noindex
X-PUBLISHED-TTL:PT1H
BEGIN:VTIMEZONE
TZID:Europe/Madrid
BEGIN:DAYLIGHT
TZOFFSETFROM:+0100
TZOFFSETTO:+0200
TZNAME:CEST
DTSTART:20190331T010000
END:DAYLIGHT
BEGIN:STANDARD
TZOFFSETFROM:+0200
TZOFFSETTO:+0100
TZNAME:CET
DTSTART:20191027T010000
END:STANDARD
BEGIN:DAYLIGHT
TZOFFSETFROM:+0100
TZOFFSETTO:+0200
TZNAME:CEST
DTSTART:20200329T010000
END:DAYLIGHT
BEGIN:STANDARD
TZOFFSETFROM:+0200
TZOFFSETTO:+0100
TZNAME:CET
DTSTART:20201025T010000
END:STANDARD
BEGIN:DAYLIGHT
TZOFFSETFROM:+0100
TZOFFSETTO:+0200
TZNAME:CEST
DTSTART:20210328T010000
END:DAYLIGHT
BEGIN:STANDARD
TZOFFSETFROM:+0200
TZOFFSETTO:+0100
TZNAME:CET
DTSTART:20211031T010000
END:STANDARD
END:VTIMEZONE
BEGIN:VEVENT
DTSTART;VALUE=DATE:20201023
DTEND;VALUE=DATE:20201029
DTSTAMP:20260421T182058
CREATED:20200921T090944Z
LAST-MODIFIED:20200921T090944Z
UID:10458-1603411200-1604015999@www.mallorcasunshineradio.com
SUMMARY:9th EVOLUTION! Mallorca International Film Festival
DESCRIPTION:Evolution! Mallorca International Film Festival enters its 9th edition\, with a clear mission statement; BRIDGING CULTURES – BRIDGING PEOPLE.  EMIFF is now recognized as one of the fastest-growing film festivals in Europe\, using international film to shape a creative community\, allowing independent filmmakers to feel inspired\, to network and thrive in this idyllic Mediterranean island paradise. \n\n​ \nTHE hub for networking\, EMIFF brings together the brightest local and international minds in cinema in Mallorca’s buzzing and the culturally rich city of Palma. For seven days and six nights\, EMIFF’s program is curated to showcase a culturally diverse\, inclusive and provocative mix of feature films\, short films\, documentaries\, music videos\, films for kids\, experimental films\, animation shorts and Virtual Reality projects.   \n​ \nWith competitive screenings unfolding at the most striking island locations\, EMIFF is an ideal place for indie filmmakers to rub shoulders with industry professionals at the festival’s Producers Club\, its Pitch Forum and many workshops\, with the opportunity to win prizes worth up to 15\,000€ across the 13 categories of the festival program. EMIFF’s Made In Balearessection presents films produced and directed by the most talented filmmakers from the Balearic Islands. Other programs include Evolution Edge – films by first/ second-time directors with a distinct and avant-garde vision and Wake Up Europe – films and documentaries highlighting stories from in and around Europe. \n​ \nEMIFF is proud to have been one of MovieMaker’s “TOP 50 Film Festivals Worth The Entry fee” two years in a row\, as well as appearing continuously on the 100 Best Reviewed Film Festival list on Freeway\, ranking in the top 1.5% of more than 8\,000 film festivals and creative markets around the world.
URL:https://www.mallorcasunshineradio.com/event/9th-evolution-mallorca-international-film-festival/
LOCATION:Balearic Islands
CATEGORIES:Cinema,Festival
ATTACH;FMTTYPE=image/jpeg:https://www.mallorcasunshineradio.com/wp-content/uploads/IMG_1445.jpg
END:VEVENT
END:VCALENDAR