BEGIN:VCALENDAR
VERSION:2.0
PRODID:-//Mallorca Sunshine Radio - ECPv6.15.20//NONSGML v1.0//EN
CALSCALE:GREGORIAN
METHOD:PUBLISH
X-WR-CALNAME:Mallorca Sunshine Radio
X-ORIGINAL-URL:https://www.mallorcasunshineradio.com
X-WR-CALDESC:Events for Mallorca Sunshine Radio
REFRESH-INTERVAL;VALUE=DURATION:PT1H
X-Robots-Tag:noindex
X-PUBLISHED-TTL:PT1H
BEGIN:VTIMEZONE
TZID:Europe/Madrid
BEGIN:DAYLIGHT
TZOFFSETFROM:+0100
TZOFFSETTO:+0200
TZNAME:CEST
DTSTART:20190331T010000
END:DAYLIGHT
BEGIN:STANDARD
TZOFFSETFROM:+0200
TZOFFSETTO:+0100
TZNAME:CET
DTSTART:20191027T010000
END:STANDARD
BEGIN:DAYLIGHT
TZOFFSETFROM:+0100
TZOFFSETTO:+0200
TZNAME:CEST
DTSTART:20200329T010000
END:DAYLIGHT
BEGIN:STANDARD
TZOFFSETFROM:+0200
TZOFFSETTO:+0100
TZNAME:CET
DTSTART:20201025T010000
END:STANDARD
BEGIN:DAYLIGHT
TZOFFSETFROM:+0100
TZOFFSETTO:+0200
TZNAME:CEST
DTSTART:20210328T010000
END:DAYLIGHT
BEGIN:STANDARD
TZOFFSETFROM:+0200
TZOFFSETTO:+0100
TZNAME:CET
DTSTART:20211031T010000
END:STANDARD
END:VTIMEZONE
BEGIN:VEVENT
DTSTART;TZID=Europe/Madrid:20201212T200000
DTEND;TZID=Europe/Madrid:20201212T223000
DTSTAMP:20260421T144502
CREATED:20201123T093712Z
LAST-MODIFIED:20210720T105045Z
UID:10531-1607803200-1607812200@www.mallorcasunshineradio.com
SUMMARY:13. Jazz Voyeur Festival - Andrea Motis
DESCRIPTION:
URL:https://www.mallorcasunshineradio.com/event/13-jazz-voyeur-festival-andrea-motis/
LOCATION:Auditori de Manacor\, Manacor\, Illes Balears\, Spain
CATEGORIES:Festival,Music
ATTACH;FMTTYPE=image/jpeg:https://www.mallorcasunshineradio.com/wp-content/uploads/CARTEL-COMPLETO-JVF-CUBO-1.jpg
ORGANIZER;CN="Jazz Voyeur Festival":MAILTO:prensa@contemporaneamusic.com
END:VEVENT
END:VCALENDAR