BEGIN:VCALENDAR
VERSION:2.0
PRODID:-//Mallorca Sunshine Radio - ECPv6.15.20//NONSGML v1.0//EN
CALSCALE:GREGORIAN
METHOD:PUBLISH
X-WR-CALNAME:Mallorca Sunshine Radio
X-ORIGINAL-URL:https://www.mallorcasunshineradio.com
X-WR-CALDESC:Events for Mallorca Sunshine Radio
REFRESH-INTERVAL;VALUE=DURATION:PT1H
X-Robots-Tag:noindex
X-PUBLISHED-TTL:PT1H
BEGIN:VTIMEZONE
TZID:Europe/Madrid
BEGIN:DAYLIGHT
TZOFFSETFROM:+0100
TZOFFSETTO:+0200
TZNAME:CEST
DTSTART:20200329T010000
END:DAYLIGHT
BEGIN:STANDARD
TZOFFSETFROM:+0200
TZOFFSETTO:+0100
TZNAME:CET
DTSTART:20201025T010000
END:STANDARD
BEGIN:DAYLIGHT
TZOFFSETFROM:+0100
TZOFFSETTO:+0200
TZNAME:CEST
DTSTART:20210328T010000
END:DAYLIGHT
BEGIN:STANDARD
TZOFFSETFROM:+0200
TZOFFSETTO:+0100
TZNAME:CET
DTSTART:20211031T010000
END:STANDARD
BEGIN:DAYLIGHT
TZOFFSETFROM:+0100
TZOFFSETTO:+0200
TZNAME:CEST
DTSTART:20220327T010000
END:DAYLIGHT
BEGIN:STANDARD
TZOFFSETFROM:+0200
TZOFFSETTO:+0100
TZNAME:CET
DTSTART:20221030T010000
END:STANDARD
END:VTIMEZONE
BEGIN:VEVENT
DTSTART;VALUE=DATE:20211124
DTEND;VALUE=DATE:20211129
DTSTAMP:20260420T130400
CREATED:20211112T172627Z
LAST-MODIFIED:20211112T172627Z
UID:10678-1637715600-1638147599@www.mallorcasunshineradio.com
SUMMARY:TaPalma 2021
DESCRIPTION:
URL:https://www.mallorcasunshineradio.com/event/tapalma-2021/
LOCATION:City of Palma\, Palma\, Balearic Islands\, 07002\, Spain
CATEGORIES:Festival,Food
ATTACH;FMTTYPE=image/jpeg:https://www.mallorcasunshineradio.com/wp-content/uploads/Web-TaPalma-2021-2.jpg
ORGANIZER;CN="TaPalma":MAILTO:tapalma@agenciacom.com
END:VEVENT
BEGIN:VEVENT
DTSTART;TZID=Europe/Madrid:20211126T203000
DTEND;TZID=Europe/Madrid:20211126T223000
DTSTAMP:20260420T130400
CREATED:20211123T173535Z
LAST-MODIFIED:20211123T173622Z
UID:10712-1637958600-1637965800@www.mallorcasunshineradio.com
SUMMARY:Alternatilla Jazz In Mallorca 2021 - MAYTE ALGUACIL & TRIO
DESCRIPTION:
URL:https://www.mallorcasunshineradio.com/event/alternatilla-jazz-in-mallorca-2021-mayte-alguacil-trio/
LOCATION:Espai 36\, Sant Llorenç des Cardassar\, Balearic Islands\, Spain
CATEGORIES:Concert,Festival,Music
ATTACH;FMTTYPE=image/jpeg:https://www.mallorcasunshineradio.com/wp-content/uploads/AJIM21-web-Mayte-Alguacil_.jpg
ORGANIZER;CN="Alternatilla":MAILTO:info@alternatilla.com
END:VEVENT
END:VCALENDAR