BEGIN:VCALENDAR
VERSION:2.0
PRODID:-//Mallorca Sunshine Radio - ECPv6.15.20//NONSGML v1.0//EN
CALSCALE:GREGORIAN
METHOD:PUBLISH
X-WR-CALNAME:Mallorca Sunshine Radio
X-ORIGINAL-URL:https://www.mallorcasunshineradio.com
X-WR-CALDESC:Events for Mallorca Sunshine Radio
REFRESH-INTERVAL;VALUE=DURATION:PT1H
X-Robots-Tag:noindex
X-PUBLISHED-TTL:PT1H
BEGIN:VTIMEZONE
TZID:Europe/Madrid
BEGIN:DAYLIGHT
TZOFFSETFROM:+0100
TZOFFSETTO:+0200
TZNAME:CEST
DTSTART:20250330T010000
END:DAYLIGHT
BEGIN:STANDARD
TZOFFSETFROM:+0200
TZOFFSETTO:+0100
TZNAME:CET
DTSTART:20251026T010000
END:STANDARD
BEGIN:DAYLIGHT
TZOFFSETFROM:+0100
TZOFFSETTO:+0200
TZNAME:CEST
DTSTART:20260329T010000
END:DAYLIGHT
BEGIN:STANDARD
TZOFFSETFROM:+0200
TZOFFSETTO:+0100
TZNAME:CET
DTSTART:20261025T010000
END:STANDARD
BEGIN:DAYLIGHT
TZOFFSETFROM:+0100
TZOFFSETTO:+0200
TZNAME:CEST
DTSTART:20270328T010000
END:DAYLIGHT
BEGIN:STANDARD
TZOFFSETFROM:+0200
TZOFFSETTO:+0100
TZNAME:CET
DTSTART:20271031T010000
END:STANDARD
END:VTIMEZONE
BEGIN:VEVENT
DTSTART;TZID=Europe/Madrid:20260425T130000
DTEND;TZID=Europe/Madrid:20260425T130000
DTSTAMP:20260425T014921
CREATED:20260419T105443Z
LAST-MODIFIED:20260419T105505Z
UID:17280-1777122000-1777122000@www.mallorcasunshineradio.com
SUMMARY:Vaiana - The Princess of Motunui @ Auditorium Palma
DESCRIPTION:Moana is a young woman who loves the sea and is the only daughter of the chief of the village of Motunui.  \nWhen her village’s fishermen can’t catch any fish and all the crops fail\, Moana discovers that the demigod Maui caused the misfortune after stealing the heart of the goddess Te Fiti. The only way to save the island’s fate is to persuade Maui to return Te Fiti’s heart. So\, Moana embarks on a perilous adventure to save her village alongside the demigod Maui.
URL:https://www.mallorcasunshineradio.com/event/vaiana-the-princess-of-motunui-auditorium-palma/
LOCATION:Auditorium Palma\, Auditorium de Palma de Mallorca. Av. de Gabriel Roca\, 18\, Palma\, Illes Balears\, 07014\, Spain
CATEGORIES:Musical
ATTACH;FMTTYPE=image/jpeg:https://www.mallorcasunshineradio.com/wp-content/uploads/vaiana.jpg
ORGANIZER;CN="Auditorium Palma de Mallorca":MAILTO:info@auditoriumpalma.com
END:VEVENT
BEGIN:VEVENT
DTSTART;TZID=Europe/Madrid:20260425T140000
DTEND;TZID=Europe/Madrid:20260425T200000
DTSTAMP:20260425T014921
CREATED:20260416T002119Z
LAST-MODIFIED:20260416T002126Z
UID:17274-1777125600-1777147200@www.mallorcasunshineradio.com
SUMMARY:This is Drag @ Es Gremi Palma
DESCRIPTION:THIS IS DRAG arrives at Es Gremi in an afternoon format with a show celebrating spectacle\, diversity\, and drag culture at its most vibrant. An event designed to deliver six hours of showmanship\, pop\, and collective energy with some of the most iconic names on the national scene. \nOn our stage\, artists like Supremme de Luxe\, Kika Lorace\, and Denebola Murnau\, along with a wide array of performers\, will move seamlessly between lip-syncing\, performance art\, and contemporary drag imagery. All of this will be accompanied by a dance crew that amplifies the experience\, transforming it into a vibrant and festive journey. \nAn open\, colorful\, and unfiltered celebration that connects with the current pulse of the scene.\nCome and experience it live!
URL:https://www.mallorcasunshineradio.com/event/this-is-drag-es-gremi-palma/
LOCATION:Es Gremi\, Es Gremi. Gremi de Porgadors\, 16\, Palma\, Balearic Islands\, 07009\, Spain
CATEGORIES:Live Performance,Live Show
ATTACH;FMTTYPE=image/jpeg:https://www.mallorcasunshineradio.com/wp-content/uploads/01_Web_Banner_ThisIsDrag.jpg
ORGANIZER;CN="Es Gremi":MAILTO:info@esgremi.com
END:VEVENT
BEGIN:VEVENT
DTSTART;TZID=Europe/Madrid:20260425T200000
DTEND;TZID=Europe/Madrid:20260425T200000
DTSTAMP:20260425T014921
CREATED:20260416T002447Z
LAST-MODIFIED:20260416T002447Z
UID:17277-1777147200-1777147200@www.mallorcasunshineradio.com
SUMMARY:LA MALAFAMERA @ Es Gremi Palma
DESCRIPTION:The real Argentine party.\nLa Malafamera returns to Es Gremi with a show that transforms the dance floor into a meeting point for urban rhythms and Argentine party culture. A night designed to let loose and be swept away by the energy of cumbia\, RKT\, and reggaeton\, in a set that connects directly with the pulse of the dance floor and the collective spirit of dancing. \nWith an identity marked by intensity\, carefree abandon\, and non-stop celebration\, La Malafamera unfolds a sonic journey that moves between recognizable hits and beats that invite constant movement. An experience designed for those who understand partying as a shared language\, where every song contributes and every moment counts. \nA night to let loose\, dance\, and experience the dance floor without compromise. \nCome and experience it live!
URL:https://www.mallorcasunshineradio.com/event/la-malafamera-es-gremi-palma/
LOCATION:Es Gremi\, Es Gremi. Gremi de Porgadors\, 16\, Palma\, Balearic Islands\, 07009\, Spain
CATEGORIES:Latin,Live DJ,Live Music
ATTACH;FMTTYPE=image/jpeg:https://www.mallorcasunshineradio.com/wp-content/uploads/01_WEB_Banner_Malafamera.jpg
ORGANIZER;CN="Es Gremi":MAILTO:info@esgremi.com
END:VEVENT
BEGIN:VEVENT
DTSTART;TZID=Europe/Madrid:20260425T190000
DTEND;TZID=Europe/Madrid:20260425T190000
DTSTAMP:20260425T014921
CREATED:20260315T221553Z
LAST-MODIFIED:20260315T221553Z
UID:16867-1777143600-1777143600@www.mallorcasunshineradio.com
SUMMARY:ABBA Tribute at Trui Teatre in Palma
DESCRIPTION:The show “Dancing ABBA” brings the famous Swedish band back to the stage at Trui Teatre in Palma. With projections\, choreographies and great costumes\, it brings the biggest hits live to the stage. \nImage credit: truiteatre.es
URL:https://www.mallorcasunshineradio.com/event/abba-tribute-trui-teatre-palma/
LOCATION:Trui Teatre\, Palma\, Trui Teatre. Cami Son Rapinya 29\, Palma Mallorca\, Illes Balears\, 0713\, Spain
CATEGORIES:Music,Tribute
ATTACH;FMTTYPE=image/jpeg:https://www.mallorcasunshineradio.com/wp-content/uploads/abba_tribute.jpg
END:VEVENT
BEGIN:VEVENT
DTSTART;TZID=Europe/Madrid:20260425T210000
DTEND;TZID=Europe/Madrid:20260425T210000
DTSTAMP:20260425T014921
CREATED:20260409T002152Z
LAST-MODIFIED:20260409T002201Z
UID:17176-1777150800-1777150800@www.mallorcasunshineradio.com
SUMMARY:The Other Side - A Pink Floyd Live Experience @ Auditorium Palma
DESCRIPTION:Immerse yourself in a sonic and visual journey through Pink Floyd’s immortal legacy with The Other Side\, the country’s longest-running band and undoubtedly among the best. They not only interpret the music of the legendary British band\, but also revive its soul with impeccable musical fidelity\, a hypnotic audiovisual display\, and a profound respect for the conceptual essence of each album. The Other Side transcends homage to offer an immersive experience that connects generations. \nFrom the introspection of “The Dark Side of the Moon\,” through the melancholy of “Wish You Were Here” and the emotional fury of “The Wall\,” to the ethereal atmospheres of “The Division Bell\,” the band recreates every note\, every solo\, and every word with a technical precision and passionate delivery that transports the viewer to “the other side” of music. \nMore than a show\, The Other Side is a psychedelic ceremony\, an evocation of time and space where music is memory\, protest\, and redemption. \n\n\n\n 
URL:https://www.mallorcasunshineradio.com/event/the-other-side-a-pink-floyd-live-experience-auditorium-palma/
LOCATION:Auditorium Palma\, Auditorium de Palma de Mallorca. Av. de Gabriel Roca\, 18\, Palma\, Illes Balears\, 07014\, Spain
CATEGORIES:Live Music,Rock
ATTACH;FMTTYPE=image/webp:https://www.mallorcasunshineradio.com/wp-content/uploads/The_Other_Side-1.webp
ORGANIZER;CN="Auditorium Palma de Mallorca":MAILTO:info@auditoriumpalma.com
END:VEVENT
END:VCALENDAR