BEGIN:VCALENDAR
VERSION:2.0
PRODID:-//Mallorca Sunshine Radio - ECPv6.15.20//NONSGML v1.0//EN
CALSCALE:GREGORIAN
METHOD:PUBLISH
X-WR-CALNAME:Mallorca Sunshine Radio
X-ORIGINAL-URL:https://www.mallorcasunshineradio.com
X-WR-CALDESC:Events for Mallorca Sunshine Radio
REFRESH-INTERVAL;VALUE=DURATION:PT1H
X-Robots-Tag:noindex
X-PUBLISHED-TTL:PT1H
BEGIN:VTIMEZONE
TZID:Europe/Madrid
BEGIN:DAYLIGHT
TZOFFSETFROM:+0100
TZOFFSETTO:+0200
TZNAME:CEST
DTSTART:20240331T010000
END:DAYLIGHT
BEGIN:STANDARD
TZOFFSETFROM:+0200
TZOFFSETTO:+0100
TZNAME:CET
DTSTART:20241027T010000
END:STANDARD
BEGIN:DAYLIGHT
TZOFFSETFROM:+0100
TZOFFSETTO:+0200
TZNAME:CEST
DTSTART:20250330T010000
END:DAYLIGHT
BEGIN:STANDARD
TZOFFSETFROM:+0200
TZOFFSETTO:+0100
TZNAME:CET
DTSTART:20251026T010000
END:STANDARD
BEGIN:DAYLIGHT
TZOFFSETFROM:+0100
TZOFFSETTO:+0200
TZNAME:CEST
DTSTART:20260329T010000
END:DAYLIGHT
BEGIN:STANDARD
TZOFFSETFROM:+0200
TZOFFSETTO:+0100
TZNAME:CET
DTSTART:20261025T010000
END:STANDARD
END:VTIMEZONE
BEGIN:VEVENT
DTSTART;TZID=Europe/Madrid:20251108T190000
DTEND;TZID=Europe/Madrid:20251108T190000
DTSTAMP:20260425T044826
CREATED:20251030T113743Z
LAST-MODIFIED:20251106T221155Z
UID:15110-1762628400-1762628400@www.mallorcasunshineradio.com
SUMMARY:POSTPONED!!! Contrallum — Night of Light and Heritage
DESCRIPTION:POSTPONED DUE TO WEATHER CONDITIONS! NEW DATA WILL BE ANNOUNCED AS SOON AS POSIBLE… \nContrallum is Sineu’s Night of Light and Heritage — an evening in darkness that inspires and illuminates.\nIt invites everyone to rediscover the town through creativity\, silence\, sustainability and local heritage. \nEach year\, eleven illuminated points form a circular route that reflects on culture\, art and community.\nHeld on the second Saturday of November\, near Saint Martin’s Day\, Contrallum celebrates the light of autumn. \nCreated by local volunteers\, the *Col·lectiu Contrallum* works with neighbours\, schools and the Town Council to make this singular night possible. \n“When the night falls silent\, Sineu speaks in light.” \n#contrallumsineu
URL:https://www.mallorcasunshineradio.com/event/contrallum-sineu-2025/
LOCATION:Sineu\, Centre\, Sineu\, Illes Balears\, 07510\, Spain
CATEGORIES:Art,Culture,Festival
ATTACH;FMTTYPE=image/jpeg:https://www.mallorcasunshineradio.com/wp-content/uploads/WhatsApp-Image-2025-11-06-at-22.57.16.jpeg
ORGANIZER;CN="Contrallum Sineu":MAILTO:contrallum.contrallum@gmail.com
END:VEVENT
END:VCALENDAR