BEGIN:VCALENDAR
VERSION:2.0
PRODID:-//Mallorca Sunshine Radio - ECPv6.15.20//NONSGML v1.0//EN
CALSCALE:GREGORIAN
METHOD:PUBLISH
X-WR-CALNAME:Mallorca Sunshine Radio
X-ORIGINAL-URL:https://www.mallorcasunshineradio.com
X-WR-CALDESC:Events for Mallorca Sunshine Radio
REFRESH-INTERVAL;VALUE=DURATION:PT1H
X-Robots-Tag:noindex
X-PUBLISHED-TTL:PT1H
BEGIN:VTIMEZONE
TZID:Europe/Madrid
BEGIN:DAYLIGHT
TZOFFSETFROM:+0100
TZOFFSETTO:+0200
TZNAME:CEST
DTSTART:20250330T010000
END:DAYLIGHT
BEGIN:STANDARD
TZOFFSETFROM:+0200
TZOFFSETTO:+0100
TZNAME:CET
DTSTART:20251026T010000
END:STANDARD
BEGIN:DAYLIGHT
TZOFFSETFROM:+0100
TZOFFSETTO:+0200
TZNAME:CEST
DTSTART:20260329T010000
END:DAYLIGHT
BEGIN:STANDARD
TZOFFSETFROM:+0200
TZOFFSETTO:+0100
TZNAME:CET
DTSTART:20261025T010000
END:STANDARD
BEGIN:DAYLIGHT
TZOFFSETFROM:+0100
TZOFFSETTO:+0200
TZNAME:CEST
DTSTART:20270328T010000
END:DAYLIGHT
BEGIN:STANDARD
TZOFFSETFROM:+0200
TZOFFSETTO:+0100
TZNAME:CET
DTSTART:20271031T010000
END:STANDARD
END:VTIMEZONE
BEGIN:VEVENT
DTSTART;TZID=Europe/Madrid:20260410T150000
DTEND;TZID=Europe/Madrid:20260410T200000
DTSTAMP:20260424T203357
CREATED:20260410T125244Z
LAST-MODIFIED:20260410T125726Z
UID:17221-1775833200-1775851200@www.mallorcasunshineradio.com
SUMMARY:Opening LATE CHECK-OUT of Alejo Mira @ Quartera Palma
DESCRIPTION:Espacio Quartera presents Late Check-Out\, the latest series by painter and designer Alejo Mira. \nA pictorial journey that unfolds with the gentleness of a late dawn\, inviting us to savor the pleasure of waking without haste. Each canvas captures a different hour\, weaving a slow and enveloping time where first thoughts germinate\, and where calm stretches delicately between dissolving sleep and the dawning of wakefulness.
URL:https://www.mallorcasunshineradio.com/event/inauguration-late-check-out-of-alejo-mira-quartera-palma/
LOCATION:Quartera Palma\, Plaça de la Quartera\, 9\, Palma\, Balears\, 07002\, Spain
CATEGORIES:Art,Art Exhibition
ATTACH;FMTTYPE=image/jpeg:https://www.mallorcasunshineradio.com/wp-content/uploads/alejo10.jpg
END:VEVENT
END:VCALENDAR