BEGIN:VCALENDAR
VERSION:2.0
PRODID:-//Mallorca Sunshine Radio - ECPv6.15.20//NONSGML v1.0//EN
CALSCALE:GREGORIAN
METHOD:PUBLISH
X-WR-CALNAME:Mallorca Sunshine Radio
X-ORIGINAL-URL:https://www.mallorcasunshineradio.com
X-WR-CALDESC:Events for Mallorca Sunshine Radio
REFRESH-INTERVAL;VALUE=DURATION:PT1H
X-Robots-Tag:noindex
X-PUBLISHED-TTL:PT1H
BEGIN:VTIMEZONE
TZID:Europe/Madrid
BEGIN:DAYLIGHT
TZOFFSETFROM:+0100
TZOFFSETTO:+0200
TZNAME:CEST
DTSTART:20240331T010000
END:DAYLIGHT
BEGIN:STANDARD
TZOFFSETFROM:+0200
TZOFFSETTO:+0100
TZNAME:CET
DTSTART:20241027T010000
END:STANDARD
BEGIN:DAYLIGHT
TZOFFSETFROM:+0100
TZOFFSETTO:+0200
TZNAME:CEST
DTSTART:20250330T010000
END:DAYLIGHT
BEGIN:STANDARD
TZOFFSETFROM:+0200
TZOFFSETTO:+0100
TZNAME:CET
DTSTART:20251026T010000
END:STANDARD
BEGIN:DAYLIGHT
TZOFFSETFROM:+0100
TZOFFSETTO:+0200
TZNAME:CEST
DTSTART:20260329T010000
END:DAYLIGHT
BEGIN:STANDARD
TZOFFSETFROM:+0200
TZOFFSETTO:+0100
TZNAME:CET
DTSTART:20261025T010000
END:STANDARD
BEGIN:DAYLIGHT
TZOFFSETFROM:+0100
TZOFFSETTO:+0200
TZNAME:CEST
DTSTART:20270328T010000
END:DAYLIGHT
BEGIN:STANDARD
TZOFFSETFROM:+0200
TZOFFSETTO:+0100
TZNAME:CET
DTSTART:20271031T010000
END:STANDARD
END:VTIMEZONE
BEGIN:VEVENT
DTSTART;TZID=Europe/Madrid:20260410T150000
DTEND;TZID=Europe/Madrid:20260410T200000
DTSTAMP:20260424T183820
CREATED:20260410T125244Z
LAST-MODIFIED:20260410T125726Z
UID:17221-1775833200-1775851200@www.mallorcasunshineradio.com
SUMMARY:Opening LATE CHECK-OUT of Alejo Mira @ Quartera Palma
DESCRIPTION:Espacio Quartera presents Late Check-Out\, the latest series by painter and designer Alejo Mira. \nA pictorial journey that unfolds with the gentleness of a late dawn\, inviting us to savor the pleasure of waking without haste. Each canvas captures a different hour\, weaving a slow and enveloping time where first thoughts germinate\, and where calm stretches delicately between dissolving sleep and the dawning of wakefulness.
URL:https://www.mallorcasunshineradio.com/event/inauguration-late-check-out-of-alejo-mira-quartera-palma/
LOCATION:Quartera Palma\, Plaça de la Quartera\, 9\, Palma\, Balears\, 07002\, Spain
CATEGORIES:Art,Art Exhibition
ATTACH;FMTTYPE=image/jpeg:https://www.mallorcasunshineradio.com/wp-content/uploads/alejo10.jpg
END:VEVENT
BEGIN:VEVENT
DTSTART;TZID=Europe/Madrid:20260313T120000
DTEND;TZID=Europe/Madrid:20260313T120000
DTSTAMP:20260424T183820
CREATED:20260312T173633Z
LAST-MODIFIED:20260312T173633Z
UID:16819-1773403200-1773403200@www.mallorcasunshineradio.com
SUMMARY:Foko: Immersive Art in Palma
DESCRIPTION:A huge ball pit\, or perhaps a room full of cuddly toys? Between colours\, textiles and light\, visitors can explore 12 rooms at Foko in Palma. \nImage credit: foko.es
URL:https://www.mallorcasunshineradio.com/event/foko-immersive-art-palma/
LOCATION:Foko\, FoKO Immersive Gallery. Carrer del Baró de Pinopar\, 7\, Centre\, Palma\, Illes Balears\, 07012\, Spain
CATEGORIES:Art,Family,Immersive Experience,Indoor Activity,Interactive
ATTACH;FMTTYPE=image/webp:https://www.mallorcasunshineradio.com/wp-content/uploads/foko_palma.webp
END:VEVENT
BEGIN:VEVENT
DTSTART;TZID=Europe/Madrid:20260210T180000
DTEND;TZID=Europe/Madrid:20260210T180000
DTSTAMP:20260424T183820
CREATED:20260208T230658Z
LAST-MODIFIED:20260208T230709Z
UID:16403-1770746400-1770746400@www.mallorcasunshineradio.com
SUMMARY:Elements: Light Show at San Cayetano in Palma
DESCRIPTION:A light show takes place at the San Cayetano church in Palma. Above your head\, a starry sky appears\, and in the next moment rays glide across the space\, plants grow along the walls\, and the walls themselves seem to move. This is exactly what visitors experience at “Elements”. \nImage credit: Instagram / @elements_mallorcal
URL:https://www.mallorcasunshineradio.com/event/elements-light-show-san-cayetano-palma/
LOCATION:San Cayetano\, Carrer de Sant Gaietà\, 9\, Centre\, Palma\, Illes Balears\, 07012\, Spain
CATEGORIES:Art,Light Show
ATTACH;FMTTYPE=image/webp:https://www.mallorcasunshineradio.com/wp-content/uploads/Elements_Lichtshow.webp
END:VEVENT
BEGIN:VEVENT
DTSTART;TZID=Europe/Madrid:20251121T170000
DTEND;TZID=Europe/Madrid:20251121T170000
DTSTAMP:20260424T183820
CREATED:20251119T215557Z
LAST-MODIFIED:20251119T215557Z
UID:15383-1763744400-1763744400@www.mallorcasunshineradio.com
SUMMARY:Underwater World in Focus — Exhibition in Cala Millor
DESCRIPTION:Dive into the breathtaking world of the Mediterranean.\nAt Auditori Sa Màniga in Cala Millor\, the new exhibition presents impressive underwater photographs from the MARE competition. Colours\, light reflections\, and rare marine animals come together in a visual experience that reminds us how beautiful — and fragile — our seas are. \nA perfect plan for sea lovers\, families\, and anyone who enjoys seeing art and nature side by side. \nImage: Auditori Sa Màniga
URL:https://www.mallorcasunshineradio.com/event/underwater-world-in-focus-exhibition-cala-millor/
LOCATION:Auditorium Sa Maniga\, Auditòrium Sa Màniga. Carrer son Galta\, 4\, Cala Millor\, Illes Balears\, 07560\, Spain
CATEGORIES:Art,Nature,Photography
ATTACH;FMTTYPE=image/webp:https://www.mallorcasunshineradio.com/wp-content/uploads/Unterwasserfotografie_Ausstellung-1.webp
END:VEVENT
BEGIN:VEVENT
DTSTART;TZID=Europe/Madrid:20251108T190000
DTEND;TZID=Europe/Madrid:20251108T190000
DTSTAMP:20260424T183820
CREATED:20251030T113743Z
LAST-MODIFIED:20251106T221155Z
UID:15110-1762628400-1762628400@www.mallorcasunshineradio.com
SUMMARY:POSTPONED!!! Contrallum — Night of Light and Heritage
DESCRIPTION:POSTPONED DUE TO WEATHER CONDITIONS! NEW DATA WILL BE ANNOUNCED AS SOON AS POSIBLE… \nContrallum is Sineu’s Night of Light and Heritage — an evening in darkness that inspires and illuminates.\nIt invites everyone to rediscover the town through creativity\, silence\, sustainability and local heritage. \nEach year\, eleven illuminated points form a circular route that reflects on culture\, art and community.\nHeld on the second Saturday of November\, near Saint Martin’s Day\, Contrallum celebrates the light of autumn. \nCreated by local volunteers\, the *Col·lectiu Contrallum* works with neighbours\, schools and the Town Council to make this singular night possible. \n“When the night falls silent\, Sineu speaks in light.” \n#contrallumsineu
URL:https://www.mallorcasunshineradio.com/event/contrallum-sineu-2025/
LOCATION:Sineu\, Centre\, Sineu\, Illes Balears\, 07510\, Spain
CATEGORIES:Art,Culture,Festival
ATTACH;FMTTYPE=image/jpeg:https://www.mallorcasunshineradio.com/wp-content/uploads/WhatsApp-Image-2025-11-06-at-22.57.16.jpeg
ORGANIZER;CN="Contrallum Sineu":MAILTO:contrallum.contrallum@gmail.com
END:VEVENT
BEGIN:VEVENT
DTSTART;VALUE=DATE:20251101
DTEND;VALUE=DATE:20251101
DTSTAMP:20260424T183820
CREATED:20251030T115544Z
LAST-MODIFIED:20251030T115643Z
UID:15119-1761966000-1761966000@www.mallorcasunshineradio.com
SUMMARY:Art & Culture Fair in Inca
DESCRIPTION:Inca celebrates its traditional autumn fair under the theme “Fira d’època\,” dedicated to art and culture with a special focus on the Middle Ages. Expect lively street parades featuring fantasy characters\, horse shows\, and historical displays throughout the weekend. \nThe performances take place on Saturday and Sunday at the bullring of Inca — a great way to enjoy the town’s festive atmosphere and local creativity.
URL:https://www.mallorcasunshineradio.com/event/art-and-culture-fair-inca-2025/
LOCATION:Plaça de Toros\, Inca\, Carrer de n'Antoni Maura\, 2\, Inca\, Illes Balears\, 07300\, Spain
CATEGORIES:Art,Culture,Fairs,Family,Tradition
ATTACH;FMTTYPE=image/jpeg:https://www.mallorcasunshineradio.com/wp-content/uploads/fires_d_inca_2025.jpg
END:VEVENT
END:VCALENDAR