BEGIN:VCALENDAR
VERSION:2.0
PRODID:-//Mallorca Sunshine Radio - ECPv6.15.20//NONSGML v1.0//EN
CALSCALE:GREGORIAN
METHOD:PUBLISH
X-WR-CALNAME:Mallorca Sunshine Radio
X-ORIGINAL-URL:https://www.mallorcasunshineradio.com
X-WR-CALDESC:Events for Mallorca Sunshine Radio
REFRESH-INTERVAL;VALUE=DURATION:PT1H
X-Robots-Tag:noindex
X-PUBLISHED-TTL:PT1H
BEGIN:VTIMEZONE
TZID:Europe/Madrid
BEGIN:DAYLIGHT
TZOFFSETFROM:+0100
TZOFFSETTO:+0200
TZNAME:CEST
DTSTART:20240331T010000
END:DAYLIGHT
BEGIN:STANDARD
TZOFFSETFROM:+0200
TZOFFSETTO:+0100
TZNAME:CET
DTSTART:20241027T010000
END:STANDARD
BEGIN:DAYLIGHT
TZOFFSETFROM:+0100
TZOFFSETTO:+0200
TZNAME:CEST
DTSTART:20250330T010000
END:DAYLIGHT
BEGIN:STANDARD
TZOFFSETFROM:+0200
TZOFFSETTO:+0100
TZNAME:CET
DTSTART:20251026T010000
END:STANDARD
BEGIN:DAYLIGHT
TZOFFSETFROM:+0100
TZOFFSETTO:+0200
TZNAME:CEST
DTSTART:20260329T010000
END:DAYLIGHT
BEGIN:STANDARD
TZOFFSETFROM:+0200
TZOFFSETTO:+0100
TZNAME:CET
DTSTART:20261025T010000
END:STANDARD
END:VTIMEZONE
BEGIN:VEVENT
DTSTART;TZID=Europe/Madrid:20251115T213000
DTEND;TZID=Europe/Madrid:20251115T213000
DTSTAMP:20260425T023108
CREATED:20251114T121610Z
LAST-MODIFIED:20251114T121610Z
UID:15321-1763242200-1763242200@www.mallorcasunshineradio.com
SUMMARY:Blues Night at the Jazz Lounge
DESCRIPTION:The Jazz Lounge in Palma presents an evening filled with blues and emotion. \nSirjo Cocchi & Balta Bordoy bring heartfelt vocals\, piano\, guitar\, bass\, and drums to the stage for a night of pure musical passion. \nImage courtesy of sirjobaltablues.com.
URL:https://www.mallorcasunshineradio.com/event/blues-night-jazz-lounge-15-nov/
LOCATION:Jazz Lounge Palma\, Carrer dels Apuntadors\, 5\, Centre\, Palma\, Illes Balears\, 07012\, Spain
CATEGORIES:Blues,Live Music
ATTACH;FMTTYPE=image/webp:https://www.mallorcasunshineradio.com/wp-content/uploads/Blues_Night_Jazz_Lounge_.webp
END:VEVENT
END:VCALENDAR