BEGIN:VCALENDAR
VERSION:2.0
PRODID:-//Mallorca Sunshine Radio - ECPv6.15.20//NONSGML v1.0//EN
CALSCALE:GREGORIAN
METHOD:PUBLISH
X-ORIGINAL-URL:https://www.mallorcasunshineradio.com
X-WR-CALDESC:Events for Mallorca Sunshine Radio
REFRESH-INTERVAL;VALUE=DURATION:PT1H
X-Robots-Tag:noindex
X-PUBLISHED-TTL:PT1H
BEGIN:VTIMEZONE
TZID:Europe/Madrid
BEGIN:DAYLIGHT
TZOFFSETFROM:+0100
TZOFFSETTO:+0200
TZNAME:CEST
DTSTART:20240331T010000
END:DAYLIGHT
BEGIN:STANDARD
TZOFFSETFROM:+0200
TZOFFSETTO:+0100
TZNAME:CET
DTSTART:20241027T010000
END:STANDARD
BEGIN:DAYLIGHT
TZOFFSETFROM:+0100
TZOFFSETTO:+0200
TZNAME:CEST
DTSTART:20250330T010000
END:DAYLIGHT
BEGIN:STANDARD
TZOFFSETFROM:+0200
TZOFFSETTO:+0100
TZNAME:CET
DTSTART:20251026T010000
END:STANDARD
BEGIN:DAYLIGHT
TZOFFSETFROM:+0100
TZOFFSETTO:+0200
TZNAME:CEST
DTSTART:20260329T010000
END:DAYLIGHT
BEGIN:STANDARD
TZOFFSETFROM:+0200
TZOFFSETTO:+0100
TZNAME:CET
DTSTART:20261025T010000
END:STANDARD
END:VTIMEZONE
BEGIN:VEVENT
DTSTART;TZID=Europe/Madrid:20251208T170000
DTEND;TZID=Europe/Madrid:20251208T170000
DTSTAMP:20260424T161720
CREATED:20251202T105240Z
LAST-MODIFIED:20251202T105240Z
UID:15739-1765213200-1765213200@www.mallorcasunshineradio.com
SUMMARY:Inselradio Christmas Market — Monday Programme
DESCRIPTION:Monday brings the final day of the Inselradio Christmas Market\, offering a warm and relaxed close to five festive days. The afternoon begins earlier than usual\, with children’s craft activities and a visit from Santa Claus. Families can also take part in decorating a gingerbread man with Katharina Posani. \nIn the early evening\, the Christmas story will be read in both German and Spanish — a calm and cosy moment before the last Mallorca Express Christmas tree raffle takes place at 7 p.m. \nThe decorated stalls remain open with mulled wine\, sweet pastries\, small gifts\, and comforting winter treats\, inviting visitors to enjoy one last stroll through the market. \n  \n\n\n\nMonday\, 08/12/2025\n\n\n16 – 18 h | Craft activities for children with Pidelaluna Events. \n17 – 19 h | Santa Claus \n17.45 h | Decorate a gingerbread man with Katharina Posani (cost €5 per child) \n18.30 h | Christmas story in German and Spanish \n19 h | Christmas tree raffle Mallorca Express by Santa Claus \n\n\n\n 
URL:https://www.mallorcasunshineradio.com/event/inselradio-christmas-market-monday-programme/
LOCATION:Das Inselradio\, Das Inselradio Mallorca. Carrer Federico García Lorca\, 2\, Ponent\, Palma\, Illes Balears\, 07014\, Spain
CATEGORIES:Caricatures,Christmas Market,Family,Reading
ATTACH;FMTTYPE=image/jpeg:https://www.mallorcasunshineradio.com/wp-content/uploads/IR-mn25-slide16-9_eng-1.jpg
END:VEVENT
BEGIN:VEVENT
DTSTART;TZID=Europe/Madrid:20251207T170000
DTEND;TZID=Europe/Madrid:20251207T170000
DTSTAMP:20260424T161720
CREATED:20251202T104724Z
LAST-MODIFIED:20251202T105508Z
UID:15737-1765126800-1765126800@www.mallorcasunshineradio.com
SUMMARY:Inselradio Christmas Market — Sunday Programme
DESCRIPTION:Sunday at the Inselradio Christmas Market offers a relaxed and family-friendly evening. Children can join the craft activities and visit Santa Claus\, while those who enjoy something creative can decorate a gingerbread man with Katharina Posani. \nThroughout the evening\, Bibi will be drawing live caricatures\, adding a fun personal touch to the market atmosphere. As every day\, the Mallorca Express Christmas tree raffle takes place at 7 p.m.\, followed by another Tardeo session with DJ Marcello to close the night with festive energy. \nAround the square\, the wooden stalls remain open with warm drinks\, pastries\, small gifts\, and plenty of cosy corners to enjoy a December night in Palma. \n  \n\n\n\nSunday\, 07/12/2025\n\n\n17 – 19 h | Craft activities for children with Pidelaluna Events. \n17 – 19 h | Santa Claus \n17.45 h | Decorate a gingerbread man with Katharina Posani (cost €5 per child) \n18 – 20 h | Bibi caricatures \n19 h | Christmas tree raffle Mallorca Express by Santa Claus \n19 – 21 h | Tardeo DJ Marcello \n\n\n\n 
URL:https://www.mallorcasunshineradio.com/event/inselradio-christmas-market-sunday-programme/
LOCATION:Das Inselradio\, Das Inselradio Mallorca. Carrer Federico García Lorca\, 2\, Ponent\, Palma\, Illes Balears\, 07014\, Spain
CATEGORIES:Caricatures,Christmas Market,Family,Live DJ
ATTACH;FMTTYPE=image/jpeg:https://www.mallorcasunshineradio.com/wp-content/uploads/IR-mn25-slide16-9_eng-1.jpg
END:VEVENT
BEGIN:VEVENT
DTSTART;TZID=Europe/Madrid:20251206T170000
DTEND;TZID=Europe/Madrid:20251206T170000
DTSTAMP:20260424T161720
CREATED:20251202T104506Z
LAST-MODIFIED:20251202T104506Z
UID:15734-1765040400-1765040400@www.mallorcasunshineradio.com
SUMMARY:Inselradio Christmas Market — Saturday Programme
DESCRIPTION:Saturday brings a lively afternoon and evening at the Inselradio Christmas Market\, with a mix of family-friendly activities and festive entertainment. Children can join the craft workshop and meet Santa Claus early in the evening\, followed by a playful show with Clown Yompo. \nAs the lights come on\, the atmosphere shifts with Hawaiian dance by Danzas Polinesias del Pacífico\, the daily Mallorca Express Christmas tree raffle\, and two parallel highlights: Bibi creating live caricatures and the popular Tardeo session with DJ Marcello. \nThroughout the market\, the wooden stalls offer warm drinks\, sweet and savoury treats\, handmade gifts\, and plenty of cosy corners to enjoy the evening. \n  \n\n\n\nSaturday\, 06/12/2025\n\n\n17 – 19 h | Craft activities for children with Pidelaluna Events. \n17 – 19 h | Santa Claus \n17.30 – 18.30 h | Clown Yompo \n18.30 h | Hawaiian dance with Danzas Polinesias del Pacífico \n19 h | Christmas tree raffle Mallorca Express by Santa Claus \n19 – 21 h | Bibi caricatures \n19 – 21 h | Tardeo DJ Marcello \n\n\n\n 
URL:https://www.mallorcasunshineradio.com/event/inselradio-christmas-market-saturday-programme/
LOCATION:Das Inselradio\, Das Inselradio Mallorca. Carrer Federico García Lorca\, 2\, Ponent\, Palma\, Illes Balears\, 07014\, Spain
CATEGORIES:Caricatures,Christmas Market,Dance,Family,Live DJ
ATTACH;FMTTYPE=image/jpeg:https://www.mallorcasunshineradio.com/wp-content/uploads/IR-mn25-slide16-9_eng-1.jpg
END:VEVENT
END:VCALENDAR