BEGIN:VCALENDAR
VERSION:2.0
PRODID:-//Mallorca Sunshine Radio - ECPv6.15.20//NONSGML v1.0//EN
CALSCALE:GREGORIAN
METHOD:PUBLISH
X-ORIGINAL-URL:https://www.mallorcasunshineradio.com
X-WR-CALDESC:Events for Mallorca Sunshine Radio
REFRESH-INTERVAL;VALUE=DURATION:PT1H
X-Robots-Tag:noindex
X-PUBLISHED-TTL:PT1H
BEGIN:VTIMEZONE
TZID:Europe/Madrid
BEGIN:DAYLIGHT
TZOFFSETFROM:+0100
TZOFFSETTO:+0200
TZNAME:CEST
DTSTART:20240331T010000
END:DAYLIGHT
BEGIN:STANDARD
TZOFFSETFROM:+0200
TZOFFSETTO:+0100
TZNAME:CET
DTSTART:20241027T010000
END:STANDARD
BEGIN:DAYLIGHT
TZOFFSETFROM:+0100
TZOFFSETTO:+0200
TZNAME:CEST
DTSTART:20250330T010000
END:DAYLIGHT
BEGIN:STANDARD
TZOFFSETFROM:+0200
TZOFFSETTO:+0100
TZNAME:CET
DTSTART:20251026T010000
END:STANDARD
BEGIN:DAYLIGHT
TZOFFSETFROM:+0100
TZOFFSETTO:+0200
TZNAME:CEST
DTSTART:20260329T010000
END:DAYLIGHT
BEGIN:STANDARD
TZOFFSETFROM:+0200
TZOFFSETTO:+0100
TZNAME:CET
DTSTART:20261025T010000
END:STANDARD
END:VTIMEZONE
BEGIN:VEVENT
DTSTART;TZID=Europe/Madrid:20251129T193000
DTEND;TZID=Europe/Madrid:20251129T193000
DTSTAMP:20260425T051257
CREATED:20251127T153741Z
LAST-MODIFIED:20251127T153741Z
UID:15504-1764444600-1764444600@www.mallorcasunshineradio.com
SUMMARY:Christmas Lights On with Aladdin at Porto Pi
DESCRIPTION:The Porto Pi shopping center will celebrate its traditional Christmas lighting ceremony on Saturday\, November 29\, an event that marks the start of the Christmas season in Palma. This year\, it will feature something very special: the musical Aladdin\, in collaboration with the Palma Auditorium.\n \n\nThe grand Aladdin show will begin at 7:30 p.m. and run until 8:05 p.m.\, offering a performance full of magic\, adventure\, and music that will delight young and old alike. \nAt 8:15 p.m.\, the Porto Pi Christmas tree will be lit\, a highly anticipated moment that symbolizes the official start of the holidays at the shopping center.
URL:https://www.mallorcasunshineradio.com/event/christmas-lighting-aladdin-porto-pi-2025/
LOCATION:PORTO PI\, Porto Pi Centro Comercial. Av. de Gabriel Roca\, 54\, Ponent\, Palma\, Islas Baleares\, 07015\, Spain
CATEGORIES:Christmas,Family,Live Show
ATTACH;FMTTYPE=image/jpeg:https://www.mallorcasunshineradio.com/wp-content/uploads/Imagen-encendido-de-navidad-Porto-Pi_upscaled.jpeg
END:VEVENT
END:VCALENDAR