BEGIN:VCALENDAR
VERSION:2.0
PRODID:-//Mallorca Sunshine Radio - ECPv6.15.20//NONSGML v1.0//EN
CALSCALE:GREGORIAN
METHOD:PUBLISH
X-WR-CALNAME:Mallorca Sunshine Radio
X-ORIGINAL-URL:https://www.mallorcasunshineradio.com
X-WR-CALDESC:Events for Mallorca Sunshine Radio
REFRESH-INTERVAL;VALUE=DURATION:PT1H
X-Robots-Tag:noindex
X-PUBLISHED-TTL:PT1H
BEGIN:VTIMEZONE
TZID:Europe/Madrid
BEGIN:DAYLIGHT
TZOFFSETFROM:+0100
TZOFFSETTO:+0200
TZNAME:CEST
DTSTART:20240331T010000
END:DAYLIGHT
BEGIN:STANDARD
TZOFFSETFROM:+0200
TZOFFSETTO:+0100
TZNAME:CET
DTSTART:20241027T010000
END:STANDARD
BEGIN:DAYLIGHT
TZOFFSETFROM:+0100
TZOFFSETTO:+0200
TZNAME:CEST
DTSTART:20250330T010000
END:DAYLIGHT
BEGIN:STANDARD
TZOFFSETFROM:+0200
TZOFFSETTO:+0100
TZNAME:CET
DTSTART:20251026T010000
END:STANDARD
BEGIN:DAYLIGHT
TZOFFSETFROM:+0100
TZOFFSETTO:+0200
TZNAME:CEST
DTSTART:20260329T010000
END:DAYLIGHT
BEGIN:STANDARD
TZOFFSETFROM:+0200
TZOFFSETTO:+0100
TZNAME:CET
DTSTART:20261025T010000
END:STANDARD
END:VTIMEZONE
BEGIN:VEVENT
DTSTART;TZID=Europe/Madrid:20251214T170000
DTEND;TZID=Europe/Madrid:20251214T170000
DTSTAMP:20260425T032649
CREATED:20251210T163434Z
LAST-MODIFIED:20251210T163518Z
UID:15883-1765731600-1765731600@www.mallorcasunshineradio.com
SUMMARY:Gospel Choir at the Artà Monastery
DESCRIPTION:The monastery in Artà hosts an early-evening gospel concert featuring the choir from Colònia de Sant Pere. \nVisitors are invited to enjoy festive songs\, join in traditional Christmas carols\, and stroll through the atmospheric Christmas market with mulled wine\, pastries\, and grilled treats. \nImage credit: Instagram / @convento_de_arta
URL:https://www.mallorcasunshineradio.com/event/gospel-choir-at-the-arta-monastery/
LOCATION:Santuari de Sant Salvador\, Santuari de Sant Salvador\, Artà\, Illes Balears\, 07570\, Spain
CATEGORIES:Christmas,Concert
ATTACH;FMTTYPE=image/webp:https://www.mallorcasunshineradio.com/wp-content/uploads/monastery_concerts_arta_instagram.webp
END:VEVENT
END:VCALENDAR