BEGIN:VCALENDAR
VERSION:2.0
PRODID:-//Mallorca Sunshine Radio - ECPv6.15.20//NONSGML v1.0//EN
CALSCALE:GREGORIAN
METHOD:PUBLISH
X-WR-CALNAME:Mallorca Sunshine Radio
X-ORIGINAL-URL:https://www.mallorcasunshineradio.com
X-WR-CALDESC:Events for Mallorca Sunshine Radio
REFRESH-INTERVAL;VALUE=DURATION:PT1H
X-Robots-Tag:noindex
X-PUBLISHED-TTL:PT1H
BEGIN:VTIMEZONE
TZID:Europe/Madrid
BEGIN:DAYLIGHT
TZOFFSETFROM:+0100
TZOFFSETTO:+0200
TZNAME:CEST
DTSTART:20240331T010000
END:DAYLIGHT
BEGIN:STANDARD
TZOFFSETFROM:+0200
TZOFFSETTO:+0100
TZNAME:CET
DTSTART:20241027T010000
END:STANDARD
BEGIN:DAYLIGHT
TZOFFSETFROM:+0100
TZOFFSETTO:+0200
TZNAME:CEST
DTSTART:20250330T010000
END:DAYLIGHT
BEGIN:STANDARD
TZOFFSETFROM:+0200
TZOFFSETTO:+0100
TZNAME:CET
DTSTART:20251026T010000
END:STANDARD
BEGIN:DAYLIGHT
TZOFFSETFROM:+0100
TZOFFSETTO:+0200
TZNAME:CEST
DTSTART:20260329T010000
END:DAYLIGHT
BEGIN:STANDARD
TZOFFSETFROM:+0200
TZOFFSETTO:+0100
TZNAME:CET
DTSTART:20261025T010000
END:STANDARD
END:VTIMEZONE
BEGIN:VEVENT
DTSTART;TZID=Europe/Madrid:20251226T100000
DTEND;TZID=Europe/Madrid:20251226T100000
DTSTAMP:20260425T032648
CREATED:20251223T100838Z
LAST-MODIFIED:20251223T100838Z
UID:16001-1766743200-1766743200@www.mallorcasunshineradio.com
SUMMARY:Christmas Brunch at Motorworld Mallorca
DESCRIPTION:At Motorworld Mallorca\, a Christmas breakfast brunch awaits with crispy duck breast\, oven-fresh pinsas\, scrambled eggs\, as well as other savoury and classic breakfast dishes. \nImage credit: mallorca.motorworld-inn.de
URL:https://www.mallorcasunshineradio.com/event/motorworld-mallorca-christmas-brunch/
LOCATION:Motorworld Mallorca\, Motorworld Mallorca. Camí Vell de Llucmajor\, 112\, Palma\, Balearic Islands\, 07007\, Spain
CATEGORIES:Brunch,Christmas,Food & Drink
ATTACH;FMTTYPE=image/webp:https://www.mallorcasunshineradio.com/wp-content/uploads/Christmas_Brunch.jpg.webp
END:VEVENT
END:VCALENDAR