BEGIN:VCALENDAR
VERSION:2.0
PRODID:-//Mallorca Sunshine Radio - ECPv6.15.20//NONSGML v1.0//EN
CALSCALE:GREGORIAN
METHOD:PUBLISH
X-ORIGINAL-URL:https://www.mallorcasunshineradio.com
X-WR-CALDESC:Events for Mallorca Sunshine Radio
REFRESH-INTERVAL;VALUE=DURATION:PT1H
X-Robots-Tag:noindex
X-PUBLISHED-TTL:PT1H
BEGIN:VTIMEZONE
TZID:Europe/Madrid
BEGIN:DAYLIGHT
TZOFFSETFROM:+0100
TZOFFSETTO:+0200
TZNAME:CEST
DTSTART:20250330T010000
END:DAYLIGHT
BEGIN:STANDARD
TZOFFSETFROM:+0200
TZOFFSETTO:+0100
TZNAME:CET
DTSTART:20251026T010000
END:STANDARD
BEGIN:DAYLIGHT
TZOFFSETFROM:+0100
TZOFFSETTO:+0200
TZNAME:CEST
DTSTART:20260329T010000
END:DAYLIGHT
BEGIN:STANDARD
TZOFFSETFROM:+0200
TZOFFSETTO:+0100
TZNAME:CET
DTSTART:20261025T010000
END:STANDARD
BEGIN:DAYLIGHT
TZOFFSETFROM:+0100
TZOFFSETTO:+0200
TZNAME:CEST
DTSTART:20270328T010000
END:DAYLIGHT
BEGIN:STANDARD
TZOFFSETFROM:+0200
TZOFFSETTO:+0100
TZNAME:CET
DTSTART:20271031T010000
END:STANDARD
END:VTIMEZONE
BEGIN:VEVENT
DTSTART;TZID=Europe/Madrid:20260221T190000
DTEND;TZID=Europe/Madrid:20260221T190000
DTSTAMP:20260424T230310
CREATED:20260219T135122Z
LAST-MODIFIED:20260219T135122Z
UID:16543-1771700400-1771700400@www.mallorcasunshineradio.com
SUMMARY:Rafael González Paz – Charity Concert at Castillo Hotel Son Vida
DESCRIPTION:A charity concert will take place at the iconic Castillo Hotel Son Vida in Palma. \nPianist Rafael González Paz\, known for his distinguished international career in Europe and America and recognised for his refined\, expressive and profound interpretation\, will present a programme for classical music lovers. The repertoire includes works by Antonio Soler\, George Gershwin\, Wolfgang Amadeus Mozart and Johannes Brahms. \nAll proceeds from the evening will be donated to Fundación Sant Joan de Déu\, supporting healthcare and social care projects. \nImage credit: Instagram/ @rafaelgonzalezpaz 
URL:https://www.mallorcasunshineradio.com/event/rafael-gonzalez-paz-charity-concert-son-vida/
LOCATION:Castillo Hotel Son Vida\, Carrer Raixa\, 2\, Urbanizacion\, Poniente\, Son Vida\, Illes Balears\, 07013\, Spain
CATEGORIES:Classical,Music
ATTACH;FMTTYPE=image/jpeg:https://www.mallorcasunshineradio.com/wp-content/uploads/Charity_piano_Concert.jpg
END:VEVENT
END:VCALENDAR