BEGIN:VCALENDAR
VERSION:2.0
PRODID:-//Mallorca Sunshine Radio - ECPv6.15.20//NONSGML v1.0//EN
CALSCALE:GREGORIAN
METHOD:PUBLISH
X-ORIGINAL-URL:https://www.mallorcasunshineradio.com
X-WR-CALDESC:Events for Mallorca Sunshine Radio
REFRESH-INTERVAL;VALUE=DURATION:PT1H
X-Robots-Tag:noindex
X-PUBLISHED-TTL:PT1H
BEGIN:VTIMEZONE
TZID:Europe/Madrid
BEGIN:DAYLIGHT
TZOFFSETFROM:+0100
TZOFFSETTO:+0200
TZNAME:CEST
DTSTART:20240331T010000
END:DAYLIGHT
BEGIN:STANDARD
TZOFFSETFROM:+0200
TZOFFSETTO:+0100
TZNAME:CET
DTSTART:20241027T010000
END:STANDARD
BEGIN:DAYLIGHT
TZOFFSETFROM:+0100
TZOFFSETTO:+0200
TZNAME:CEST
DTSTART:20250330T010000
END:DAYLIGHT
BEGIN:STANDARD
TZOFFSETFROM:+0200
TZOFFSETTO:+0100
TZNAME:CET
DTSTART:20251026T010000
END:STANDARD
BEGIN:DAYLIGHT
TZOFFSETFROM:+0100
TZOFFSETTO:+0200
TZNAME:CEST
DTSTART:20260329T010000
END:DAYLIGHT
BEGIN:STANDARD
TZOFFSETFROM:+0200
TZOFFSETTO:+0100
TZNAME:CET
DTSTART:20261025T010000
END:STANDARD
BEGIN:DAYLIGHT
TZOFFSETFROM:+0100
TZOFFSETTO:+0200
TZNAME:CEST
DTSTART:20270328T010000
END:DAYLIGHT
BEGIN:STANDARD
TZOFFSETFROM:+0200
TZOFFSETTO:+0100
TZNAME:CET
DTSTART:20271031T010000
END:STANDARD
END:VTIMEZONE
BEGIN:VEVENT
DTSTART;TZID=Europe/Madrid:20260221T170000
DTEND;TZID=Europe/Madrid:20260221T170000
DTSTAMP:20260424T161921
CREATED:20260219T135135Z
LAST-MODIFIED:20260219T135135Z
UID:16540-1771693200-1771693200@www.mallorcasunshineradio.com
SUMMARY:Eats Everything at Pueblo Español – Carnival After-Party
DESCRIPTION:Carnival continues in Palma with a special after-party at Pueblo Español. \nHeadlining the night is English DJ Eats Everything\, who has been awarded ‘Best British DJ’ by DJ Magazine. He leads a line-up dedicated to house and techno in one of Palma’s well-known event venues. \nThe party takes place at Pueblo Español\, located at Carrer del Poble Espanyol 55 in Palma. \nImage credit:  Instagram/ @yugenofficial__
URL:https://www.mallorcasunshineradio.com/event/eats-everything-pueblo-espanol-palma/
LOCATION:Palma\, Pueblo español\, Pueblo Español\, 55\, Palma\, Balearic Islands\, 07014\, Spain
CATEGORIES:Club Night,House,Music,Techno
ATTACH;FMTTYPE=image/webp:https://www.mallorcasunshineradio.com/wp-content/uploads/eats_everything.webp
END:VEVENT
BEGIN:VEVENT
DTSTART;TZID=Europe/Madrid:20260213T190000
DTEND;TZID=Europe/Madrid:20260213T190000
DTSTAMP:20260424T161921
CREATED:20260208T231103Z
LAST-MODIFIED:20260208T231103Z
UID:16410-1771009200-1771009200@www.mallorcasunshineradio.com
SUMMARY:Carnival Party at Amok Club in Palma
DESCRIPTION:A carnival party takes place at Amok Club in Palma. Provocative and deliberately unfiltered\, the Amok Club celebrates a bold and uncensored carnival night with house and pop music. \nImage credit: amokmallorca.com
URL:https://www.mallorcasunshineradio.com/event/carnival-party-amok-club-palma/
LOCATION:AMOK Club\, AMØK Club | Discoteca en Mallorca. C. de\, Km 10\, Levante\, S'Aranjassa\, Illes Balears\, 07199\, Spain
CATEGORIES:Carnival,Club Night,House,Music,Pop
ATTACH;FMTTYPE=image/webp:https://www.mallorcasunshineradio.com/wp-content/uploads/amok_karneval.webp
END:VEVENT
BEGIN:VEVENT
DTSTART;TZID=Europe/Madrid:20260103T170000
DTEND;TZID=Europe/Madrid:20260103T170000
DTSTAMP:20260424T161921
CREATED:20260102T164740Z
LAST-MODIFIED:20260102T164753Z
UID:16078-1767459600-1767459600@www.mallorcasunshineradio.com
SUMMARY:Techno Flamenco @ AMOK
DESCRIPTION:Techno meets Flamenco – he oficial party del Género Techno Flamenco by Marsal Ventura.
URL:https://www.mallorcasunshineradio.com/event/techno-flamenco-amok/
LOCATION:AMOK Club\, AMØK Club | Discoteca en Mallorca. C. de\, Km 10\, Levante\, S'Aranjassa\, Illes Balears\, 07199\, Spain
CATEGORIES:Club Night,Concert,Dance,Flamenco,Techno
ATTACH;FMTTYPE=image/webp:https://www.mallorcasunshineradio.com/wp-content/uploads/Techno_Flamenco.webp
END:VEVENT
BEGIN:VEVENT
DTSTART;TZID=Europe/Madrid:20260101T001500
DTEND;TZID=Europe/Madrid:20260101T060000
DTSTAMP:20260424T161921
CREATED:20251229T000433Z
LAST-MODIFIED:20251229T133328Z
UID:16043-1767226500-1767247200@www.mallorcasunshineradio.com
SUMMARY:New Year’s Eve Party at Motorworld Mallorca
DESCRIPTION:Here you can dance on two floors\, depending on your mood: Reggaeton on one\, and Techno and House on the other. One drink is already included in the price. The night gets underway at 12:15 AM. \nImage credit: Garashofc / Instagram
URL:https://www.mallorcasunshineradio.com/event/new-years-eve-party-motorworld-mallorca-2025/
LOCATION:Motorworld Mallorca\, Motorworld Mallorca. Camí Vell de Llucmajor\, 112\, Palma\, Balearic Islands\, 07007\, Spain
CATEGORIES:Club Night,House,Music
ATTACH;FMTTYPE=image/jpeg:https://www.mallorcasunshineradio.com/wp-content/uploads/vigilia_garash_motorworld.jpg
END:VEVENT
BEGIN:VEVENT
DTSTART;TZID=Europe/Madrid:20251220T235500
DTEND;TZID=Europe/Madrid:20251220T235500
DTSTAMP:20260424T161921
CREATED:20251218T230825Z
LAST-MODIFIED:20251218T230825Z
UID:15957-1766274900-1766274900@www.mallorcasunshineradio.com
SUMMARY:Wally López at AMOK Club
DESCRIPTION:Wally López will be playing at AMOK Club. He is a well-known figure in the electronic music scene with appearances at international clubs. AMOK is located in Palma’s industrial area of Son Oms. \nImage credit: amokmallorca.com
URL:https://www.mallorcasunshineradio.com/event/wally-lopez-amok-club/
LOCATION:AMOK Club\, AMØK Club | Discoteca en Mallorca. C. de\, Km 10\, Levante\, S'Aranjassa\, Illes Balears\, 07199\, Spain
CATEGORIES:Club Night,electronic,House,Music
ATTACH;FMTTYPE=image/webp:https://www.mallorcasunshineradio.com/wp-content/uploads/Wally_Lopez_AMOK.jpg.webp
END:VEVENT
BEGIN:VEVENT
DTSTART;TZID=Europe/Madrid:20251219T210000
DTEND;TZID=Europe/Madrid:20251219T210000
DTSTAMP:20260424T161921
CREATED:20251218T224618Z
LAST-MODIFIED:20251218T224618Z
UID:15935-1766178000-1766178000@www.mallorcasunshineradio.com
SUMMARY:Aclub Opening Night at Playa de Palma
DESCRIPTION:Aclub is opening for the first time at Playa de Palma. The new club celebrates its opening with music by DJ Pippi\, Pere Navarro and Niko Bellotto. \nThe opening night also includes a gourmet finger food selection. \nImage credit: aubamar.com
URL:https://www.mallorcasunshineradio.com/event/aclub-opening-playa-de-palma/
LOCATION:Aclub\, Aclub. Calle Misión de San Diego\, 17\, Platja de Palma i Pla de Sant Jordi\, Plama\, Illes Balears\, 07600\, Spain
CATEGORIES:Club Night,Music
ATTACH;FMTTYPE=image/webp:https://www.mallorcasunshineradio.com/wp-content/uploads/Aubarmer_Hotel_Eroeffnung.jpg.webp
END:VEVENT
BEGIN:VEVENT
DTSTART;TZID=Europe/Madrid:20251206T235500
DTEND;TZID=Europe/Madrid:20251206T235500
DTSTAMP:20260424T161921
CREATED:20251204T173725Z
LAST-MODIFIED:20251204T173852Z
UID:15759-1765065300-1765065300@www.mallorcasunshineradio.com
SUMMARY:La Salvaje: Night of Techno at Wave Club
DESCRIPTION:La Salvaje returns to Wave Club for a full night of techno and house\, led by guest DJ Esther Bronchal and a strong line-up of resident artists including Olivia Bass\, Vanesa Fernández\, Domenic D’Agnelli and Carlos Martínez. \nExpect a late-night session with driving rhythms and the club’s signature electric atmosphere. \nCredit: Instagram / @lasalvaje.events
URL:https://www.mallorcasunshineradio.com/event/la-salvaje-wave-club-december-2025/
LOCATION:Wave Club\, Wave Club. Carrer Poima\, 24\, A\, Palma\, Illes Balears\, 07011\, Spain
CATEGORIES:Club Night,House,Nightlife,Techno
ATTACH;FMTTYPE=image/webp:https://www.mallorcasunshineradio.com/wp-content/uploads/Wave_Club_0612.jpg.webp
END:VEVENT
BEGIN:VEVENT
DTSTART;TZID=Europe/Madrid:20251121T235500
DTEND;TZID=Europe/Madrid:20251121T235500
DTSTAMP:20260424T161921
CREATED:20251119T221932Z
LAST-MODIFIED:20251119T221932Z
UID:15400-1763769300-1763769300@www.mallorcasunshineradio.com
SUMMARY:American DJs at Selva Club — Calussa
DESCRIPTION:Celebrate a night of House and Electro at Selva Club in Palma\, with the DJ duo Calussa visiting from the United States. Expect energetic beats and a full club atmosphere throughout the night. \nImage credit: selvaclub.com
URL:https://www.mallorcasunshineradio.com/event/calussa-selva-club-palma-2/
LOCATION:Selva Club\, Selva Club. Gremi des Fusters\, 44\, Nord\, Palma\, Illes Balears\, 07009\, Spain
CATEGORIES:Club Night,House
ATTACH;FMTTYPE=image/webp:https://www.mallorcasunshineradio.com/wp-content/uploads/Selva_Club_Calussa.webp
END:VEVENT
END:VCALENDAR