BEGIN:VCALENDAR
VERSION:2.0
PRODID:-//Mallorca Sunshine Radio - ECPv6.15.20//NONSGML v1.0//EN
CALSCALE:GREGORIAN
METHOD:PUBLISH
X-WR-CALNAME:Mallorca Sunshine Radio
X-ORIGINAL-URL:https://www.mallorcasunshineradio.com
X-WR-CALDESC:Events for Mallorca Sunshine Radio
REFRESH-INTERVAL;VALUE=DURATION:PT1H
X-Robots-Tag:noindex
X-PUBLISHED-TTL:PT1H
BEGIN:VTIMEZONE
TZID:Europe/Madrid
BEGIN:DAYLIGHT
TZOFFSETFROM:+0100
TZOFFSETTO:+0200
TZNAME:CEST
DTSTART:20240331T010000
END:DAYLIGHT
BEGIN:STANDARD
TZOFFSETFROM:+0200
TZOFFSETTO:+0100
TZNAME:CET
DTSTART:20241027T010000
END:STANDARD
BEGIN:DAYLIGHT
TZOFFSETFROM:+0100
TZOFFSETTO:+0200
TZNAME:CEST
DTSTART:20250330T010000
END:DAYLIGHT
BEGIN:STANDARD
TZOFFSETFROM:+0200
TZOFFSETTO:+0100
TZNAME:CET
DTSTART:20251026T010000
END:STANDARD
BEGIN:DAYLIGHT
TZOFFSETFROM:+0100
TZOFFSETTO:+0200
TZNAME:CEST
DTSTART:20260329T010000
END:DAYLIGHT
BEGIN:STANDARD
TZOFFSETFROM:+0200
TZOFFSETTO:+0100
TZNAME:CET
DTSTART:20261025T010000
END:STANDARD
END:VTIMEZONE
BEGIN:VEVENT
DTSTART;TZID=Europe/Madrid:20251208T103000
DTEND;TZID=Europe/Madrid:20251208T203000
DTSTAMP:20260425T030735
CREATED:20251204T172643Z
LAST-MODIFIED:20251204T174018Z
UID:15757-1765189800-1765225800@www.mallorcasunshineradio.com
SUMMARY:Rata Market Christmas Edition at the Congress Palace
DESCRIPTION:The Rata Market Christmas edition returns to Palma with more than 70 stalls offering handmade goods — from ceramics and jewellery to soaps\, clothing\, and small design pieces. \nAcross three days\, visitors can enjoy food trucks\, music\, and activities for children in a relaxed and festive atmosphere inside the Palau de Congressos. \nImage: Rata Market / Facebook
URL:https://www.mallorcasunshineradio.com/event/rata-market-christmas-edition-at-the-congress-palace/
LOCATION:Palau de Congresses\, Palma\, Carrer de Felicià Fuster\, 2\, Llevant\, Palma\, Illes Balears\, 07006\, Spain
CATEGORIES:Crafts,Family,Markets
ATTACH;FMTTYPE=image/webp:https://www.mallorcasunshineradio.com/wp-content/uploads/RataMarketKongresspalast2025_Facebook_RataMarket.jpg.webp
END:VEVENT
END:VCALENDAR