BEGIN:VCALENDAR
VERSION:2.0
PRODID:-//Mallorca Sunshine Radio - ECPv6.15.20//NONSGML v1.0//EN
CALSCALE:GREGORIAN
METHOD:PUBLISH
X-ORIGINAL-URL:https://www.mallorcasunshineradio.com
X-WR-CALDESC:Events for Mallorca Sunshine Radio
REFRESH-INTERVAL;VALUE=DURATION:PT1H
X-Robots-Tag:noindex
X-PUBLISHED-TTL:PT1H
BEGIN:VTIMEZONE
TZID:Europe/Madrid
BEGIN:DAYLIGHT
TZOFFSETFROM:+0100
TZOFFSETTO:+0200
TZNAME:CEST
DTSTART:20240331T010000
END:DAYLIGHT
BEGIN:STANDARD
TZOFFSETFROM:+0200
TZOFFSETTO:+0100
TZNAME:CET
DTSTART:20241027T010000
END:STANDARD
BEGIN:DAYLIGHT
TZOFFSETFROM:+0100
TZOFFSETTO:+0200
TZNAME:CEST
DTSTART:20250330T010000
END:DAYLIGHT
BEGIN:STANDARD
TZOFFSETFROM:+0200
TZOFFSETTO:+0100
TZNAME:CET
DTSTART:20251026T010000
END:STANDARD
BEGIN:DAYLIGHT
TZOFFSETFROM:+0100
TZOFFSETTO:+0200
TZNAME:CEST
DTSTART:20260329T010000
END:DAYLIGHT
BEGIN:STANDARD
TZOFFSETFROM:+0200
TZOFFSETTO:+0100
TZNAME:CET
DTSTART:20261025T010000
END:STANDARD
BEGIN:DAYLIGHT
TZOFFSETFROM:+0100
TZOFFSETTO:+0200
TZNAME:CEST
DTSTART:20270328T010000
END:DAYLIGHT
BEGIN:STANDARD
TZOFFSETFROM:+0200
TZOFFSETTO:+0100
TZNAME:CET
DTSTART:20271031T010000
END:STANDARD
END:VTIMEZONE
BEGIN:VEVENT
DTSTART;TZID=Europe/Madrid:20260315T100000
DTEND;TZID=Europe/Madrid:20260315T100000
DTSTAMP:20260424T183942
CREATED:20260312T180745Z
LAST-MODIFIED:20260312T180745Z
UID:16847-1773568800-1773568800@www.mallorcasunshineradio.com
SUMMARY:Fira del Fang Pottery Fair in Marratxí
DESCRIPTION:Colourful bowls\, cups and flower vases: at the pottery fair Fira del Fang in Marratxí\, visitors have the chance to discover traditional craftsmanship and colourful ceramics. \n 
URL:https://www.mallorcasunshineradio.com/event/fira-del-fang-pottery-fair-marratxi/
LOCATION:Església de Sant Marçal\, Església de Sant Marçal. Carrer Pedro de Veri\, Sa Cabaneta\, Illes Balears\, 07141\, Spain
CATEGORIES:Crafts,Culture,Markets
ATTACH;FMTTYPE=image/webp:https://www.mallorcasunshineradio.com/wp-content/uploads/Fira_del_Fang_2024.webp
END:VEVENT
BEGIN:VEVENT
DTSTART;TZID=Europe/Madrid:20251213T100000
DTEND;TZID=Europe/Madrid:20251213T100000
DTSTAMP:20260424T183942
CREATED:20251210T124725Z
LAST-MODIFIED:20251210T124725Z
UID:15838-1765620000-1765620000@www.mallorcasunshineradio.com
SUMMARY:Soulful Christmas Market at Soulosofie Interiors
DESCRIPTION:Soulosofie Interiors in Can Valero hosts its Soulful Christmas Market\, a cosy holiday event featuring handmade gifts by local artisans\, festive workshops\, decoration ideas\, and a relaxed atmosphere with food and drinks. \nImage Credit: Soulosofie Interiors
URL:https://www.mallorcasunshineradio.com/event/soulful-christmas-market-soulosofie-palma-2025-2/
LOCATION:Soulosofie Interiors\, Soulosofie Interiors. Carrer Poima\, 33\, A\, Ponent\, Palma\, Illes Balears\, 07011\, Spain
CATEGORIES:Christmas Market,Crafts,Family
ATTACH;FMTTYPE=image/webp:https://www.mallorcasunshineradio.com/wp-content/uploads/Soulful_Weihnachtsmarkt.png.webp
END:VEVENT
BEGIN:VEVENT
DTSTART;TZID=Europe/Madrid:20251212T110000
DTEND;TZID=Europe/Madrid:20251212T110000
DTSTAMP:20260424T183942
CREATED:20251210T123607Z
LAST-MODIFIED:20251210T123607Z
UID:15821-1765537200-1765537200@www.mallorcasunshineradio.com
SUMMARY:Soulful Christmas Market at Soulosofie Interiors
DESCRIPTION:Soulosofie Interiors in Can Valero hosts its Soulful Christmas Market\, a cosy holiday event featuring handmade gifts by local artisans\, festive workshops\, decoration ideas\, and a relaxed atmosphere with food and drinks. \nImage Credit: Soulosofie Interiors
URL:https://www.mallorcasunshineradio.com/event/soulful-christmas-market-soulosofie-palma-2025/
LOCATION:Soulosofie Interiors\, Soulosofie Interiors. Carrer Poima\, 33\, A\, Ponent\, Palma\, Illes Balears\, 07011\, Spain
CATEGORIES:Christmas Market,Crafts,Family
ATTACH;FMTTYPE=image/webp:https://www.mallorcasunshineradio.com/wp-content/uploads/Soulful_Weihnachtsmarkt.png.webp
END:VEVENT
BEGIN:VEVENT
DTSTART;TZID=Europe/Madrid:20251208T103000
DTEND;TZID=Europe/Madrid:20251208T203000
DTSTAMP:20260424T183942
CREATED:20251204T172643Z
LAST-MODIFIED:20251204T174018Z
UID:15757-1765189800-1765225800@www.mallorcasunshineradio.com
SUMMARY:Rata Market Christmas Edition at the Congress Palace
DESCRIPTION:The Rata Market Christmas edition returns to Palma with more than 70 stalls offering handmade goods — from ceramics and jewellery to soaps\, clothing\, and small design pieces. \nAcross three days\, visitors can enjoy food trucks\, music\, and activities for children in a relaxed and festive atmosphere inside the Palau de Congressos. \nImage: Rata Market / Facebook
URL:https://www.mallorcasunshineradio.com/event/rata-market-christmas-edition-at-the-congress-palace/
LOCATION:Palau de Congresses\, Palma\, Carrer de Felicià Fuster\, 2\, Llevant\, Palma\, Illes Balears\, 07006\, Spain
CATEGORIES:Crafts,Family,Markets
ATTACH;FMTTYPE=image/webp:https://www.mallorcasunshineradio.com/wp-content/uploads/RataMarketKongresspalast2025_Facebook_RataMarket.jpg.webp
END:VEVENT
BEGIN:VEVENT
DTSTART;TZID=Europe/Madrid:20251207T103000
DTEND;TZID=Europe/Madrid:20251207T203000
DTSTAMP:20260424T183942
CREATED:20251204T172535Z
LAST-MODIFIED:20251204T174003Z
UID:15755-1765103400-1765139400@www.mallorcasunshineradio.com
SUMMARY:Rata Market Christmas Edition at the Congress Palace
DESCRIPTION:The Rata Market Christmas edition returns to Palma with more than 70 stalls offering handmade goods — from ceramics and jewellery to soaps\, clothing\, and small design pieces. \nAcross three days\, visitors can enjoy food trucks\, music\, and activities for children in a relaxed and festive atmosphere inside the Palau de Congressos. \nImage: Rata Market / Facebook
URL:https://www.mallorcasunshineradio.com/event/rata-market-christmas-edition-at-the-congress-palace-2/
LOCATION:Palau de Congresses\, Palma\, Carrer de Felicià Fuster\, 2\, Llevant\, Palma\, Illes Balears\, 07006\, Spain
CATEGORIES:Crafts,Family,Markets
ATTACH;FMTTYPE=image/webp:https://www.mallorcasunshineradio.com/wp-content/uploads/RataMarketKongresspalast2025_Facebook_RataMarket.jpg.webp
END:VEVENT
BEGIN:VEVENT
DTSTART;TZID=Europe/Madrid:20251206T103000
DTEND;TZID=Europe/Madrid:20251206T203000
DTSTAMP:20260424T183942
CREATED:20251204T172451Z
LAST-MODIFIED:20251204T173939Z
UID:15752-1765017000-1765053000@www.mallorcasunshineradio.com
SUMMARY:Rata Market Christmas Edition at the Congress Palace
DESCRIPTION:The Rata Market Christmas edition returns to Palma with more than 70 stalls offering handmade goods — from ceramics and jewellery to soaps\, clothing\, and small design pieces. \nAcross three days\, visitors can enjoy food trucks\, music\, and activities for children in a relaxed and festive atmosphere inside the Palau de Congressos. \nImage: Rata Market / Facebook
URL:https://www.mallorcasunshineradio.com/event/rata-market-christmas-palma-2025/
LOCATION:Palau de Congresses\, Palma\, Carrer de Felicià Fuster\, 2\, Llevant\, Palma\, Illes Balears\, 07006\, Spain
CATEGORIES:Crafts,Family,Markets
ATTACH;FMTTYPE=image/webp:https://www.mallorcasunshineradio.com/wp-content/uploads/RataMarketKongresspalast2025_Facebook_RataMarket.jpg.webp
END:VEVENT
END:VCALENDAR