BEGIN:VCALENDAR
VERSION:2.0
PRODID:-//Mallorca Sunshine Radio - ECPv6.15.20//NONSGML v1.0//EN
CALSCALE:GREGORIAN
METHOD:PUBLISH
X-WR-CALNAME:Mallorca Sunshine Radio
X-ORIGINAL-URL:https://www.mallorcasunshineradio.com
X-WR-CALDESC:Events for Mallorca Sunshine Radio
REFRESH-INTERVAL;VALUE=DURATION:PT1H
X-Robots-Tag:noindex
X-PUBLISHED-TTL:PT1H
BEGIN:VTIMEZONE
TZID:Europe/Madrid
BEGIN:DAYLIGHT
TZOFFSETFROM:+0100
TZOFFSETTO:+0200
TZNAME:CEST
DTSTART:20240331T010000
END:DAYLIGHT
BEGIN:STANDARD
TZOFFSETFROM:+0200
TZOFFSETTO:+0100
TZNAME:CET
DTSTART:20241027T010000
END:STANDARD
BEGIN:DAYLIGHT
TZOFFSETFROM:+0100
TZOFFSETTO:+0200
TZNAME:CEST
DTSTART:20250330T010000
END:DAYLIGHT
BEGIN:STANDARD
TZOFFSETFROM:+0200
TZOFFSETTO:+0100
TZNAME:CET
DTSTART:20251026T010000
END:STANDARD
BEGIN:DAYLIGHT
TZOFFSETFROM:+0100
TZOFFSETTO:+0200
TZNAME:CEST
DTSTART:20260329T010000
END:DAYLIGHT
BEGIN:STANDARD
TZOFFSETFROM:+0200
TZOFFSETTO:+0100
TZNAME:CET
DTSTART:20261025T010000
END:STANDARD
END:VTIMEZONE
BEGIN:VEVENT
DTSTART;TZID=Europe/Madrid:20251115T220000
DTEND;TZID=Europe/Madrid:20251115T220000
DTSTAMP:20260425T030638
CREATED:20251114T120112Z
LAST-MODIFIED:20251114T120112Z
UID:15314-1763244000-1763244000@www.mallorcasunshineradio.com
SUMMARY:25 Years of Moon Harbour at Wave Club
DESCRIPTION:Celebrate the 25th anniversary of the iconic electronic label Moon Harbour at Wave Club. \nLabel founder Matthias Tanzmann\, well known from Ibiza’s club scene\, will be joined by Mathias Kaden and other DJs for a night of pure electronic energy. \nImage courtesy of Instagram / @matthiastanzmann.
URL:https://www.mallorcasunshineradio.com/event/25-years-moon-harbour-wave-club-15-nov/
LOCATION:Wave Club\, Wave Club. Carrer Poima\, 24\, A\, Palma\, Illes Balears\, 07011\, Spain
CATEGORIES:DJ,electronic,Nightlife
ATTACH;FMTTYPE=image/webp:https://www.mallorcasunshineradio.com/wp-content/uploads/Matthias_Tanzmann_.webp
END:VEVENT
END:VCALENDAR