BEGIN:VCALENDAR
VERSION:2.0
PRODID:-//Mallorca Sunshine Radio - ECPv6.15.20//NONSGML v1.0//EN
CALSCALE:GREGORIAN
METHOD:PUBLISH
X-WR-CALNAME:Mallorca Sunshine Radio
X-ORIGINAL-URL:https://www.mallorcasunshineradio.com
X-WR-CALDESC:Events for Mallorca Sunshine Radio
REFRESH-INTERVAL;VALUE=DURATION:PT1H
X-Robots-Tag:noindex
X-PUBLISHED-TTL:PT1H
BEGIN:VTIMEZONE
TZID:Europe/Madrid
BEGIN:DAYLIGHT
TZOFFSETFROM:+0100
TZOFFSETTO:+0200
TZNAME:CEST
DTSTART:20250330T010000
END:DAYLIGHT
BEGIN:STANDARD
TZOFFSETFROM:+0200
TZOFFSETTO:+0100
TZNAME:CET
DTSTART:20251026T010000
END:STANDARD
BEGIN:DAYLIGHT
TZOFFSETFROM:+0100
TZOFFSETTO:+0200
TZNAME:CEST
DTSTART:20260329T010000
END:DAYLIGHT
BEGIN:STANDARD
TZOFFSETFROM:+0200
TZOFFSETTO:+0100
TZNAME:CET
DTSTART:20261025T010000
END:STANDARD
BEGIN:DAYLIGHT
TZOFFSETFROM:+0100
TZOFFSETTO:+0200
TZNAME:CEST
DTSTART:20270328T010000
END:DAYLIGHT
BEGIN:STANDARD
TZOFFSETFROM:+0200
TZOFFSETTO:+0100
TZNAME:CET
DTSTART:20271031T010000
END:STANDARD
END:VTIMEZONE
BEGIN:VEVENT
DTSTART;TZID=Europe/Madrid:20260502T150000
DTEND;TZID=Europe/Madrid:20260502T150000
DTSTAMP:20260425T174410
CREATED:20260419T112910Z
LAST-MODIFIED:20260419T112915Z
UID:17303-1777734000-1777734000@www.mallorcasunshineradio.com
SUMMARY:Bresh Party @ Es Gremi
DESCRIPTION:Mallorca Live presents Bresh at Es Gremi\nFor the first time\, Es Gremi welcomes Bresh\, the most beautiful party in the world. A phenomenon born in Argentina that has redefined how urban and pop music is experienced on the dance floor. \nThanks to Mallorca Live\, Sala 1 and Sala 3 will host this collective celebration that has conquered cities around the world with its open\, euphoric\, and profoundly contemporary sound. \nBresh is much more than a DJ set: it’s an experience that blends reggaeton\, global pop\, timeless hits\, and club culture in an inclusive and festive atmosphere where every song becomes a shared moment. A party designed for singing\, dancing\, and letting yourself be carried away by an energy that connects generations and styles. \nA special night that marks the beginning of a new chapter in our programming and on the Es Gremi dance floor. \nCome and experience it live! \n 
URL:https://www.mallorcasunshineradio.com/event/bresh-party-es-gremi/
LOCATION:Es Gremi\, Es Gremi. Gremi de Porgadors\, 16\, Palma\, Balearic Islands\, 07009\, Spain
CATEGORIES:Club Night,Dance,DJ
ATTACH;FMTTYPE=image/jpeg:https://www.mallorcasunshineradio.com/wp-content/uploads/01_Web_Banner_Bresh.jpg
END:VEVENT
BEGIN:VEVENT
DTSTART;VALUE=DATE:20260612
DTEND;VALUE=DATE:20260612
DTSTAMP:20260425T174410
CREATED:20260223T165056Z
LAST-MODIFIED:20260223T165953Z
UID:16611-1781229600-1781308799@www.mallorcasunshineradio.com
SUMMARY:Mallorca Live Festival 2026 — Friday Line-up
DESCRIPTION:Mallorca Live Festival 2026 opens its main weekend programme on Friday\, June 12 in La Porrassa\, Calvià. \nThe night is led by The Prodigy\, joined by Viva Suecia\, Dani Fernández and The Libertines. \nOn the La Plaza Electronic Stage\, Luciano heads the electronic line-up\, setting the tone for a full evening across the festival grounds. \nA strong start to one of Mallorca’s biggest music weekends. \nImage credit: https://mallorcalivefestival.com/
URL:https://www.mallorcasunshineradio.com/event/mallorca-live-festival-2026-friday-line-up/
LOCATION:Mallorca Live Festival\, Mallorca Live Festival. Camí Cala Figuera\, 1\, Calviá\, Illes Balears\, 07181\, Spain
CATEGORIES:DJ,electronic,Indie,Live Music,Pop,Rock
ATTACH;FMTTYPE=image/png:https://www.mallorcasunshineradio.com/wp-content/uploads/MLF_26.png
END:VEVENT
BEGIN:VEVENT
DTSTART;VALUE=DATE:20260613
DTEND;VALUE=DATE:20260613
DTSTAMP:20260425T174410
CREATED:20260223T165048Z
LAST-MODIFIED:20260223T170010Z
UID:16620-1781316000-1781395199@www.mallorcasunshineradio.com
SUMMARY:Mallorca Live Festival 2026 — Saturday Highlights
DESCRIPTION:Mallorca Live Festival continues on Saturday\, June 13 with another major line-up in La Porrassa. \nCypress Hill headline the evening\, alongside Aitana and Kaiser Chiefs\, bringing together hip-hop\, pop and British indie rock on the main stage. \nIn the electronic arena\, Adriatique leads the La Plaza Electronic Stage with a night focused on melodic and underground sounds. \nA varied Saturday programme and one of the central nights of the festival weekend. \nHome
URL:https://www.mallorcasunshineradio.com/event/mallorca-live-festival-2026-june-13-highlights/
LOCATION:Mallorca Live Festival\, Mallorca Live Festival. Camí Cala Figuera\, 1\, Calviá\, Illes Balears\, 07181\, Spain
CATEGORIES:DJ,electronic,Indie,Live Music,Pop,Rock
ATTACH;FMTTYPE=image/png:https://www.mallorcasunshineradio.com/wp-content/uploads/MLF_26.png
END:VEVENT
BEGIN:VEVENT
DTSTART;TZID=Europe/Madrid:20260614T180000
DTEND;TZID=Europe/Madrid:20260614T180000
DTSTAMP:20260425T174410
CREATED:20260315T223311Z
LAST-MODIFIED:20260315T223311Z
UID:16878-1781460000-1781460000@www.mallorcasunshineradio.com
SUMMARY:David Guetta at Mallorca Live Festival 2026
DESCRIPTION:At the Mallorca Live Festival\, superstar David Guetta takes on the headliner role. He will also play the big closing party\, marking the final\, spectacular point of the festival weekend. \nImage credit: Instagram / @mallorcalivefes
URL:https://www.mallorcasunshineradio.com/event/david-guetta-mallorca-live-festival-2026/
LOCATION:Mallorca Live Festival\, Mallorca Live Festival. Camí Cala Figuera\, 1\, Calviá\, Illes Balears\, 07181\, Spain
CATEGORIES:DJ,electronic,Music,Pop
ATTACH;FMTTYPE=image/webp:https://www.mallorcasunshineradio.com/wp-content/uploads/David_Guetta_Mallorca_Live_Festival.webp
END:VEVENT
BEGIN:VEVENT
DTSTART;TZID=Europe/Madrid:20260703T200000
DTEND;TZID=Europe/Madrid:20260703T200000
DTSTAMP:20260425T174410
CREATED:20260319T223327Z
LAST-MODIFIED:20260322T233905Z
UID:16914-1783108800-1783108800@www.mallorcasunshineradio.com
SUMMARY:Fatboy Slim @ Es Jardí
DESCRIPTION:Fatboy Slim will perform on the La Plaza Electronic Stage at Es Jardí on July 3rd\, as part of the summer programme at Recinto Mallorca Live in Calvià. \nThe British DJ brings a selection of his best-known tracks\, including “Right Here\, Right Now” and “Praise You”\, in a set focused on dancefloor classics and reworked samples. The event takes place in an open-air setting\, combining live music with the Mediterranean evening atmosphere described by the festival. \nImage credit: Es Jardí Mallorca
URL:https://www.mallorcasunshineradio.com/event/fatboy-slim-es-jardi/
LOCATION:Mallorca Live Festival\, Mallorca Live Festival. Camí Cala Figuera\, 1\, Calviá\, Illes Balears\, 07181\, Spain
CATEGORIES:DJ,electronic,Music
ATTACH;FMTTYPE=image/png:https://www.mallorcasunshineradio.com/wp-content/uploads/FatBoySlim_es.png
END:VEVENT
END:VCALENDAR