BEGIN:VCALENDAR
VERSION:2.0
PRODID:-//Mallorca Sunshine Radio - ECPv6.15.20//NONSGML v1.0//EN
CALSCALE:GREGORIAN
METHOD:PUBLISH
X-ORIGINAL-URL:https://www.mallorcasunshineradio.com
X-WR-CALDESC:Events for Mallorca Sunshine Radio
REFRESH-INTERVAL;VALUE=DURATION:PT1H
X-Robots-Tag:noindex
X-PUBLISHED-TTL:PT1H
BEGIN:VTIMEZONE
TZID:Europe/Madrid
BEGIN:DAYLIGHT
TZOFFSETFROM:+0100
TZOFFSETTO:+0200
TZNAME:CEST
DTSTART:20240331T010000
END:DAYLIGHT
BEGIN:STANDARD
TZOFFSETFROM:+0200
TZOFFSETTO:+0100
TZNAME:CET
DTSTART:20241027T010000
END:STANDARD
BEGIN:DAYLIGHT
TZOFFSETFROM:+0100
TZOFFSETTO:+0200
TZNAME:CEST
DTSTART:20250330T010000
END:DAYLIGHT
BEGIN:STANDARD
TZOFFSETFROM:+0200
TZOFFSETTO:+0100
TZNAME:CET
DTSTART:20251026T010000
END:STANDARD
BEGIN:DAYLIGHT
TZOFFSETFROM:+0100
TZOFFSETTO:+0200
TZNAME:CEST
DTSTART:20260329T010000
END:DAYLIGHT
BEGIN:STANDARD
TZOFFSETFROM:+0200
TZOFFSETTO:+0100
TZNAME:CET
DTSTART:20261025T010000
END:STANDARD
END:VTIMEZONE
BEGIN:VEVENT
DTSTART;TZID=Europe/Madrid:20251115T170000
DTEND;TZID=Europe/Madrid:20251115T170000
DTSTAMP:20260425T010517
CREATED:20251102T233515Z
LAST-MODIFIED:20251102T233515Z
UID:15134-1763226000-1763226000@www.mallorcasunshineradio.com
SUMMARY:St. Martin Celebration 2025 in Puerto Portals
DESCRIPTION:St. Martin will be celebrated with a lantern and cookie workshop\, a reading about the story of Saint Martin\, and a festive St. Martin promenade. \nAll donations will go to the Rana Foundation.
URL:https://www.mallorcasunshineradio.com/event/sankt-martin-2025-puerto-portals/
LOCATION:Puerto Portals\, Torre de Capitanía\, Pto Portals\, Mallorca\, 07181
CATEGORIES:Charity,Family,Tradition
ATTACH;FMTTYPE=image/webp:https://www.mallorcasunshineradio.com/wp-content/uploads/sankt_martin_puertoportals.com_.jpg.webp
END:VEVENT
END:VCALENDAR