BEGIN:VCALENDAR
VERSION:2.0
PRODID:-//Mallorca Sunshine Radio - ECPv6.15.20//NONSGML v1.0//EN
CALSCALE:GREGORIAN
METHOD:PUBLISH
X-ORIGINAL-URL:https://www.mallorcasunshineradio.com
X-WR-CALDESC:Events for Mallorca Sunshine Radio
REFRESH-INTERVAL;VALUE=DURATION:PT1H
X-Robots-Tag:noindex
X-PUBLISHED-TTL:PT1H
BEGIN:VTIMEZONE
TZID:Europe/Madrid
BEGIN:DAYLIGHT
TZOFFSETFROM:+0100
TZOFFSETTO:+0200
TZNAME:CEST
DTSTART:20250330T010000
END:DAYLIGHT
BEGIN:STANDARD
TZOFFSETFROM:+0200
TZOFFSETTO:+0100
TZNAME:CET
DTSTART:20251026T010000
END:STANDARD
BEGIN:DAYLIGHT
TZOFFSETFROM:+0100
TZOFFSETTO:+0200
TZNAME:CEST
DTSTART:20260329T010000
END:DAYLIGHT
BEGIN:STANDARD
TZOFFSETFROM:+0200
TZOFFSETTO:+0100
TZNAME:CET
DTSTART:20261025T010000
END:STANDARD
BEGIN:DAYLIGHT
TZOFFSETFROM:+0100
TZOFFSETTO:+0200
TZNAME:CEST
DTSTART:20270328T010000
END:DAYLIGHT
BEGIN:STANDARD
TZOFFSETFROM:+0200
TZOFFSETTO:+0100
TZNAME:CET
DTSTART:20271031T010000
END:STANDARD
END:VTIMEZONE
BEGIN:VEVENT
DTSTART;TZID=Europe/Madrid:20260314T100000
DTEND;TZID=Europe/Madrid:20260314T100000
DTSTAMP:20260425T014149
CREATED:20260312T175206Z
LAST-MODIFIED:20260312T175206Z
UID:16836-1773482400-1773482400@www.mallorcasunshineradio.com
SUMMARY:Discovery Tour for Children at Finca Raixa in Bunyola
DESCRIPTION:Next Saturday\, children aged seven and older can go on a discovery tour at Finca Raixa in Bunyola. With tasks and puzzles\, they learn in a playful way what life used to be like on a country estate. \nImage credit: conselldemallorca.es
URL:https://www.mallorcasunshineradio.com/event/children-discovery-tour-finca-raixa-bunyola/
LOCATION:Finca Raixa\, Crta Palma Soller (MA 11) km 12\,2\, Bunyola\, 07110
CATEGORIES:Family,Kids
ATTACH;FMTTYPE=image/webp:https://www.mallorcasunshineradio.com/wp-content/uploads/Raixa_Kindertour.webp
END:VEVENT
END:VCALENDAR