BEGIN:VCALENDAR
VERSION:2.0
PRODID:-//Mallorca Sunshine Radio - ECPv6.15.20//NONSGML v1.0//EN
CALSCALE:GREGORIAN
METHOD:PUBLISH
X-WR-CALNAME:Mallorca Sunshine Radio
X-ORIGINAL-URL:https://www.mallorcasunshineradio.com
X-WR-CALDESC:Events for Mallorca Sunshine Radio
REFRESH-INTERVAL;VALUE=DURATION:PT1H
X-Robots-Tag:noindex
X-PUBLISHED-TTL:PT1H
BEGIN:VTIMEZONE
TZID:Europe/Madrid
BEGIN:DAYLIGHT
TZOFFSETFROM:+0100
TZOFFSETTO:+0200
TZNAME:CEST
DTSTART:20250330T010000
END:DAYLIGHT
BEGIN:STANDARD
TZOFFSETFROM:+0200
TZOFFSETTO:+0100
TZNAME:CET
DTSTART:20251026T010000
END:STANDARD
BEGIN:DAYLIGHT
TZOFFSETFROM:+0100
TZOFFSETTO:+0200
TZNAME:CEST
DTSTART:20260329T010000
END:DAYLIGHT
BEGIN:STANDARD
TZOFFSETFROM:+0200
TZOFFSETTO:+0100
TZNAME:CET
DTSTART:20261025T010000
END:STANDARD
BEGIN:DAYLIGHT
TZOFFSETFROM:+0100
TZOFFSETTO:+0200
TZNAME:CEST
DTSTART:20270328T010000
END:DAYLIGHT
BEGIN:STANDARD
TZOFFSETFROM:+0200
TZOFFSETTO:+0100
TZNAME:CET
DTSTART:20271031T010000
END:STANDARD
END:VTIMEZONE
BEGIN:VEVENT
DTSTART;TZID=Europe/Madrid:20260314T100000
DTEND;TZID=Europe/Madrid:20260314T100000
DTSTAMP:20260425T043520
CREATED:20260312T175206Z
LAST-MODIFIED:20260312T175206Z
UID:16836-1773482400-1773482400@www.mallorcasunshineradio.com
SUMMARY:Discovery Tour for Children at Finca Raixa in Bunyola
DESCRIPTION:Next Saturday\, children aged seven and older can go on a discovery tour at Finca Raixa in Bunyola. With tasks and puzzles\, they learn in a playful way what life used to be like on a country estate. \nImage credit: conselldemallorca.es
URL:https://www.mallorcasunshineradio.com/event/children-discovery-tour-finca-raixa-bunyola/
LOCATION:Finca Raixa\, Crta Palma Soller (MA 11) km 12\,2\, Bunyola\, 07110
CATEGORIES:Family,Kids
ATTACH;FMTTYPE=image/webp:https://www.mallorcasunshineradio.com/wp-content/uploads/Raixa_Kindertour.webp
END:VEVENT
BEGIN:VEVENT
DTSTART;TZID=Europe/Madrid:20260321T190000
DTEND;TZID=Europe/Madrid:20260321T190000
DTSTAMP:20260425T043520
CREATED:20260308T223438Z
LAST-MODIFIED:20260308T223438Z
UID:16785-1774119600-1774119600@www.mallorcasunshineradio.com
SUMMARY:Magic Show at Trui Teatre in Palma
DESCRIPTION:The show “De Muggle a Mago” tells the story of a completely ordinary boy who feels closer to the Harry Potter universe than he expected and dreams of becoming a great wizard. \nImage credit: truiteatre.es
URL:https://www.mallorcasunshineradio.com/event/magic-show-trui-teatre-palma/
LOCATION:Trui Teatre\, Palma\, Trui Teatre. Cami Son Rapinya 29\, Palma Mallorca\, Illes Balears\, 0713\, Spain
CATEGORIES:Family,Show,Theatre
ATTACH;FMTTYPE=image/jpeg:https://www.mallorcasunshineradio.com/wp-content/uploads/magic_trui.jpg
END:VEVENT
BEGIN:VEVENT
DTSTART;TZID=Europe/Madrid:20260323T163000
DTEND;TZID=Europe/Madrid:20260323T163000
DTSTAMP:20260425T043520
CREATED:20260322T221119Z
LAST-MODIFIED:20260322T221119Z
UID:16959-1774283400-1774283400@www.mallorcasunshineradio.com
SUMMARY:Funfair “Fira del Ram”
DESCRIPTION:Ferris wheel\, adrenaline rides and pink candy floss – the largest funfair in the Balearic Islands is back. \nOn site\, you can ride rollercoasters and bumper cars and enjoy churros. \nImage credit: Instagram / @feriadebaleares
URL:https://www.mallorcasunshineradio.com/event/fira-del-ram-palma-2026-2/
LOCATION:Fira del ram\, Camí Vell de Bunyola\, Nord\, Palma\, Illes Balears\, 07009\, Spain
CATEGORIES:Event,Fairs,Family
ATTACH;FMTTYPE=image/webp:https://www.mallorcasunshineradio.com/wp-content/uploads/Fira_del_Ram.webp
END:VEVENT
BEGIN:VEVENT
DTSTART;TZID=Europe/Madrid:20260324T100000
DTEND;TZID=Europe/Madrid:20260324T100000
DTSTAMP:20260425T043520
CREATED:20260322T222644Z
LAST-MODIFIED:20260322T222644Z
UID:16969-1774346400-1774346400@www.mallorcasunshineradio.com
SUMMARY:Colours of the World at CaixaForum Palma
DESCRIPTION:At CaixaForum\, families have the opportunity to discover and experiment with the world of colours. Children aged 3 and over can paint\, play\, and browse through books. \nImage credit: caixaforum.org
URL:https://www.mallorcasunshineradio.com/event/colours-of-the-world-caixaforum-palma/
LOCATION:CaixaForum\, Plaza Weyler 3\, Palma
CATEGORIES:Family,Kids,Workshops
ATTACH;FMTTYPE=image/webp:https://www.mallorcasunshineradio.com/wp-content/uploads/caixaforu_colores_del_mundo.webp
END:VEVENT
BEGIN:VEVENT
DTSTART;TZID=Europe/Madrid:20260402T110000
DTEND;TZID=Europe/Madrid:20260402T110000
DTSTAMP:20260425T043520
CREATED:20260329T214601Z
LAST-MODIFIED:20260329T214601Z
UID:17059-1775127600-1775127600@www.mallorcasunshineradio.com
SUMMARY:Easter Fantasy World @ Pueblo Español in Palma
DESCRIPTION:An Easter-themed fantasy world inspired by Alice in Wonderland is coming to Pueblo Español in Palma. Children can enjoy a range of activities including an Easter egg hunt\, a mini disco\, and face painting. \nWhile the little ones take part in the activities\, parents can relax and enjoy a snack from the on-site food trucks. \nImage credit: elpueblodelasmaravillas.com
URL:https://www.mallorcasunshineradio.com/event/easter-fantasy-world-pueblo-espanol-palma/
LOCATION:Palma\, Pueblo español\, Pueblo Español\, 55\, Palma\, Balearic Islands\, 07014\, Spain
CATEGORIES:Easter,Family,Kids
ATTACH;FMTTYPE=image/webp:https://www.mallorcasunshineradio.com/wp-content/uploads/ostern_pueblo_espanol.webp
END:VEVENT
BEGIN:VEVENT
DTSTART;TZID=Europe/Madrid:20260403T200000
DTEND;TZID=Europe/Madrid:20260403T200000
DTSTAMP:20260425T043520
CREATED:20260329T215245Z
LAST-MODIFIED:20260329T215245Z
UID:17065-1775246400-1775246400@www.mallorcasunshineradio.com
SUMMARY:Tarzan – The Musical @ Trui Teatre in Palma
DESCRIPTION:Lianas\, drums\, and adventure: Tarzan arrives as a musical at Trui Teatre in Palma. The story centres on an orphaned boy raised by apes\, who grows up caught between two worlds while searching for where he truly belongs. \nImage credit: truiteatre.es
URL:https://www.mallorcasunshineradio.com/event/tarzan-musical-trui-teatre-palma/
LOCATION:Trui Teatre\, Palma\, Trui Teatre. Cami Son Rapinya 29\, Palma Mallorca\, Illes Balears\, 0713\, Spain
CATEGORIES:Family,Musical,Theatre
ATTACH;FMTTYPE=image/webp:https://www.mallorcasunshineradio.com/wp-content/uploads/Trui_Teatre_Tarzan.webp
END:VEVENT
BEGIN:VEVENT
DTSTART;TZID=Europe/Madrid:20260405T120000
DTEND;TZID=Europe/Madrid:20260405T120000
DTSTAMP:20260425T043520
CREATED:20260329T220110Z
LAST-MODIFIED:20260329T220110Z
UID:17068-1775390400-1775390400@www.mallorcasunshineradio.com
SUMMARY:Easter Brunch at Mola in the Club in Calvià
DESCRIPTION:Parents can enjoy a relaxed Easter brunch while children head off on an Easter egg hunt – a simple recipe for a pleasant Easter Sunday. At Mola in the Club in Calvià\, the brunch includes drinks such as wine\, beer\, or coffee. \nPrices are set at 89 Euro for adults and 34 Euro for children. \nImage credit: mallorcacountryclub.es
URL:https://www.mallorcasunshineradio.com/event/easter-brunch-mola-club-calvia/
LOCATION:mallorca country club\, Mallorca Country Club | Tennis & Padel. Avinguda del Golf\, 20\, Santa Ponça / Calvià\, Balearic Islands\, 07180\, Spain
CATEGORIES:Easter,Family,Food
ATTACH;FMTTYPE=image/webp:https://www.mallorcasunshineradio.com/wp-content/uploads/ostbrunch_mola_2026.webp
END:VEVENT
BEGIN:VEVENT
DTSTART;TZID=Europe/Madrid:20260509T203000
DTEND;TZID=Europe/Madrid:20260509T203000
DTSTAMP:20260425T043520
CREATED:20260329T221059Z
LAST-MODIFIED:20260329T221059Z
UID:17076-1778358600-1778358600@www.mallorcasunshineradio.com
SUMMARY:Magic Show with Dakris @ Trui Teatre Palma
DESCRIPTION:Step into an evening of illusion at Trui Teatre in Palma\, where magician Dakris invites the audience to become part of the show. Expect a performance filled with visual magic and moments designed to surprise. \nImage credit: truiteatre.janto.es
URL:https://www.mallorcasunshineradio.com/event/magic-show-dakris-trui-teatre-palma/
LOCATION:Trui Teatre\, Palma\, Trui Teatre. Cami Son Rapinya 29\, Palma Mallorca\, Illes Balears\, 0713\, Spain
CATEGORIES:Family,Show,Theatre
ATTACH;FMTTYPE=image/webp:https://www.mallorcasunshineradio.com/wp-content/uploads/Zauberer_Dakiris.webp
END:VEVENT
END:VCALENDAR