BEGIN:VCALENDAR
VERSION:2.0
PRODID:-//Mallorca Sunshine Radio - ECPv6.15.20//NONSGML v1.0//EN
CALSCALE:GREGORIAN
METHOD:PUBLISH
X-WR-CALNAME:Mallorca Sunshine Radio
X-ORIGINAL-URL:https://www.mallorcasunshineradio.com
X-WR-CALDESC:Events for Mallorca Sunshine Radio
REFRESH-INTERVAL;VALUE=DURATION:PT1H
X-Robots-Tag:noindex
X-PUBLISHED-TTL:PT1H
BEGIN:VTIMEZONE
TZID:Europe/Madrid
BEGIN:DAYLIGHT
TZOFFSETFROM:+0100
TZOFFSETTO:+0200
TZNAME:CEST
DTSTART:20250330T010000
END:DAYLIGHT
BEGIN:STANDARD
TZOFFSETFROM:+0200
TZOFFSETTO:+0100
TZNAME:CET
DTSTART:20251026T010000
END:STANDARD
BEGIN:DAYLIGHT
TZOFFSETFROM:+0100
TZOFFSETTO:+0200
TZNAME:CEST
DTSTART:20260329T010000
END:DAYLIGHT
BEGIN:STANDARD
TZOFFSETFROM:+0200
TZOFFSETTO:+0100
TZNAME:CET
DTSTART:20261025T010000
END:STANDARD
BEGIN:DAYLIGHT
TZOFFSETFROM:+0100
TZOFFSETTO:+0200
TZNAME:CEST
DTSTART:20270328T010000
END:DAYLIGHT
BEGIN:STANDARD
TZOFFSETFROM:+0200
TZOFFSETTO:+0100
TZNAME:CET
DTSTART:20271031T010000
END:STANDARD
END:VTIMEZONE
BEGIN:VEVENT
DTSTART;TZID=Europe/Madrid:20260313T200000
DTEND;TZID=Europe/Madrid:20260313T200000
DTSTAMP:20260425T012622
CREATED:20260223T165919Z
LAST-MODIFIED:20260302T163501Z
UID:16623-1773432000-1773432000@www.mallorcasunshineradio.com
SUMMARY:María Terremoto / 5th Festival Paco de Lucía Mallorca @ Teatre Principal Palma
DESCRIPTION:The 5th Paco de Lucía Flamenco Festival opens with a grand opening gala at Teatre Principal. \nMaría Terremoto\, together with Mala Rodríguez as guest artist\, are the protagonists of the fifth anniversary of the Festival Paco de Lucía Mallorca. \nGeologically\, an earthquake is a violent shaking of the Earth’s crust. In common use\, it also makes reference to a restless person\, impossible to be restrained. María Fernández Benítez\, best known as María Terremoto (the Spanish word for earthquake)\, is not only the heir of a long line of legendary singers. She possesses indeed the telluric force of her predecessors; but at the same time\, she is also able to crack the crust in order to give vent to her own language. \n  \nImage credit: teatreprincipal.com
URL:https://www.mallorcasunshineradio.com/event/paco-de-lucia-flamenco-festival-teatre-principal-palma/
LOCATION:Teatre Principal Palma\, Teatro Principal de Palma. Carrer de la Riera\, 2\, Palma\, Mallorca\, 07003
CATEGORIES:Festival,Flamenco,Music
ATTACH;FMTTYPE=image/webp:https://www.mallorcasunshineradio.com/wp-content/uploads/flamenco_festival_maria_terremoto.webp
END:VEVENT
BEGIN:VEVENT
DTSTART;TZID=Europe/Madrid:20260319T193000
DTEND;TZID=Europe/Madrid:20260319T193000
DTSTAMP:20260425T012622
CREATED:20260302T164508Z
LAST-MODIFIED:20260302T164531Z
UID:16716-1773948600-1773948600@www.mallorcasunshineradio.com
SUMMARY:Mercedes Luján & Rancapino Chico / 5th Festival Paco de Lucía Mallorca @ Es Baluard Palma
DESCRIPTION:
URL:https://www.mallorcasunshineradio.com/event/mercedes-lujan-rancapino-chico-5th-festival-paco-de-lucia-mallorca-es-baluard-palma/
LOCATION:Es Baluard\, Plaça Porta Sta. Catalina\, 10\, Palma\, Balearic Islands\, Spain
CATEGORIES:Festival,Flamenco,Music
ATTACH;FMTTYPE=image/jpeg:https://www.mallorcasunshineradio.com/wp-content/uploads/2026-3-19-mercedes-lujan-y-rancapino-chico-v-festival-paco-de-lucia-mallorca-palma-flamenca.jpg
END:VEVENT
BEGIN:VEVENT
DTSTART;TZID=Europe/Madrid:20260321T093000
DTEND;TZID=Europe/Madrid:20260321T093000
DTSTAMP:20260425T012622
CREATED:20260302T165030Z
LAST-MODIFIED:20260302T165030Z
UID:16721-1774085400-1774085400@www.mallorcasunshineradio.com
SUMMARY:Toni Vich (Triofang) & Úrsula Pomar / 5th Festival Paco de Lucía Mallorca @ Fundació Pilar i Joan Miró Palma
DESCRIPTION:
URL:https://www.mallorcasunshineradio.com/event/toni-vich-triofang-ursula-pomar-5th-festival-paco-de-lucia-mallorca-fundacio-pilar-i-joan-miro-palma/
LOCATION:Fundació Pilar i Joan Miró a Mallorca\, C/ de Saridakis\, 29\, Ponent\, Palma\, Illes Balears\, 07015\, Spain
CATEGORIES:Festival,Flamenco,Music
ATTACH;FMTTYPE=image/jpeg:https://www.mallorcasunshineradio.com/wp-content/uploads/2026-3-21-concierto-workshop-de-flautas-y-ocarinas-de-ceramica-toni-vich-triofang-y-ursula-pomar-v-festival-paco-de-lucia-mallorca.jpeg
END:VEVENT
END:VCALENDAR