BEGIN:VCALENDAR
VERSION:2.0
PRODID:-//Mallorca Sunshine Radio - ECPv6.15.20//NONSGML v1.0//EN
CALSCALE:GREGORIAN
METHOD:PUBLISH
X-ORIGINAL-URL:https://www.mallorcasunshineradio.com
X-WR-CALDESC:Events for Mallorca Sunshine Radio
REFRESH-INTERVAL;VALUE=DURATION:PT1H
X-Robots-Tag:noindex
X-PUBLISHED-TTL:PT1H
BEGIN:VTIMEZONE
TZID:Europe/Madrid
BEGIN:DAYLIGHT
TZOFFSETFROM:+0100
TZOFFSETTO:+0200
TZNAME:CEST
DTSTART:20250330T010000
END:DAYLIGHT
BEGIN:STANDARD
TZOFFSETFROM:+0200
TZOFFSETTO:+0100
TZNAME:CET
DTSTART:20251026T010000
END:STANDARD
BEGIN:DAYLIGHT
TZOFFSETFROM:+0100
TZOFFSETTO:+0200
TZNAME:CEST
DTSTART:20260329T010000
END:DAYLIGHT
BEGIN:STANDARD
TZOFFSETFROM:+0200
TZOFFSETTO:+0100
TZNAME:CET
DTSTART:20261025T010000
END:STANDARD
BEGIN:DAYLIGHT
TZOFFSETFROM:+0100
TZOFFSETTO:+0200
TZNAME:CEST
DTSTART:20270328T010000
END:DAYLIGHT
BEGIN:STANDARD
TZOFFSETFROM:+0200
TZOFFSETTO:+0100
TZNAME:CET
DTSTART:20271031T010000
END:STANDARD
END:VTIMEZONE
BEGIN:VEVENT
DTSTART;TZID=Europe/Madrid:20260515T150000
DTEND;TZID=Europe/Madrid:20260515T150000
DTSTAMP:20260424T183739
CREATED:20260302T163941Z
LAST-MODIFIED:20260419T113241Z
UID:16712-1778857200-1778857200@www.mallorcasunshineradio.com
SUMMARY:La Tania / 5th Festival Paco de Lucía Mallorca @ Es Gremi Palma
DESCRIPTION:The Paco de Lucía Mallorca Festival celebrates its fifth anniversary with a concert by La Tania\, marking the festival’s first collaboration with Es Gremi. \nThis event reinforces the dialogue between tradition and contemporary music\, highlighting the new voices that are redefining the current musical landscape. \nFollowing the impact of her debut album and the 2025 Goya Award for Best Original Song for “Los Almendros\,” La Tania presents “Palace\,” a three-track EP where she leaves introspection behind to embrace rhythm\, celebration\, and shared experiences. \nThe project was created in collaboration with Yerai Cortés and nusar3000\, with a special guest appearance by Papá Levante. \n“Teteo” becomes an ode to female friendship\, while “La Flor” closes the EP with a soundscape that looks back to the 2000s and the Mediterranean\, evoking her roots between Alicante and Benidorm. \nA concert that reaffirms the festival’s commitment to female talent and contemporary creation. \nCome and experience it live!
URL:https://www.mallorcasunshineradio.com/event/la-tania-5th-festival-paco-de-lucia-mallorca-es-gremi-palma/
LOCATION:Es Gremi\, Es Gremi. Gremi de Porgadors\, 16\, Palma\, Balearic Islands\, 07009\, Spain
CATEGORIES:Festival,Flamenco,Music
ATTACH;FMTTYPE=image/jpeg:https://www.mallorcasunshineradio.com/wp-content/uploads/01_WEB_Banner_FestivalPacoDeLucia.jpg
ORGANIZER;CN="Es Gremi":MAILTO:info@esgremi.com
END:VEVENT
END:VCALENDAR