BEGIN:VCALENDAR
VERSION:2.0
PRODID:-//Mallorca Sunshine Radio - ECPv6.15.20//NONSGML v1.0//EN
CALSCALE:GREGORIAN
METHOD:PUBLISH
X-ORIGINAL-URL:https://www.mallorcasunshineradio.com
X-WR-CALDESC:Events for Mallorca Sunshine Radio
REFRESH-INTERVAL;VALUE=DURATION:PT1H
X-Robots-Tag:noindex
X-PUBLISHED-TTL:PT1H
BEGIN:VTIMEZONE
TZID:Europe/Madrid
BEGIN:DAYLIGHT
TZOFFSETFROM:+0100
TZOFFSETTO:+0200
TZNAME:CEST
DTSTART:20250330T010000
END:DAYLIGHT
BEGIN:STANDARD
TZOFFSETFROM:+0200
TZOFFSETTO:+0100
TZNAME:CET
DTSTART:20251026T010000
END:STANDARD
BEGIN:DAYLIGHT
TZOFFSETFROM:+0100
TZOFFSETTO:+0200
TZNAME:CEST
DTSTART:20260329T010000
END:DAYLIGHT
BEGIN:STANDARD
TZOFFSETFROM:+0200
TZOFFSETTO:+0100
TZNAME:CET
DTSTART:20261025T010000
END:STANDARD
BEGIN:DAYLIGHT
TZOFFSETFROM:+0100
TZOFFSETTO:+0200
TZNAME:CEST
DTSTART:20270328T010000
END:DAYLIGHT
BEGIN:STANDARD
TZOFFSETFROM:+0200
TZOFFSETTO:+0100
TZNAME:CET
DTSTART:20271031T010000
END:STANDARD
END:VTIMEZONE
BEGIN:VEVENT
DTSTART;TZID=Europe/Madrid:20260201T100000
DTEND;TZID=Europe/Madrid:20260201T100000
DTSTAMP:20260425T031125
CREATED:20260129T223724Z
LAST-MODIFIED:20260129T223724Z
UID:16308-1769940000-1769940000@www.mallorcasunshineradio.com
SUMMARY:Breakfast Club at Motorworld Mallorca
DESCRIPTION:Motorworld Mallorca invites guests to its Breakfast Club\, a relaxed brunch event combining food\, music and a stylish setting. \nVisitors can enjoy fresh pastries\, live cooking stations\, mimosas and a DJ set by Chris Marina. The event takes place at Motorworld Mallorca\, bringing together a late-morning brunch atmosphere with music and social flair. \nImage credit: Motorworld Mallorca
URL:https://www.mallorcasunshineradio.com/event/breakfast-club-motorworld-mallorca/
LOCATION:Motorworld Mallorca\, Motorworld Mallorca. Camí Vell de Llucmajor\, 112\, Palma\, Balearic Islands\, 07007\, Spain
CATEGORIES:Brunch,DJ,Food & Drink
ATTACH;FMTTYPE=image/webp:https://www.mallorcasunshineradio.com/wp-content/uploads/Breakfast-Club_neu_.webp
END:VEVENT
BEGIN:VEVENT
DTSTART;TZID=Europe/Madrid:20260207T190000
DTEND;TZID=Europe/Madrid:20260207T190000
DTSTAMP:20260425T031125
CREATED:20260203T224957Z
LAST-MODIFIED:20260203T224957Z
UID:16378-1770490800-1770490800@www.mallorcasunshineradio.com
SUMMARY:Wine Tasting at Motorworld Mallorca
DESCRIPTION:A wine tasting event at Motorworld Mallorca. \nGuests can enjoy selected wines along with a wide selection of tapas. The tasting is accompanied by winemakers from the region. \nImage credit: Motorworld Mallorca
URL:https://www.mallorcasunshineradio.com/event/wine-tasting-motorworld-mallorca-palma/
LOCATION:Motorworld Mallorca\, Motorworld Mallorca. Camí Vell de Llucmajor\, 112\, Palma\, Balearic Islands\, 07007\, Spain
CATEGORIES:Food & Drink,Wine tasting
ATTACH;FMTTYPE=image/webp:https://www.mallorcasunshineradio.com/wp-content/uploads/Tapas_y_Vinos_.webp
END:VEVENT
BEGIN:VEVENT
DTSTART;TZID=Europe/Madrid:20260216T120000
DTEND;TZID=Europe/Madrid:20260216T120000
DTSTAMP:20260425T031125
CREATED:20260215T002605Z
LAST-MODIFIED:20260215T002605Z
UID:16459-1771243200-1771243200@www.mallorcasunshineradio.com
SUMMARY:Schnitzel at Motorworld Mallorca
DESCRIPTION:From crispy veal schnitzel and homemade potato salad to freshly tapped beer – everything is included. \nMotorworld Mallorca\, located near the airport in Palma\, invites guests to enjoy a classic schnitzel experience in a special setting. \nImage credit: mallorca.motorworld-inn.de
URL:https://www.mallorcasunshineradio.com/event/schnitzel-at-motorworld-mallorca/
LOCATION:Motorworld Mallorca\, Motorworld Mallorca. Camí Vell de Llucmajor\, 112\, Palma\, Balearic Islands\, 07007\, Spain
CATEGORIES:Culinary Event,Food & Drink
ATTACH;FMTTYPE=image/webp:https://www.mallorcasunshineradio.com/wp-content/uploads/SchnitzelandFriends.webp
END:VEVENT
BEGIN:VEVENT
DTSTART;TZID=Europe/Madrid:20260220T183000
DTEND;TZID=Europe/Madrid:20260220T183000
DTSTAMP:20260425T031125
CREATED:20260215T002822Z
LAST-MODIFIED:20260215T002822Z
UID:16462-1771612200-1771612200@www.mallorcasunshineradio.com
SUMMARY:Pasta and Pizza at Motorworld Mallorca in Palma
DESCRIPTION:How about crispy pizza from a wood-fired oven or delicious Italian pasta? \nYou can enjoy both at the new event “Pasta La Vista” at Motorworld Mallorca in Palma. \nImage credit: mallorca.motorworld-inn.de
URL:https://www.mallorcasunshineradio.com/event/pasta-la-vista-motorworld-mallorca/
LOCATION:Motorworld Mallorca\, Motorworld Mallorca. Camí Vell de Llucmajor\, 112\, Palma\, Balearic Islands\, 07007\, Spain
CATEGORIES:Culinary Event,Food & Drink
ATTACH;FMTTYPE=image/webp:https://www.mallorcasunshineradio.com/wp-content/uploads/Pasta-La-Vista-motorworld.webp
END:VEVENT
BEGIN:VEVENT
DTSTART;TZID=Europe/Madrid:20260222T100000
DTEND;TZID=Europe/Madrid:20260222T100000
DTSTAMP:20260425T031125
CREATED:20260219T135105Z
LAST-MODIFIED:20260219T135105Z
UID:16547-1771754400-1771754400@www.mallorcasunshineradio.com
SUMMARY:Breakfast at Motorworld Mallorca
DESCRIPTION:An extensive breakfast among historic windmills and classic cars – that’s the idea behind the Breakfast Club at Motorworld Inn Mallorca. \nGuests can enjoy a relaxed morning with DJ and drinks at Motorworld Mallorca. \nImage credit: mallorca.motorworld-inn.de 
URL:https://www.mallorcasunshineradio.com/event/motorworld-breakfast-club-mallorca/
LOCATION:Motorworld Mallorca\, Motorworld Mallorca. Camí Vell de Llucmajor\, 112\, Palma\, Balearic Islands\, 07007\, Spain
CATEGORIES:Food & Drink,Social
ATTACH;FMTTYPE=image/webp:https://www.mallorcasunshineradio.com/wp-content/uploads/motorworld_breakfast_club.webp
END:VEVENT
BEGIN:VEVENT
DTSTART;TZID=Europe/Madrid:20260223T120000
DTEND;TZID=Europe/Madrid:20260223T120000
DTSTAMP:20260425T031125
CREATED:20260222T224302Z
LAST-MODIFIED:20260222T224302Z
UID:16562-1771848000-1771848000@www.mallorcasunshineradio.com
SUMMARY:Schnitzel at Motorworld Mallorca
DESCRIPTION:From crispy veal schnitzel and homemade potato salad to freshly tapped beer – everything is included. \nMotorworld Mallorca\, located near the airport in Palma\, invites guests to enjoy a classic schnitzel experience in a special setting. \nImage credit: mallorca.motorworld-inn.de
URL:https://www.mallorcasunshineradio.com/event/schnitzel-at-motorworld-mallorca-2/
LOCATION:Motorworld Mallorca\, Motorworld Mallorca. Camí Vell de Llucmajor\, 112\, Palma\, Balearic Islands\, 07007\, Spain
CATEGORIES:Culinary Event,Food & Drink
ATTACH;FMTTYPE=image/webp:https://www.mallorcasunshineradio.com/wp-content/uploads/SchnitzelandFriends.webp
END:VEVENT
END:VCALENDAR