BEGIN:VCALENDAR
VERSION:2.0
PRODID:-//Mallorca Sunshine Radio - ECPv6.15.20//NONSGML v1.0//EN
CALSCALE:GREGORIAN
METHOD:PUBLISH
X-ORIGINAL-URL:https://www.mallorcasunshineradio.com
X-WR-CALDESC:Events for Mallorca Sunshine Radio
REFRESH-INTERVAL;VALUE=DURATION:PT1H
X-Robots-Tag:noindex
X-PUBLISHED-TTL:PT1H
BEGIN:VTIMEZONE
TZID:Europe/Madrid
BEGIN:DAYLIGHT
TZOFFSETFROM:+0100
TZOFFSETTO:+0200
TZNAME:CEST
DTSTART:20240331T010000
END:DAYLIGHT
BEGIN:STANDARD
TZOFFSETFROM:+0200
TZOFFSETTO:+0100
TZNAME:CET
DTSTART:20241027T010000
END:STANDARD
BEGIN:DAYLIGHT
TZOFFSETFROM:+0100
TZOFFSETTO:+0200
TZNAME:CEST
DTSTART:20250330T010000
END:DAYLIGHT
BEGIN:STANDARD
TZOFFSETFROM:+0200
TZOFFSETTO:+0100
TZNAME:CET
DTSTART:20251026T010000
END:STANDARD
BEGIN:DAYLIGHT
TZOFFSETFROM:+0100
TZOFFSETTO:+0200
TZNAME:CEST
DTSTART:20260329T010000
END:DAYLIGHT
BEGIN:STANDARD
TZOFFSETFROM:+0200
TZOFFSETTO:+0100
TZNAME:CET
DTSTART:20261025T010000
END:STANDARD
END:VTIMEZONE
BEGIN:VEVENT
DTSTART;TZID=Europe/Madrid:20251226T100000
DTEND;TZID=Europe/Madrid:20251226T100000
DTSTAMP:20260425T013043
CREATED:20251223T100838Z
LAST-MODIFIED:20251223T100838Z
UID:16001-1766743200-1766743200@www.mallorcasunshineradio.com
SUMMARY:Christmas Brunch at Motorworld Mallorca
DESCRIPTION:At Motorworld Mallorca\, a Christmas breakfast brunch awaits with crispy duck breast\, oven-fresh pinsas\, scrambled eggs\, as well as other savoury and classic breakfast dishes. \nImage credit: mallorca.motorworld-inn.de
URL:https://www.mallorcasunshineradio.com/event/motorworld-mallorca-christmas-brunch/
LOCATION:Motorworld Mallorca\, Motorworld Mallorca. Camí Vell de Llucmajor\, 112\, Palma\, Balearic Islands\, 07007\, Spain
CATEGORIES:Brunch,Christmas,Food & Drink
ATTACH;FMTTYPE=image/webp:https://www.mallorcasunshineradio.com/wp-content/uploads/Christmas_Brunch.jpg.webp
END:VEVENT
BEGIN:VEVENT
DTSTART;TZID=Europe/Madrid:20251225T130000
DTEND;TZID=Europe/Madrid:20251225T130000
DTSTAMP:20260425T013043
CREATED:20251219T130033Z
LAST-MODIFIED:20251219T131057Z
UID:15972-1766667600-1766667600@www.mallorcasunshineradio.com
SUMMARY:Christmas Day Special Route @ Can Bordoy Palma
DESCRIPTION:Celebrate Christmas Day at Botanic with a unique culinary journey\, where the flavours of land and sea come together to honour tradition reimagined with Mallorcan soul and contemporary creativity.
URL:https://www.mallorcasunshineradio.com/event/christmas-day-special-route-can-bordoy-palma/
LOCATION:Can Bordoy\, Palma
CATEGORIES:Food & Drink,Gastronomy
ATTACH;FMTTYPE=image/jpeg:https://www.mallorcasunshineradio.com/wp-content/uploads/NAVIDAD_COMPLETO_INGLES-1.jpg
END:VEVENT
BEGIN:VEVENT
DTSTART;TZID=Europe/Madrid:20251224T193000
DTEND;TZID=Europe/Madrid:20251224T193000
DTSTAMP:20260425T013043
CREATED:20251223T095002Z
LAST-MODIFIED:20251223T095002Z
UID:15993-1766604600-1766604600@www.mallorcasunshineradio.com
SUMMARY:Christmas Eve Dinner at Son Net
DESCRIPTION:The Grand Hotel Son Net in Puigpunyent is hosting a festive Christmas Eve dinner. \nGuests can look forward to an exclusive menu featuring lobster ravioli\, Wagyu oxtail roulade\, and a chocolate and caramel dessert. A vegan menu option will also be available. \nThe dinner takes place on Christmas Eve at the hotel’s historic estate in Puigpunyent. \nImage credit: Instagram / @grandhotelsonnet
URL:https://www.mallorcasunshineradio.com/event/christmas-eve-dinner-son-net/
LOCATION:Grand Hotel Son Net\, Grand Hotel Son Net. Castillo Son Net s/n\, Puigpunyent\, Illes Balears\, 07194\, Spain
CATEGORIES:Christmas,Food & Drink
ATTACH;FMTTYPE=image/webp:https://www.mallorcasunshineradio.com/wp-content/uploads/Gran_Hotel_Weihnachten.jpg.webp
END:VEVENT
BEGIN:VEVENT
DTSTART;TZID=Europe/Madrid:20251224T190000
DTEND;TZID=Europe/Madrid:20251224T190000
DTSTAMP:20260425T013043
CREATED:20251219T130300Z
LAST-MODIFIED:20251219T130953Z
UID:15977-1766602800-1766602800@www.mallorcasunshineradio.com
SUMMARY:Christmas Eve @ Can Bordoy Palma
DESCRIPTION:This year\, celebrate Christmas the Botanic way. A culinary journey that brings together nature\, local produce and creative cuisine in every bite. soul and sophistication.
URL:https://www.mallorcasunshineradio.com/event/christmas-eve-can-bordoy-palma/
LOCATION:Can Bordoy\, Palma
CATEGORIES:Food & Drink,Gastronomy
ATTACH;FMTTYPE=image/jpeg:https://www.mallorcasunshineradio.com/wp-content/uploads/NOCHEBUENA_COMPLETO_INGLES-1.jpg
END:VEVENT
BEGIN:VEVENT
DTSTART;TZID=Europe/Madrid:20251224T133000
DTEND;TZID=Europe/Madrid:20251224T133000
DTSTAMP:20260425T013043
CREATED:20251221T150514Z
LAST-MODIFIED:20251221T150711Z
UID:15983-1766583000-1766583000@www.mallorcasunshineradio.com
SUMMARY:Christmas Afternoon @ Gastro Bar Angélica Pastrana
DESCRIPTION:Angélica Pastrana invites you to partake in a distinguished afternoon on December 24\, commencing at 1:30 p.m. \nThis occacion will feature a unique fusion menu crafted by GastroBar\, under the expertise of Angélica Pastrana\, complemented by tine wine and delightful music. \nJoin them for an experience where creativity and flavor unite to create unforgettable gathering. \nFor additional information and reservations call +34 699 70 45 02.
URL:https://www.mallorcasunshineradio.com/event/christmas-afternoon-gastro-bar-angelica-pastrana/
LOCATION:GastroBar by Angélica Pastrana\, Camí de Son Rapinya\, 48\, Ponent\, Palma de Mallorca\, Baleares\, 07013\, Spain
CATEGORIES:Christmas,Food & Drink,Gastronomy
ATTACH;FMTTYPE=image/jpeg:https://www.mallorcasunshineradio.com/wp-content/uploads/PHOTO-2025-12-19-12-18-34.jpg
END:VEVENT
BEGIN:VEVENT
DTSTART;TZID=Europe/Madrid:20251214T110000
DTEND;TZID=Europe/Madrid:20251214T210000
DTSTAMP:20260425T013043
CREATED:20251118T133828Z
LAST-MODIFIED:20251118T134048Z
UID:15379-1765710000-1765746000@www.mallorcasunshineradio.com
SUMMARY:MORE Mallorca Christmas Market at Finca Son Mir
DESCRIPTION:The popular event format MORE MALLORCA PopUp Events will take place this year at the historic Finca Son Mir on the Carretera Vieja de Sineu. On 13 and 14 December 2025\, from 11 am to 9 pm\, the Finca will open its doors for a pre-Christmas pop-up experience in a very special atmosphere. \nGuests can look forward to a diverse programme including a Christmas market\, local craftsmanship\, live music\, children’s workshops\, as well as culinary offerings from Fosh Catering and various food trucks. The event combines Mediterranean flair with a festive spirit\, making it an experience for the whole family. \nUnder the motto “MADE IN MALLORCA”\, local brands and shops take centre stage. The aim of the format is to showcase the island’s creative and culinary talent. \nFinca Son Mir\, located just 10 km from Palma\, with its expansive terraces\, gardens and panoramic views\, offers the ideal setting for this event\, which has delighted numerous visitors at various locations in previous years. The event will take place in all weather conditions\, and ample parking is available. \nTickets online
URL:https://www.mallorcasunshineradio.com/event/more-mallorca-christmas-market-finca-son-mir-2025-2/
LOCATION:Finca Son Mir\, Camí Vell de Sineu\, 253\, Km. 7\,250\, Llevant\, Palma\, Illes Balears\, 07198\, Spain
CATEGORIES:Christmas Market,Family,Food & Drink,Live Music
ATTACH;FMTTYPE=image/jpeg:https://www.mallorcasunshineradio.com/wp-content/uploads/more_mallorca_christmas.jpeg
END:VEVENT
BEGIN:VEVENT
DTSTART;TZID=Europe/Madrid:20251213T110000
DTEND;TZID=Europe/Madrid:20251213T210000
DTSTAMP:20260425T013043
CREATED:20251118T133232Z
LAST-MODIFIED:20251118T134113Z
UID:15371-1765623600-1765659600@www.mallorcasunshineradio.com
SUMMARY:MORE Mallorca Christmas Market at Finca Son Mir
DESCRIPTION:The popular event format MORE MALLORCA PopUp Events will take place this year at the historic Finca Son Mir on the Carretera Vieja de Sineu. On 13 and 14 December 2025\, from 11 am to 9 pm\, the Finca will open its doors for a pre-Christmas pop-up experience in a very special atmosphere. \nGuests can look forward to a diverse programme including a Christmas market\, local craftsmanship\, live music\, children’s workshops\, as well as culinary offerings from Fosh Catering and various food trucks. The event combines Mediterranean flair with a festive spirit\, making it an experience for the whole family. \nUnder the motto “MADE IN MALLORCA”\, local brands and shops take centre stage. The aim of the format is to showcase the island’s creative and culinary talent. \nFinca Son Mir\, located just 10 km from Palma\, with its expansive terraces\, gardens and panoramic views\, offers the ideal setting for this event\, which has delighted numerous visitors at various locations in previous years. The event will take place in all weather conditions\, and ample parking is available. \nTickets online
URL:https://www.mallorcasunshineradio.com/event/more-mallorca-christmas-market-finca-son-mir-2025/
LOCATION:Finca Son Mir\, Camí Vell de Sineu\, 253\, Km. 7\,250\, Llevant\, Palma\, Illes Balears\, 07198\, Spain
CATEGORIES:Christmas Market,Family,Food & Drink,Live Music
ATTACH;FMTTYPE=image/jpeg:https://www.mallorcasunshineradio.com/wp-content/uploads/more_mallorca_christmas.jpeg
END:VEVENT
BEGIN:VEVENT
DTSTART;TZID=Europe/Madrid:20251211T193000
DTEND;TZID=Europe/Madrid:20251211T193000
DTSTAMP:20260425T013043
CREATED:20251210T165445Z
LAST-MODIFIED:20251210T165445Z
UID:15886-1765481400-1765481400@www.mallorcasunshineradio.com
SUMMARY:Hungarian Dinner in Deià
DESCRIPTION:Groenk Bistro & Grill in Deià hosts a warm Hungarian-themed evening\, serving a three-course menu inspired by traditional home cooking. \nThe dinner includes a vegetable chicken soup\, classic paprika chicken\, and sweet curd crêpes to finish.\nGuests are welcomed with a glass of Pálinka. \nImage Credit: groenk.com
URL:https://www.mallorcasunshineradio.com/event/hungarian-dinner-groenk-deia/
LOCATION:Groenk Bistro & Grill Fornalutx\, Groenk Bistro & Grill Fornalutx. Carrer Arbona-Colom\, 1\, Fornalutx\, Illes Balears\, 07109\, Spain
CATEGORIES:Food & Drink
ATTACH;FMTTYPE=image/png:https://www.mallorcasunshineradio.com/wp-content/uploads/843bed_91ba7519c85c4728981e20e626d19d02mv2.png
END:VEVENT
BEGIN:VEVENT
DTSTART;TZID=Europe/Madrid:20251205T120000
DTEND;TZID=Europe/Madrid:20251205T120000
DTSTAMP:20260425T013043
CREATED:20251204T120504Z
LAST-MODIFIED:20251204T120504Z
UID:15745-1764936000-1764936000@www.mallorcasunshineradio.com
SUMMARY:Winter Delights – Fondue & Goose at Motorworld Mallorca
DESCRIPTION:Motorworld Mallorca invites guests to “Winter Delights – Fondue & Goose\,” a festive lunch featuring traditional roast goose\, warm cheese fondue\, and seasonal winter drinks.\nA relaxed and cosy option for a holiday meal close to the airport\, ideal for friends\, families\, or anyone looking to enjoy a comforting December afternoon.
URL:https://www.mallorcasunshineradio.com/event/winter-delights-fondue-goose-motorworld-mallorca/
LOCATION:Motorworld Mallorca\, Motorworld Mallorca. Camí Vell de Llucmajor\, 112\, Palma\, Balearic Islands\, 07007\, Spain
CATEGORIES:Christmas,Food & Drink
ATTACH;FMTTYPE=image/webp:https://www.mallorcasunshineradio.com/wp-content/uploads/Winter_Delights_Motorworld.jpg.webp
END:VEVENT
BEGIN:VEVENT
DTSTART;TZID=Europe/Madrid:20251129T190000
DTEND;TZID=Europe/Madrid:20251129T190000
DTSTAMP:20260425T013043
CREATED:20251127T130040Z
LAST-MODIFIED:20251127T181540Z
UID:15483-1764442800-1764442800@www.mallorcasunshineradio.com
SUMMARY:BBQ Night @ Motorworld Mallorca
DESCRIPTION:Enjoy a relaxed live BBQ evening with an aperitif\, good wines\, chilled drinks\, and live music — a flavourful way to start the night in Palma. \nImage: mallorca.motorworld-inn.de
URL:https://www.mallorcasunshineradio.com/event/bbq-night-motorworld-inn-mallorca-2025/
LOCATION:Motorworld Mallorca\, Motorworld Mallorca. Camí Vell de Llucmajor\, 112\, Palma\, Balearic Islands\, 07007\, Spain
CATEGORIES:Food & Drink,Live Music
ATTACH;FMTTYPE=image/webp:https://www.mallorcasunshineradio.com/wp-content/uploads/BBQ3-1024x1024.jpg.webp
END:VEVENT
BEGIN:VEVENT
DTSTART;TZID=Europe/Madrid:20251128T150000
DTEND;TZID=Europe/Madrid:20251128T150000
DTSTAMP:20260425T013043
CREATED:20251127T123018Z
LAST-MODIFIED:20251127T123018Z
UID:15462-1764342000-1764342000@www.mallorcasunshineradio.com
SUMMARY:Afternoon Tea at Castillo Hotel Son Vida
DESCRIPTION:Enjoy a classic British-style Afternoon Tea in the elegant setting of Castillo Hotel Son Vida.\nThe experience includes freshly baked scones\, a selection of fine teas\, a glass of cava\, macarons\, and a variety of small savoury bites.\nA relaxed way to spend the afternoon in Son Vida. \nImage credit: castillosonvida.hoteltreats.com
URL:https://www.mallorcasunshineradio.com/event/afternoon-tea-castillo-hotel-son-vida-2025/
LOCATION:Castillo Hotel Son Vida\, Carrer Raixa\, 2\, Urbanizacion\, Poniente\, Son Vida\, Illes Balears\, 07013\, Spain
CATEGORIES:Food & Drink,Lifestyle
ATTACH;FMTTYPE=image/webp:https://www.mallorcasunshineradio.com/wp-content/uploads/Hotel_Vida_British_Tea.jpg.webp
END:VEVENT
BEGIN:VEVENT
DTSTART;TZID=Europe/Madrid:20251115T190000
DTEND;TZID=Europe/Madrid:20251115T190000
DTSTAMP:20260425T013043
CREATED:20251114T122155Z
LAST-MODIFIED:20251114T122155Z
UID:15324-1763233200-1763233200@www.mallorcasunshineradio.com
SUMMARY:Tapas and Wine at Motorworld Mallorca
DESCRIPTION:Enjoy an evening where taste meets design at Motorworld Mallorca. Look forward to modern tapas\, creative soul-food dishes\, and a wine tasting hosted by a Mallorcan winemaker. \nImage courtesy of Motorworld Mallorca.
URL:https://www.mallorcasunshineradio.com/event/tapas-vino-motorworld-mallorca-15-nov/
LOCATION:Motorworld Mallorca\, Motorworld Mallorca. Camí Vell de Llucmajor\, 112\, Palma\, Balearic Islands\, 07007\, Spain
CATEGORIES:Food & Drink,Tapas
ATTACH;FMTTYPE=image/webp:https://www.mallorcasunshineradio.com/wp-content/uploads/Tapas_y_Vinos_Motorworld.webp
END:VEVENT
BEGIN:VEVENT
DTSTART;TZID=Europe/Madrid:20251109T180000
DTEND;TZID=Europe/Madrid:20251109T180000
DTSTAMP:20260425T013043
CREATED:20251106T110920Z
LAST-MODIFIED:20251106T110920Z
UID:15202-1762711200-1762711200@www.mallorcasunshineradio.com
SUMMARY:Last Day of the Tapas Route TaPalma
DESCRIPTION:On the last day of the Tapas Route TaPalma in Palma\, you can enjoy creative tapas and drinks in more than 50 venues — from\nMás Natural in Calle Blanquerna to Born 8 on Paseo del Born. \nImage: tapalma.com
URL:https://www.mallorcasunshineradio.com/event/last-day-tapas-route-tapalma/
LOCATION:C. de Blanquerna\, Calle Blanquerna\, Norte\, Palma\, Illes Balears\, 07003\, Spain
CATEGORIES:Food & Drink,Gastronomy,Tapas
ATTACH;FMTTYPE=image/webp:https://www.mallorcasunshineradio.com/wp-content/uploads/tapalma_tapalma.com_.webp
ORGANIZER;CN="TaPalma":MAILTO:tapalma@agenciacom.com
END:VEVENT
END:VCALENDAR