BEGIN:VCALENDAR
VERSION:2.0
PRODID:-//Mallorca Sunshine Radio - ECPv6.15.20//NONSGML v1.0//EN
CALSCALE:GREGORIAN
METHOD:PUBLISH
X-ORIGINAL-URL:https://www.mallorcasunshineradio.com
X-WR-CALDESC:Events for Mallorca Sunshine Radio
REFRESH-INTERVAL;VALUE=DURATION:PT1H
X-Robots-Tag:noindex
X-PUBLISHED-TTL:PT1H
BEGIN:VTIMEZONE
TZID:Europe/Madrid
BEGIN:DAYLIGHT
TZOFFSETFROM:+0100
TZOFFSETTO:+0200
TZNAME:CEST
DTSTART:20250330T010000
END:DAYLIGHT
BEGIN:STANDARD
TZOFFSETFROM:+0200
TZOFFSETTO:+0100
TZNAME:CET
DTSTART:20251026T010000
END:STANDARD
BEGIN:DAYLIGHT
TZOFFSETFROM:+0100
TZOFFSETTO:+0200
TZNAME:CEST
DTSTART:20260329T010000
END:DAYLIGHT
BEGIN:STANDARD
TZOFFSETFROM:+0200
TZOFFSETTO:+0100
TZNAME:CET
DTSTART:20261025T010000
END:STANDARD
BEGIN:DAYLIGHT
TZOFFSETFROM:+0100
TZOFFSETTO:+0200
TZNAME:CEST
DTSTART:20270328T010000
END:DAYLIGHT
BEGIN:STANDARD
TZOFFSETFROM:+0200
TZOFFSETTO:+0100
TZNAME:CET
DTSTART:20271031T010000
END:STANDARD
END:VTIMEZONE
BEGIN:VEVENT
DTSTART;TZID=Europe/Madrid:20260315T100000
DTEND;TZID=Europe/Madrid:20260315T100000
DTSTAMP:20260425T134805
CREATED:20260312T181127Z
LAST-MODIFIED:20260312T181127Z
UID:16855-1773568800-1773568800@www.mallorcasunshineradio.com
SUMMARY:Breakfast Club at Motorworld Mallorca in Palma
DESCRIPTION:Start the day with an extensive breakfast at Motorworld Mallorca in Palma. While enjoying fresh bread rolls and scrambled eggs\, visitors can also listen to a DJ set. \nImage credit: mallorca.motorworld-inn.de
URL:https://www.mallorcasunshineradio.com/event/breakfast-club-motorworld-mallorca-palma/
LOCATION:Motorworld Mallorca\, Motorworld Mallorca. Camí Vell de Llucmajor\, 112\, Palma\, Balearic Islands\, 07007\, Spain
CATEGORIES:Brunch,DJ,Food & Drink
ATTACH;FMTTYPE=image/webp:https://www.mallorcasunshineradio.com/wp-content/uploads/Breakfast-Club_Motorworld_Inn.webp
END:VEVENT
BEGIN:VEVENT
DTSTART;TZID=Europe/Madrid:20260319T110000
DTEND;TZID=Europe/Madrid:20260319T110000
DTSTAMP:20260425T134805
CREATED:20260308T222956Z
LAST-MODIFIED:20260308T222956Z
UID:16778-1773918000-1773918000@www.mallorcasunshineradio.com
SUMMARY:Guided Tour at S’Hort de Sa Vall Estate near Manacor
DESCRIPTION:Guided tour at the S’Hort de Sa Vall estate near Manacor. \nYou will learn about seasonal agriculture and the winery\, and once you get hungry you can taste the fresh products during the live cooking. \nImage credit: hortdesavall.com
URL:https://www.mallorcasunshineradio.com/event/guided-tour-short-de-sa-vall-manacor/
LOCATION:s’Hort de sa Vall\, Poligono 27\, parcela 41\, Manacor\, Illes Balears\, 07500\, Spain
CATEGORIES:Food & Drink,Local Experience,Tour
ATTACH;FMTTYPE=image/webp:https://www.mallorcasunshineradio.com/wp-content/uploads/hort_del_sall.webp
END:VEVENT
END:VCALENDAR