BEGIN:VCALENDAR
VERSION:2.0
PRODID:-//Mallorca Sunshine Radio - ECPv6.15.20//NONSGML v1.0//EN
CALSCALE:GREGORIAN
METHOD:PUBLISH
X-WR-CALNAME:Mallorca Sunshine Radio
X-ORIGINAL-URL:https://www.mallorcasunshineradio.com
X-WR-CALDESC:Events for Mallorca Sunshine Radio
REFRESH-INTERVAL;VALUE=DURATION:PT1H
X-Robots-Tag:noindex
X-PUBLISHED-TTL:PT1H
BEGIN:VTIMEZONE
TZID:Europe/Madrid
BEGIN:DAYLIGHT
TZOFFSETFROM:+0100
TZOFFSETTO:+0200
TZNAME:CEST
DTSTART:20240331T010000
END:DAYLIGHT
BEGIN:STANDARD
TZOFFSETFROM:+0200
TZOFFSETTO:+0100
TZNAME:CET
DTSTART:20241027T010000
END:STANDARD
BEGIN:DAYLIGHT
TZOFFSETFROM:+0100
TZOFFSETTO:+0200
TZNAME:CEST
DTSTART:20250330T010000
END:DAYLIGHT
BEGIN:STANDARD
TZOFFSETFROM:+0200
TZOFFSETTO:+0100
TZNAME:CET
DTSTART:20251026T010000
END:STANDARD
BEGIN:DAYLIGHT
TZOFFSETFROM:+0100
TZOFFSETTO:+0200
TZNAME:CEST
DTSTART:20260329T010000
END:DAYLIGHT
BEGIN:STANDARD
TZOFFSETFROM:+0200
TZOFFSETTO:+0100
TZNAME:CET
DTSTART:20261025T010000
END:STANDARD
END:VTIMEZONE
BEGIN:VEVENT
DTSTART;TZID=Europe/Madrid:20251104T190000
DTEND;TZID=Europe/Madrid:20251104T190000
DTSTAMP:20260425T044714
CREATED:20251024T000621Z
LAST-MODIFIED:20251029T222540Z
UID:15021-1762282800-1762282800@www.mallorcasunshineradio.com
SUMMARY:CorreVins Tapas Route @ Palma Centre
DESCRIPTION:Discover Palma’s lively wine and tapas route “CorreVins\,” where local bars around the old town invite you to enjoy a variety of wines paired with delicious small bites. \nIt’s a relaxed evening for tasting\, chatting\, and exploring new flavors glass by glass.
URL:https://www.mallorcasunshineradio.com/event/correvins-tapas-route-palma-centre-11-04/
LOCATION:Palma Centre\, Plaça Raimundo Clar\, Palma\, Balearic Islands\, 07002\, Spain
CATEGORIES:Food,Gastronomy,Wine,Wine & Tapas
ATTACH;FMTTYPE=image/jpeg:https://www.mallorcasunshineradio.com/wp-content/uploads/correvins-centre.jpg
END:VEVENT
BEGIN:VEVENT
DTSTART;TZID=Europe/Madrid:20251109T180000
DTEND;TZID=Europe/Madrid:20251109T180000
DTSTAMP:20260425T044714
CREATED:20251106T110920Z
LAST-MODIFIED:20251106T110920Z
UID:15202-1762711200-1762711200@www.mallorcasunshineradio.com
SUMMARY:Last Day of the Tapas Route TaPalma
DESCRIPTION:On the last day of the Tapas Route TaPalma in Palma\, you can enjoy creative tapas and drinks in more than 50 venues — from\nMás Natural in Calle Blanquerna to Born 8 on Paseo del Born. \nImage: tapalma.com
URL:https://www.mallorcasunshineradio.com/event/last-day-tapas-route-tapalma/
LOCATION:C. de Blanquerna\, Calle Blanquerna\, Norte\, Palma\, Illes Balears\, 07003\, Spain
CATEGORIES:Food & Drink,Gastronomy,Tapas
ATTACH;FMTTYPE=image/webp:https://www.mallorcasunshineradio.com/wp-content/uploads/tapalma_tapalma.com_.webp
ORGANIZER;CN="TaPalma":MAILTO:tapalma@agenciacom.com
END:VEVENT
BEGIN:VEVENT
DTSTART;TZID=Europe/Madrid:20251111T190000
DTEND;TZID=Europe/Madrid:20251111T190000
DTSTAMP:20260425T044714
CREATED:20251024T000945Z
LAST-MODIFIED:20251029T222627Z
UID:15023-1762887600-1762887600@www.mallorcasunshineradio.com
SUMMARY:CorreVins Tapas Route @ Palma Centre
DESCRIPTION:Discover Palma’s lively wine and tapas route “CorreVins\,” where local bars around the old town invite you to enjoy a variety of wines paired with delicious small bites. \nIt’s a relaxed evening for tasting\, chatting\, and exploring new flavors glass by glass.
URL:https://www.mallorcasunshineradio.com/event/correvins-tapas-route-palma-centre-11-11/
LOCATION:Palma Centre\, Plaça Raimundo Clar\, Palma\, Balearic Islands\, 07002\, Spain
CATEGORIES:Food,Gastronomy,Wine,Wine & Tapas
ATTACH;FMTTYPE=image/jpeg:https://www.mallorcasunshineradio.com/wp-content/uploads/correvins-centre.jpg
END:VEVENT
BEGIN:VEVENT
DTSTART;TZID=Europe/Madrid:20251118T190000
DTEND;TZID=Europe/Madrid:20251118T190000
DTSTAMP:20260425T044714
CREATED:20251029T222652Z
LAST-MODIFIED:20251029T222652Z
UID:15108-1763492400-1763492400@www.mallorcasunshineradio.com
SUMMARY:CorreVins Tapas Route @ Palma Centre
DESCRIPTION:Discover Palma’s lively wine and tapas route “CorreVins\,” where local bars around the old town invite you to enjoy a variety of wines paired with delicious small bites. \nIt’s a relaxed evening for tasting\, chatting\, and exploring new flavors glass by glass.
URL:https://www.mallorcasunshineradio.com/event/correvins-tapas-route-palma-centre-11-18/
LOCATION:Palma Centre\, Plaça Raimundo Clar\, Palma\, Balearic Islands\, 07002\, Spain
CATEGORIES:Food,Gastronomy,Wine,Wine & Tapas
ATTACH;FMTTYPE=image/jpeg:https://www.mallorcasunshineradio.com/wp-content/uploads/correvins-centre.jpg
END:VEVENT
BEGIN:VEVENT
DTSTART;TZID=Europe/Madrid:20251129T183000
DTEND;TZID=Europe/Madrid:20251129T183000
DTSTAMP:20260425T044714
CREATED:20251107T231228Z
LAST-MODIFIED:20251107T231228Z
UID:15212-1764441000-1764441000@www.mallorcasunshineradio.com
SUMMARY:Wine Tasting “Vins a Calvià”
DESCRIPTION:On the Plaça de l’Església in Calvià\, you can taste ten selected wines\, receive a souvenir glass and a voucher for purchasing wine on site. \nImage: somdemallorca.com
URL:https://www.mallorcasunshineradio.com/event/vins-a-calvia-wine-tasting/
LOCATION:Plaça de l’Església\, Calvia\, Plaça de l’Església\, 1\, Calvià\, Illes Balears\, 07184\, Spain
CATEGORIES:Culture,Gastronomy,Wine
ATTACH;FMTTYPE=image/webp:https://www.mallorcasunshineradio.com/wp-content/uploads/Calvia_som_de_mallorca.webp
END:VEVENT
END:VCALENDAR