BEGIN:VCALENDAR
VERSION:2.0
PRODID:-//Mallorca Sunshine Radio - ECPv6.15.20//NONSGML v1.0//EN
CALSCALE:GREGORIAN
METHOD:PUBLISH
X-ORIGINAL-URL:https://www.mallorcasunshineradio.com
X-WR-CALDESC:Events for Mallorca Sunshine Radio
REFRESH-INTERVAL;VALUE=DURATION:PT1H
X-Robots-Tag:noindex
X-PUBLISHED-TTL:PT1H
BEGIN:VTIMEZONE
TZID:Europe/Madrid
BEGIN:DAYLIGHT
TZOFFSETFROM:+0100
TZOFFSETTO:+0200
TZNAME:CEST
DTSTART:20240331T010000
END:DAYLIGHT
BEGIN:STANDARD
TZOFFSETFROM:+0200
TZOFFSETTO:+0100
TZNAME:CET
DTSTART:20241027T010000
END:STANDARD
BEGIN:DAYLIGHT
TZOFFSETFROM:+0100
TZOFFSETTO:+0200
TZNAME:CEST
DTSTART:20250330T010000
END:DAYLIGHT
BEGIN:STANDARD
TZOFFSETFROM:+0200
TZOFFSETTO:+0100
TZNAME:CET
DTSTART:20251026T010000
END:STANDARD
BEGIN:DAYLIGHT
TZOFFSETFROM:+0100
TZOFFSETTO:+0200
TZNAME:CEST
DTSTART:20260329T010000
END:DAYLIGHT
BEGIN:STANDARD
TZOFFSETFROM:+0200
TZOFFSETTO:+0100
TZNAME:CET
DTSTART:20261025T010000
END:STANDARD
BEGIN:DAYLIGHT
TZOFFSETFROM:+0100
TZOFFSETTO:+0200
TZNAME:CEST
DTSTART:20270328T010000
END:DAYLIGHT
BEGIN:STANDARD
TZOFFSETFROM:+0200
TZOFFSETTO:+0100
TZNAME:CET
DTSTART:20271031T010000
END:STANDARD
END:VTIMEZONE
BEGIN:VEVENT
DTSTART;TZID=Europe/Madrid:20260421T150000
DTEND;TZID=Europe/Madrid:20260421T180000
DTSTAMP:20260424T202628
CREATED:20260410T124448Z
LAST-MODIFIED:20260410T124448Z
UID:17217-1776783600-1776794400@www.mallorcasunshineradio.com
SUMMARY:CorreVins Wine & Tapas Route @ Palma Centre
DESCRIPTION:Discover Palma’s lively wine and tapas route “CorreVins\,” where local bars around the old town invite you to enjoy a variety of wines paired with delicious small bites. \nIt’s a relaxed evening for tasting\, chatting\, and exploring new flavors glass by glass.
URL:https://www.mallorcasunshineradio.com/event/correvins-tapas-route-palma-centre-2104/
LOCATION:Palma Centre\, Plaça Raimundo Clar\, Palma\, Balearic Islands\, 07002\, Spain
CATEGORIES:Food,Gastronomy,Wine,Wine & Tapas
ATTACH;FMTTYPE=image/jpeg:https://www.mallorcasunshineradio.com/wp-content/uploads/correvins.jpg
END:VEVENT
BEGIN:VEVENT
DTSTART;TZID=Europe/Madrid:20260414T150000
DTEND;TZID=Europe/Madrid:20260414T180000
DTSTAMP:20260424T202628
CREATED:20260410T124407Z
LAST-MODIFIED:20260410T124418Z
UID:17213-1776178800-1776189600@www.mallorcasunshineradio.com
SUMMARY:CorreVins Wine & Tapas Route @ Palma Centre
DESCRIPTION:Discover Palma’s lively wine and tapas route “CorreVins\,” where local bars around the old town invite you to enjoy a variety of wines paired with delicious small bites. \nIt’s a relaxed evening for tasting\, chatting\, and exploring new flavors glass by glass.
URL:https://www.mallorcasunshineradio.com/event/correvins-tapas-route-palma-centre-1404/
LOCATION:Palma Centre\, Plaça Raimundo Clar\, Palma\, Balearic Islands\, 07002\, Spain
CATEGORIES:Food,Gastronomy,Wine,Wine & Tapas
ATTACH;FMTTYPE=image/jpeg:https://www.mallorcasunshineradio.com/wp-content/uploads/correvins.jpg
END:VEVENT
BEGIN:VEVENT
DTSTART;TZID=Europe/Madrid:20260325T200000
DTEND;TZID=Europe/Madrid:20260325T200000
DTSTAMP:20260424T202628
CREATED:20260322T224217Z
LAST-MODIFIED:20260322T224217Z
UID:16982-1774468800-1774468800@www.mallorcasunshineradio.com
SUMMARY:Exclusive menu at Arume Sake Bar in Palma
DESCRIPTION:Fresh sushi of the highest quality\, oyster tempura and a Mallorcan touch. The menu has been specially created for Restaurant Week and combines Japanese cuisine with Mediterranean cuisine. \nImage credit: restaurant-week.es
URL:https://www.mallorcasunshineradio.com/event/arume-sake-bar-restaurant-week-menu/
LOCATION:Arume Sake Bar\, Arume Sake Bar. Avinguda Argentina\, 6\, Ponent\, Palma\, Illes Balears\, 7013\, Spain
CATEGORIES:Food,Gastronomy,Restaurant
ATTACH;FMTTYPE=image/webp:https://www.mallorcasunshineradio.com/wp-content/uploads/restaurant_week_sushi.webp
END:VEVENT
BEGIN:VEVENT
DTSTART;TZID=Europe/Madrid:20251231T193000
DTEND;TZID=Europe/Madrid:20251231T193000
DTSTAMP:20260424T202628
CREATED:20251220T130907Z
LAST-MODIFIED:20251219T131225Z
UID:15979-1767209400-1767209400@www.mallorcasunshineradio.com
SUMMARY:Masquerade New Year's Eve @ Can Bordoy Palma
DESCRIPTION:On December 31st\, an air of masked elegance and mystery will drape the entire hotel. \nExquisite gastronomy\, captivating masks\, and an aura of enchantment will immerse you in an evening where luxury intertwines with fantasy. Allow yourself to be seduced by a hypnotic atmosphere created by international musicians\, dancers\, acrobats\, and actors\, featuring world-renowned performances\, including the unmistakable flair of Got Talent finalists. \nThe stage is set for an unforgettable experience\, once again consecrated as Mallorcas most exclusive soirée. Once more\, Can Bordoy works its magic on a night that will remain etched in your memories.\n  \nDress code: Elegant with mask.\nBring the mask you desire\, one that conceals your face and reveals your secret.
URL:https://www.mallorcasunshineradio.com/event/masquerade-new-years-eve-can-bordoy-palma/
LOCATION:Can Bordoy\, Palma
CATEGORIES:Food & Drink,Gastronomy,New Year
ATTACH;FMTTYPE=image/jpeg:https://www.mallorcasunshineradio.com/wp-content/uploads/Masquerade2025withshowsEN-3.jpg
END:VEVENT
BEGIN:VEVENT
DTSTART;TZID=Europe/Madrid:20251225T130000
DTEND;TZID=Europe/Madrid:20251225T130000
DTSTAMP:20260424T202628
CREATED:20251219T130033Z
LAST-MODIFIED:20251219T131057Z
UID:15972-1766667600-1766667600@www.mallorcasunshineradio.com
SUMMARY:Christmas Day Special Route @ Can Bordoy Palma
DESCRIPTION:Celebrate Christmas Day at Botanic with a unique culinary journey\, where the flavours of land and sea come together to honour tradition reimagined with Mallorcan soul and contemporary creativity.
URL:https://www.mallorcasunshineradio.com/event/christmas-day-special-route-can-bordoy-palma/
LOCATION:Can Bordoy\, Palma
CATEGORIES:Food & Drink,Gastronomy
ATTACH;FMTTYPE=image/jpeg:https://www.mallorcasunshineradio.com/wp-content/uploads/NAVIDAD_COMPLETO_INGLES-1.jpg
END:VEVENT
BEGIN:VEVENT
DTSTART;TZID=Europe/Madrid:20251224T190000
DTEND;TZID=Europe/Madrid:20251224T190000
DTSTAMP:20260424T202628
CREATED:20251219T130300Z
LAST-MODIFIED:20251219T130953Z
UID:15977-1766602800-1766602800@www.mallorcasunshineradio.com
SUMMARY:Christmas Eve @ Can Bordoy Palma
DESCRIPTION:This year\, celebrate Christmas the Botanic way. A culinary journey that brings together nature\, local produce and creative cuisine in every bite. soul and sophistication.
URL:https://www.mallorcasunshineradio.com/event/christmas-eve-can-bordoy-palma/
LOCATION:Can Bordoy\, Palma
CATEGORIES:Food & Drink,Gastronomy
ATTACH;FMTTYPE=image/jpeg:https://www.mallorcasunshineradio.com/wp-content/uploads/NOCHEBUENA_COMPLETO_INGLES-1.jpg
END:VEVENT
BEGIN:VEVENT
DTSTART;TZID=Europe/Madrid:20251224T133000
DTEND;TZID=Europe/Madrid:20251224T133000
DTSTAMP:20260424T202628
CREATED:20251221T150514Z
LAST-MODIFIED:20251221T150711Z
UID:15983-1766583000-1766583000@www.mallorcasunshineradio.com
SUMMARY:Christmas Afternoon @ Gastro Bar Angélica Pastrana
DESCRIPTION:Angélica Pastrana invites you to partake in a distinguished afternoon on December 24\, commencing at 1:30 p.m. \nThis occacion will feature a unique fusion menu crafted by GastroBar\, under the expertise of Angélica Pastrana\, complemented by tine wine and delightful music. \nJoin them for an experience where creativity and flavor unite to create unforgettable gathering. \nFor additional information and reservations call +34 699 70 45 02.
URL:https://www.mallorcasunshineradio.com/event/christmas-afternoon-gastro-bar-angelica-pastrana/
LOCATION:GastroBar by Angélica Pastrana\, Camí de Son Rapinya\, 48\, Ponent\, Palma de Mallorca\, Baleares\, 07013\, Spain
CATEGORIES:Christmas,Food & Drink,Gastronomy
ATTACH;FMTTYPE=image/jpeg:https://www.mallorcasunshineradio.com/wp-content/uploads/PHOTO-2025-12-19-12-18-34.jpg
END:VEVENT
BEGIN:VEVENT
DTSTART;TZID=Europe/Madrid:20251129T183000
DTEND;TZID=Europe/Madrid:20251129T183000
DTSTAMP:20260424T202628
CREATED:20251107T231228Z
LAST-MODIFIED:20251107T231228Z
UID:15212-1764441000-1764441000@www.mallorcasunshineradio.com
SUMMARY:Wine Tasting “Vins a Calvià”
DESCRIPTION:On the Plaça de l’Església in Calvià\, you can taste ten selected wines\, receive a souvenir glass and a voucher for purchasing wine on site. \nImage: somdemallorca.com
URL:https://www.mallorcasunshineradio.com/event/vins-a-calvia-wine-tasting/
LOCATION:Plaça de l’Església\, Calvia\, Plaça de l’Església\, 1\, Calvià\, Illes Balears\, 07184\, Spain
CATEGORIES:Culture,Gastronomy,Wine
ATTACH;FMTTYPE=image/webp:https://www.mallorcasunshineradio.com/wp-content/uploads/Calvia_som_de_mallorca.webp
END:VEVENT
BEGIN:VEVENT
DTSTART;TZID=Europe/Madrid:20251118T190000
DTEND;TZID=Europe/Madrid:20251118T190000
DTSTAMP:20260424T202628
CREATED:20251029T222652Z
LAST-MODIFIED:20251029T222652Z
UID:15108-1763492400-1763492400@www.mallorcasunshineradio.com
SUMMARY:CorreVins Tapas Route @ Palma Centre
DESCRIPTION:Discover Palma’s lively wine and tapas route “CorreVins\,” where local bars around the old town invite you to enjoy a variety of wines paired with delicious small bites. \nIt’s a relaxed evening for tasting\, chatting\, and exploring new flavors glass by glass.
URL:https://www.mallorcasunshineradio.com/event/correvins-tapas-route-palma-centre-11-18/
LOCATION:Palma Centre\, Plaça Raimundo Clar\, Palma\, Balearic Islands\, 07002\, Spain
CATEGORIES:Food,Gastronomy,Wine,Wine & Tapas
ATTACH;FMTTYPE=image/jpeg:https://www.mallorcasunshineradio.com/wp-content/uploads/correvins-centre.jpg
END:VEVENT
BEGIN:VEVENT
DTSTART;TZID=Europe/Madrid:20251111T190000
DTEND;TZID=Europe/Madrid:20251111T190000
DTSTAMP:20260424T202628
CREATED:20251024T000945Z
LAST-MODIFIED:20251029T222627Z
UID:15023-1762887600-1762887600@www.mallorcasunshineradio.com
SUMMARY:CorreVins Tapas Route @ Palma Centre
DESCRIPTION:Discover Palma’s lively wine and tapas route “CorreVins\,” where local bars around the old town invite you to enjoy a variety of wines paired with delicious small bites. \nIt’s a relaxed evening for tasting\, chatting\, and exploring new flavors glass by glass.
URL:https://www.mallorcasunshineradio.com/event/correvins-tapas-route-palma-centre-11-11/
LOCATION:Palma Centre\, Plaça Raimundo Clar\, Palma\, Balearic Islands\, 07002\, Spain
CATEGORIES:Food,Gastronomy,Wine,Wine & Tapas
ATTACH;FMTTYPE=image/jpeg:https://www.mallorcasunshineradio.com/wp-content/uploads/correvins-centre.jpg
END:VEVENT
BEGIN:VEVENT
DTSTART;TZID=Europe/Madrid:20251109T180000
DTEND;TZID=Europe/Madrid:20251109T180000
DTSTAMP:20260424T202628
CREATED:20251106T110920Z
LAST-MODIFIED:20251106T110920Z
UID:15202-1762711200-1762711200@www.mallorcasunshineradio.com
SUMMARY:Last Day of the Tapas Route TaPalma
DESCRIPTION:On the last day of the Tapas Route TaPalma in Palma\, you can enjoy creative tapas and drinks in more than 50 venues — from\nMás Natural in Calle Blanquerna to Born 8 on Paseo del Born. \nImage: tapalma.com
URL:https://www.mallorcasunshineradio.com/event/last-day-tapas-route-tapalma/
LOCATION:C. de Blanquerna\, Calle Blanquerna\, Norte\, Palma\, Illes Balears\, 07003\, Spain
CATEGORIES:Food & Drink,Gastronomy,Tapas
ATTACH;FMTTYPE=image/webp:https://www.mallorcasunshineradio.com/wp-content/uploads/tapalma_tapalma.com_.webp
ORGANIZER;CN="TaPalma":MAILTO:tapalma@agenciacom.com
END:VEVENT
BEGIN:VEVENT
DTSTART;TZID=Europe/Madrid:20251104T190000
DTEND;TZID=Europe/Madrid:20251104T190000
DTSTAMP:20260424T202628
CREATED:20251024T000621Z
LAST-MODIFIED:20251029T222540Z
UID:15021-1762282800-1762282800@www.mallorcasunshineradio.com
SUMMARY:CorreVins Tapas Route @ Palma Centre
DESCRIPTION:Discover Palma’s lively wine and tapas route “CorreVins\,” where local bars around the old town invite you to enjoy a variety of wines paired with delicious small bites. \nIt’s a relaxed evening for tasting\, chatting\, and exploring new flavors glass by glass.
URL:https://www.mallorcasunshineradio.com/event/correvins-tapas-route-palma-centre-11-04/
LOCATION:Palma Centre\, Plaça Raimundo Clar\, Palma\, Balearic Islands\, 07002\, Spain
CATEGORIES:Food,Gastronomy,Wine,Wine & Tapas
ATTACH;FMTTYPE=image/jpeg:https://www.mallorcasunshineradio.com/wp-content/uploads/correvins-centre.jpg
END:VEVENT
BEGIN:VEVENT
DTSTART;TZID=Europe/Madrid:20251029T160000
DTEND;TZID=Europe/Madrid:20251029T160000
DTSTAMP:20260424T202628
CREATED:20251024T002111Z
LAST-MODIFIED:20251024T002212Z
UID:15025-1761753600-1761753600@www.mallorcasunshineradio.com
SUMMARY:Tapas & Music Night with Roberto Galli @ Can Julià
DESCRIPTION:Tapas and live music with Roberto Galli. Tango\, Boogie\, Blues\, Rock’n’Roll and Swing Classics.
URL:https://www.mallorcasunshineradio.com/event/tapas-music-night-with-roberto-galli-can-julia/
LOCATION:Can Julia Restaurant\, C/ Joan Massanet 42\, Son Servera\, Balearic Islands\, 07550\, Spain
CATEGORIES:Food,Gastronomy,Live Music
ATTACH;FMTTYPE=image/webp:https://www.mallorcasunshineradio.com/wp-content/uploads/Roberto_Galli_Restaurant_Can_Julia.webp
END:VEVENT
BEGIN:VEVENT
DTSTART;TZID=Europe/Madrid:20251028T200000
DTEND;TZID=Europe/Madrid:20251028T200000
DTSTAMP:20260424T202628
CREATED:20251024T000526Z
LAST-MODIFIED:20251024T000855Z
UID:15015-1761681600-1761681600@www.mallorcasunshineradio.com
SUMMARY:CorreVins Tapas Route @ Palma Centre
DESCRIPTION:Discover Palma’s lively wine and tapas route “CorreVins\,” where local bars around the old town invite you to enjoy a variety of wines paired with delicious small bites. \nIt’s a relaxed evening for tasting\, chatting\, and exploring new flavors glass by glass.
URL:https://www.mallorcasunshineradio.com/event/correvins-tapas-route-palma-centre/
LOCATION:Palma Centre\, Plaça Raimundo Clar\, Palma\, Balearic Islands\, 07002\, Spain
CATEGORIES:Food,Gastronomy,Wine,Wine & Tapas
ATTACH;FMTTYPE=image/jpeg:https://www.mallorcasunshineradio.com/wp-content/uploads/correvins-centre.jpg
END:VEVENT
BEGIN:VEVENT
DTSTART;TZID=Europe/Madrid:20251022T190000
DTEND;TZID=Europe/Madrid:20251022T190000
DTSTAMP:20260424T202628
CREATED:20251021T211303Z
LAST-MODIFIED:20251021T211303Z
UID:14976-1761159600-1761159600@www.mallorcasunshineradio.com
SUMMARY:CorreVins Tapas Route in Palma
DESCRIPTION:Discover Palma’s lively wine and tapas route “CorreVins\,” where local bars around Calle Blanquerna invite you to enjoy a variety of wines paired with delicious small bites. \nIt’s a relaxed evening for tasting\, chatting\, and exploring new flavors glass by glass.
URL:https://www.mallorcasunshineradio.com/event/correvins-tapas-route-palma-october-2025/
LOCATION:C. de Blanquerna\, Calle Blanquerna\, Norte\, Palma\, Illes Balears\, 07003\, Spain
CATEGORIES:Gastronomy,Wine & Tapas
ATTACH;FMTTYPE=image/jpeg:https://www.mallorcasunshineradio.com/wp-content/uploads/WhatsApp-Image-2025-10-16-at-20.07.44.jpeg
END:VEVENT
END:VCALENDAR