BEGIN:VCALENDAR
VERSION:2.0
PRODID:-//Mallorca Sunshine Radio - ECPv6.15.20//NONSGML v1.0//EN
CALSCALE:GREGORIAN
METHOD:PUBLISH
X-WR-CALNAME:Mallorca Sunshine Radio
X-ORIGINAL-URL:https://www.mallorcasunshineradio.com
X-WR-CALDESC:Events for Mallorca Sunshine Radio
REFRESH-INTERVAL;VALUE=DURATION:PT1H
X-Robots-Tag:noindex
X-PUBLISHED-TTL:PT1H
BEGIN:VTIMEZONE
TZID:Europe/Madrid
BEGIN:DAYLIGHT
TZOFFSETFROM:+0100
TZOFFSETTO:+0200
TZNAME:CEST
DTSTART:20240331T010000
END:DAYLIGHT
BEGIN:STANDARD
TZOFFSETFROM:+0200
TZOFFSETTO:+0100
TZNAME:CET
DTSTART:20241027T010000
END:STANDARD
BEGIN:DAYLIGHT
TZOFFSETFROM:+0100
TZOFFSETTO:+0200
TZNAME:CEST
DTSTART:20250330T010000
END:DAYLIGHT
BEGIN:STANDARD
TZOFFSETFROM:+0200
TZOFFSETTO:+0100
TZNAME:CET
DTSTART:20251026T010000
END:STANDARD
BEGIN:DAYLIGHT
TZOFFSETFROM:+0100
TZOFFSETTO:+0200
TZNAME:CEST
DTSTART:20260329T010000
END:DAYLIGHT
BEGIN:STANDARD
TZOFFSETFROM:+0200
TZOFFSETTO:+0100
TZNAME:CET
DTSTART:20261025T010000
END:STANDARD
END:VTIMEZONE
BEGIN:VEVENT
DTSTART;TZID=Europe/Madrid:20251205T230000
DTEND;TZID=Europe/Madrid:20251205T230000
DTSTAMP:20260425T023238
CREATED:20251204T171846Z
LAST-MODIFIED:20251204T171846Z
UID:15748-1764975600-1764975600@www.mallorcasunshineradio.com
SUMMARY:Reboot by Voodoo at AMØK
DESCRIPTION:AMØK hosts the “Reboot by Voodoo” night — a gathering for those who enjoy deep\, underground sounds. \nExpect a Tech-House–driven session and a long club night on the dancefloor in S’Aranjassa. \nImage: amokmallorca.com
URL:https://www.mallorcasunshineradio.com/event/reboot-by-voodoo-amok-2025/
LOCATION:AMOK Club\, AMØK Club | Discoteca en Mallorca. C. de\, Km 10\, Levante\, S'Aranjassa\, Illes Balears\, 07199\, Spain
CATEGORIES:electronic,House,Nightlife,Techno
ATTACH;FMTTYPE=image/webp:https://www.mallorcasunshineradio.com/wp-content/uploads/Amok_Reboot_Party.jpg.webp
END:VEVENT
END:VCALENDAR