BEGIN:VCALENDAR
VERSION:2.0
PRODID:-//Mallorca Sunshine Radio - ECPv6.15.20//NONSGML v1.0//EN
CALSCALE:GREGORIAN
METHOD:PUBLISH
X-WR-CALNAME:Mallorca Sunshine Radio
X-ORIGINAL-URL:https://www.mallorcasunshineradio.com
X-WR-CALDESC:Events for Mallorca Sunshine Radio
REFRESH-INTERVAL;VALUE=DURATION:PT1H
X-Robots-Tag:noindex
X-PUBLISHED-TTL:PT1H
BEGIN:VTIMEZONE
TZID:Europe/Madrid
BEGIN:DAYLIGHT
TZOFFSETFROM:+0100
TZOFFSETTO:+0200
TZNAME:CEST
DTSTART:20250330T010000
END:DAYLIGHT
BEGIN:STANDARD
TZOFFSETFROM:+0200
TZOFFSETTO:+0100
TZNAME:CET
DTSTART:20251026T010000
END:STANDARD
BEGIN:DAYLIGHT
TZOFFSETFROM:+0100
TZOFFSETTO:+0200
TZNAME:CEST
DTSTART:20260329T010000
END:DAYLIGHT
BEGIN:STANDARD
TZOFFSETFROM:+0200
TZOFFSETTO:+0100
TZNAME:CET
DTSTART:20261025T010000
END:STANDARD
BEGIN:DAYLIGHT
TZOFFSETFROM:+0100
TZOFFSETTO:+0200
TZNAME:CEST
DTSTART:20270328T010000
END:DAYLIGHT
BEGIN:STANDARD
TZOFFSETFROM:+0200
TZOFFSETTO:+0100
TZNAME:CET
DTSTART:20271031T010000
END:STANDARD
END:VTIMEZONE
BEGIN:VEVENT
DTSTART;TZID=Europe/Madrid:20260101T001500
DTEND;TZID=Europe/Madrid:20260101T060000
DTSTAMP:20260424T230316
CREATED:20251229T000433Z
LAST-MODIFIED:20251229T133328Z
UID:16043-1767226500-1767247200@www.mallorcasunshineradio.com
SUMMARY:New Year’s Eve Party at Motorworld Mallorca
DESCRIPTION:Here you can dance on two floors\, depending on your mood: Reggaeton on one\, and Techno and House on the other. One drink is already included in the price. The night gets underway at 12:15 AM. \nImage credit: Garashofc / Instagram
URL:https://www.mallorcasunshineradio.com/event/new-years-eve-party-motorworld-mallorca-2025/
LOCATION:Motorworld Mallorca\, Motorworld Mallorca. Camí Vell de Llucmajor\, 112\, Palma\, Balearic Islands\, 07007\, Spain
CATEGORIES:Club Night,House,Music
ATTACH;FMTTYPE=image/jpeg:https://www.mallorcasunshineradio.com/wp-content/uploads/vigilia_garash_motorworld.jpg
END:VEVENT
END:VCALENDAR