BEGIN:VCALENDAR
VERSION:2.0
PRODID:-//Mallorca Sunshine Radio - ECPv6.15.20//NONSGML v1.0//EN
CALSCALE:GREGORIAN
METHOD:PUBLISH
X-WR-CALNAME:Mallorca Sunshine Radio
X-ORIGINAL-URL:https://www.mallorcasunshineradio.com
X-WR-CALDESC:Events for Mallorca Sunshine Radio
REFRESH-INTERVAL;VALUE=DURATION:PT1H
X-Robots-Tag:noindex
X-PUBLISHED-TTL:PT1H
BEGIN:VTIMEZONE
TZID:Europe/Madrid
BEGIN:DAYLIGHT
TZOFFSETFROM:+0100
TZOFFSETTO:+0200
TZNAME:CEST
DTSTART:20240331T010000
END:DAYLIGHT
BEGIN:STANDARD
TZOFFSETFROM:+0200
TZOFFSETTO:+0100
TZNAME:CET
DTSTART:20241027T010000
END:STANDARD
BEGIN:DAYLIGHT
TZOFFSETFROM:+0100
TZOFFSETTO:+0200
TZNAME:CEST
DTSTART:20250330T010000
END:DAYLIGHT
BEGIN:STANDARD
TZOFFSETFROM:+0200
TZOFFSETTO:+0100
TZNAME:CET
DTSTART:20251026T010000
END:STANDARD
BEGIN:DAYLIGHT
TZOFFSETFROM:+0100
TZOFFSETTO:+0200
TZNAME:CEST
DTSTART:20260329T010000
END:DAYLIGHT
BEGIN:STANDARD
TZOFFSETFROM:+0200
TZOFFSETTO:+0100
TZNAME:CET
DTSTART:20261025T010000
END:STANDARD
END:VTIMEZONE
BEGIN:VEVENT
DTSTART;TZID=Europe/Madrid:20251108T200000
DTEND;TZID=Europe/Madrid:20251108T200000
DTSTAMP:20260425T004946
CREATED:20251106T102721Z
LAST-MODIFIED:20251106T102721Z
UID:15183-1762632000-1762632000@www.mallorcasunshineradio.com
SUMMARY:Vera Fauna in Manacor
DESCRIPTION:The band Vera Fauna from Seville presents their new album live at Can Lliro in Manacor — a mix of indie\, pop and southern folk. \nThey will be joined by Muqawama\, adding North African funk and Afro-jazz to the night.
URL:https://www.mallorcasunshineradio.com/event/vera-fauna-in-manacor/
LOCATION:Can Lliro\, Carrer d'En Joan Lliteras\, 42\, Manacor\, Illes Balears\, 07500\, Spain
CATEGORIES:Folk,Indie,Live Music
ATTACH;FMTTYPE=image/jpeg:https://www.mallorcasunshineradio.com/wp-content/uploads/vera_fauna.jpg
END:VEVENT
END:VCALENDAR