BEGIN:VCALENDAR
VERSION:2.0
PRODID:-//Mallorca Sunshine Radio - ECPv6.15.20//NONSGML v1.0//EN
CALSCALE:GREGORIAN
METHOD:PUBLISH
X-ORIGINAL-URL:https://www.mallorcasunshineradio.com
X-WR-CALDESC:Events for Mallorca Sunshine Radio
REFRESH-INTERVAL;VALUE=DURATION:PT1H
X-Robots-Tag:noindex
X-PUBLISHED-TTL:PT1H
BEGIN:VTIMEZONE
TZID:Europe/Madrid
BEGIN:DAYLIGHT
TZOFFSETFROM:+0100
TZOFFSETTO:+0200
TZNAME:CEST
DTSTART:20240331T010000
END:DAYLIGHT
BEGIN:STANDARD
TZOFFSETFROM:+0200
TZOFFSETTO:+0100
TZNAME:CET
DTSTART:20241027T010000
END:STANDARD
BEGIN:DAYLIGHT
TZOFFSETFROM:+0100
TZOFFSETTO:+0200
TZNAME:CEST
DTSTART:20250330T010000
END:DAYLIGHT
BEGIN:STANDARD
TZOFFSETFROM:+0200
TZOFFSETTO:+0100
TZNAME:CET
DTSTART:20251026T010000
END:STANDARD
BEGIN:DAYLIGHT
TZOFFSETFROM:+0100
TZOFFSETTO:+0200
TZNAME:CEST
DTSTART:20260329T010000
END:DAYLIGHT
BEGIN:STANDARD
TZOFFSETFROM:+0200
TZOFFSETTO:+0100
TZNAME:CET
DTSTART:20261025T010000
END:STANDARD
BEGIN:DAYLIGHT
TZOFFSETFROM:+0100
TZOFFSETTO:+0200
TZNAME:CEST
DTSTART:20270328T010000
END:DAYLIGHT
BEGIN:STANDARD
TZOFFSETFROM:+0200
TZOFFSETTO:+0100
TZNAME:CET
DTSTART:20271031T010000
END:STANDARD
END:VTIMEZONE
BEGIN:VEVENT
DTSTART;TZID=Europe/Madrid:20260423T153000
DTEND;TZID=Europe/Madrid:20260423T153000
DTSTAMP:20260424T142003
CREATED:20260415T235428Z
LAST-MODIFIED:20260419T103704Z
UID:17261-1776958200-1776958200@www.mallorcasunshineradio.com
SUMMARY:Petit Brick Sessions w/ Jane Yo
DESCRIPTION:
URL:https://www.mallorcasunshineradio.com/event/petit-brick-sessions-w-jane-yo/
LOCATION:Brick Bar\, Carrer del Forn d'en Vila\, 3\, Palma de Mallorca\, Balearics\, 07002\, Spain
CATEGORIES:Indie,Live Music
ATTACH;FMTTYPE=image/jpeg:https://www.mallorcasunshineradio.com/wp-content/uploads/petitbrick.jpg
END:VEVENT
BEGIN:VEVENT
DTSTART;TZID=Europe/Madrid:20260116T180000
DTEND;TZID=Europe/Madrid:20260116T180000
DTSTAMP:20260424T142003
CREATED:20260115T023736Z
LAST-MODIFIED:20260115T024027Z
UID:16199-1768586400-1768586400@www.mallorcasunshineradio.com
SUMMARY:Crystal Fighters @ Festes de Sant Sebastià in Palma
DESCRIPTION:Palma’s festival in honor of Sant Sebastià starts with Crystal Fighters Live at Plaça d’Espanya\, including special guests DMASSO\, The Waves\, Tebals and Sideways. 
URL:https://www.mallorcasunshineradio.com/event/crystal-fighters-festes-de-sant-sebastia-in-palma/
LOCATION:Plaza de España\, Pl. d'Espanya\, 1\, Centre\, Palma\, Illes Balears\, 07002\, Spain
CATEGORIES:Festival,Free event,Indie,Live Music,Music
ATTACH;FMTTYPE=image/jpeg:https://www.mallorcasunshineradio.com/wp-content/uploads/615829613_18560429230062766_5509826618704068713_n.jpg
ORGANIZER;CN="Ajuntament de Palma":MAILTO:cultura@palma.es
END:VEVENT
BEGIN:VEVENT
DTSTART;TZID=Europe/Madrid:20251121T220000
DTEND;TZID=Europe/Madrid:20251121T220000
DTSTAMP:20260424T142003
CREATED:20251119T223014Z
LAST-MODIFIED:20251119T223014Z
UID:15405-1763762400-1763762400@www.mallorcasunshineradio.com
SUMMARY:Party Night at Sart Club — Vënkman + Peri DJ
DESCRIPTION:At Sart Club in Inca\, the indie rock band Vënkman teams up with DJ Peri for a lively party night. Expect an energetic mix of live indie rock and DJ sessions to keep the atmosphere going. \nImage credit: Instagram / @sartclubinca
URL:https://www.mallorcasunshineradio.com/event/vaenkman-peri-dj-sart-club-inca/
LOCATION:Sart Club\, SART Club. Carrer de l'Àngel\, 8\, Inca\, Illes Balears\, 07300\, Spain
CATEGORIES:Indie,Live Music,Rock
ATTACH;FMTTYPE=image/webp:https://www.mallorcasunshineradio.com/wp-content/uploads/Sart_Club_Vaenkman.webp
END:VEVENT
BEGIN:VEVENT
DTSTART;TZID=Europe/Madrid:20251108T200000
DTEND;TZID=Europe/Madrid:20251108T200000
DTSTAMP:20260424T142003
CREATED:20251106T102721Z
LAST-MODIFIED:20251106T102721Z
UID:15183-1762632000-1762632000@www.mallorcasunshineradio.com
SUMMARY:Vera Fauna in Manacor
DESCRIPTION:The band Vera Fauna from Seville presents their new album live at Can Lliro in Manacor — a mix of indie\, pop and southern folk. \nThey will be joined by Muqawama\, adding North African funk and Afro-jazz to the night.
URL:https://www.mallorcasunshineradio.com/event/vera-fauna-in-manacor/
LOCATION:Can Lliro\, Carrer d'En Joan Lliteras\, 42\, Manacor\, Illes Balears\, 07500\, Spain
CATEGORIES:Folk,Indie,Live Music
ATTACH;FMTTYPE=image/jpeg:https://www.mallorcasunshineradio.com/wp-content/uploads/vera_fauna.jpg
END:VEVENT
END:VCALENDAR