BEGIN:VCALENDAR
VERSION:2.0
PRODID:-//Mallorca Sunshine Radio - ECPv6.15.20//NONSGML v1.0//EN
CALSCALE:GREGORIAN
METHOD:PUBLISH
X-WR-CALNAME:Mallorca Sunshine Radio
X-ORIGINAL-URL:https://www.mallorcasunshineradio.com
X-WR-CALDESC:Events for Mallorca Sunshine Radio
REFRESH-INTERVAL;VALUE=DURATION:PT1H
X-Robots-Tag:noindex
X-PUBLISHED-TTL:PT1H
BEGIN:VTIMEZONE
TZID:Europe/Madrid
BEGIN:DAYLIGHT
TZOFFSETFROM:+0100
TZOFFSETTO:+0200
TZNAME:CEST
DTSTART:20240331T010000
END:DAYLIGHT
BEGIN:STANDARD
TZOFFSETFROM:+0200
TZOFFSETTO:+0100
TZNAME:CET
DTSTART:20241027T010000
END:STANDARD
BEGIN:DAYLIGHT
TZOFFSETFROM:+0100
TZOFFSETTO:+0200
TZNAME:CEST
DTSTART:20250330T010000
END:DAYLIGHT
BEGIN:STANDARD
TZOFFSETFROM:+0200
TZOFFSETTO:+0100
TZNAME:CET
DTSTART:20251026T010000
END:STANDARD
BEGIN:DAYLIGHT
TZOFFSETFROM:+0100
TZOFFSETTO:+0200
TZNAME:CEST
DTSTART:20260329T010000
END:DAYLIGHT
BEGIN:STANDARD
TZOFFSETFROM:+0200
TZOFFSETTO:+0100
TZNAME:CET
DTSTART:20261025T010000
END:STANDARD
BEGIN:DAYLIGHT
TZOFFSETFROM:+0100
TZOFFSETTO:+0200
TZNAME:CEST
DTSTART:20270328T010000
END:DAYLIGHT
BEGIN:STANDARD
TZOFFSETFROM:+0200
TZOFFSETTO:+0100
TZNAME:CET
DTSTART:20271031T010000
END:STANDARD
END:VTIMEZONE
BEGIN:VEVENT
DTSTART;TZID=Europe/Madrid:20260222T180000
DTEND;TZID=Europe/Madrid:20260222T180000
DTSTAMP:20260424T202204
CREATED:20260215T003942Z
LAST-MODIFIED:20260215T003942Z
UID:16466-1771783200-1771783200@www.mallorcasunshineradio.com
SUMMARY:The Jazz Room at Es Gremi in Palma
DESCRIPTION:Saxophone\, trumpet and world-famous classics such as “On the Sunny Side of the Street” by Jimmy McHugh and “When The Saints Go Marching In” by Louis Armstrong take you back to New Orleans of the 1920s. \nImage credit: esgremi.com
URL:https://www.mallorcasunshineradio.com/event/the-jazz-room-es-gremi-palma/
LOCATION:Es Gremi\, Es Gremi. Gremi de Porgadors\, 16\, Palma\, Balearic Islands\, 07009\, Spain
CATEGORIES:Jazz,Live Music,Music
ATTACH;FMTTYPE=image/webp:https://www.mallorcasunshineradio.com/wp-content/uploads/the_jazz_room_neu.webp
ORGANIZER;CN="Es Gremi":MAILTO:info@esgremi.com
END:VEVENT
BEGIN:VEVENT
DTSTART;TZID=Europe/Madrid:20260205T220000
DTEND;TZID=Europe/Madrid:20260205T220000
DTSTAMP:20260424T202204
CREATED:20260203T223440Z
LAST-MODIFIED:20260203T223440Z
UID:16372-1770328800-1770328800@www.mallorcasunshineradio.com
SUMMARY:Jazz and Soul Show at the Blue Jazz Club
DESCRIPTION:A jazz and soul show by the Mallorcan band Kool Vibes at the Blue Jazz Club in Palma. \nThe evening features soul and jazz performed live in a club setting. \nImage credit: hotelsaratoga.com
URL:https://www.mallorcasunshineradio.com/event/jazz-soul-show-blue-jazz-club-palma/
LOCATION:Blue Jazz Club\, Blue Jazz Club. Paseo Mallorca 6\, Palma\, Illes Balears\, 07012\, Spain
CATEGORIES:Jazz,Live Music,Soul
ATTACH;FMTTYPE=image/webp:https://www.mallorcasunshineradio.com/wp-content/uploads/Blue_Jazz_Club.webp
END:VEVENT
BEGIN:VEVENT
DTSTART;TZID=Europe/Madrid:20251116T210000
DTEND;TZID=Europe/Madrid:20251116T210000
DTSTAMP:20260424T202204
CREATED:20251114T123432Z
LAST-MODIFIED:20251114T123432Z
UID:15329-1763326800-1763326800@www.mallorcasunshineradio.com
SUMMARY:Latin Jazz with Clave y Pa'lante
DESCRIPTION:Clave y Pa’lante bring an evening of groovy Latin jazz to Santa Maria del Camí. Expect a lively mix of percussion\, piano\, bass\, and drums for a night full of rhythm and energy. \nImage courtesy of Facebok / catsmusicjazzclub.
URL:https://www.mallorcasunshineradio.com/event/latin-jazz-clave-palante-16-nov/
LOCATION:Cats Musics Jazz Club\, Carrer Batle Gabriel Mesquida\, Santa Maria del Cami\, Mallorca\, 07320\, Spain
CATEGORIES:Jazz,Latin,Live Music
ATTACH;FMTTYPE=image/jpeg:https://www.mallorcasunshineradio.com/wp-content/uploads/latin_jazz.jpg
END:VEVENT
BEGIN:VEVENT
DTSTART;TZID=Europe/Madrid:20251022T210000
DTEND;TZID=Europe/Madrid:20251022T210000
DTSTAMP:20260424T202204
CREATED:20251021T213159Z
LAST-MODIFIED:20251021T213159Z
UID:14990-1761166800-1761166800@www.mallorcasunshineradio.com
SUMMARY:Jazz Evening with Pepe Ragonese
DESCRIPTION:At the Jazz Lounge in Palma\, enjoy a relaxed evening with jazz music by Pepe Ragonese. Sit back with a drink in hand and let the atmosphere surround you.
URL:https://www.mallorcasunshineradio.com/event/pepe-ragonese-jazz-lounge-palma-oct-2025/
LOCATION:Jazz Lounge Palma\, Carrer dels Apuntadors\, 5\, Centre\, Palma\, Illes Balears\, 07012\, Spain
CATEGORIES:Jazz,Live Music
ATTACH;FMTTYPE=image/webp:https://www.mallorcasunshineradio.com/wp-content/uploads/pepe_ragonese_jazzlounge.jpg.webp
END:VEVENT
BEGIN:VEVENT
DTSTART;TZID=Europe/Madrid:20251017T200000
DTEND;TZID=Europe/Madrid:20251017T200000
DTSTAMP:20260424T202204
CREATED:20251016T211142Z
LAST-MODIFIED:20251016T211142Z
UID:14912-1760731200-1760731200@www.mallorcasunshineradio.com
SUMMARY:Ana Carla Maza Live at Trui Teatre
DESCRIPTION:Experience the vibrant sound of Ana Carla Maza live at Trui Teatre in Palma. The Havana-born cellist and singer blends Latin American jazz\, pop\, rock\, and urban rhythms into a performance full of passion and energy. \nA night of soulful melodies and contagious rhythm awaits.
URL:https://www.mallorcasunshineradio.com/event/ana-carla-maza-trui-teatre-palma-2025/
LOCATION:Trui Teatre\, Palma\, Trui Teatre. Cami Son Rapinya 29\, Palma Mallorca\, Illes Balears\, 0713\, Spain
CATEGORIES:Jazz,Latin,Live Music
ATTACH;FMTTYPE=image/webp:https://www.mallorcasunshineradio.com/wp-content/uploads/Ana-Carla-Maza_truiteatre.es_.png.webp
END:VEVENT
BEGIN:VEVENT
DTSTART;TZID=Europe/Madrid:20250917T210000
DTEND;TZID=Europe/Madrid:20250917T210000
DTSTAMP:20260424T202204
CREATED:20250901T110433Z
LAST-MODIFIED:20250901T110433Z
UID:14576-1758142800-1758142800@www.mallorcasunshineradio.com
SUMMARY:Nits de Flamenc @ Teatre Sans
DESCRIPTION:Flamenco Fusion by Estudi Zero and Palma Flamenco
URL:https://www.mallorcasunshineradio.com/event/nits-de-flamenc-teatre-sans-3/
LOCATION:Teatre Sans\, C/ Can Sanç\, 5\, Palma\, Illes Balears\, 07001\, Spain
CATEGORIES:Dance,Jazz,Music
ATTACH;FMTTYPE=image/jpeg:https://www.mallorcasunshineradio.com/wp-content/uploads/close-up-flamenca-tomados-de-la-mano-sobre-fondo-negro-683x1024-1.jpg
END:VEVENT
BEGIN:VEVENT
DTSTART;TZID=Europe/Madrid:20250910T210000
DTEND;TZID=Europe/Madrid:20250910T210000
DTSTAMP:20260424T202204
CREATED:20250901T110412Z
LAST-MODIFIED:20250901T110412Z
UID:14574-1757538000-1757538000@www.mallorcasunshineradio.com
SUMMARY:Nits de Flamenc @ Teatre Sans
DESCRIPTION:Flamenco Fusion by Estudi Zero and Palma Flamenco
URL:https://www.mallorcasunshineradio.com/event/nits-de-flamenc-teatre-sans-2/
LOCATION:Teatre Sans\, C/ Can Sanç\, 5\, Palma\, Illes Balears\, 07001\, Spain
CATEGORIES:Dance,Jazz,Music
ATTACH;FMTTYPE=image/jpeg:https://www.mallorcasunshineradio.com/wp-content/uploads/close-up-flamenca-tomados-de-la-mano-sobre-fondo-negro-683x1024-1.jpg
END:VEVENT
BEGIN:VEVENT
DTSTART;TZID=Europe/Madrid:20250903T210000
DTEND;TZID=Europe/Madrid:20250903T210000
DTSTAMP:20260424T202204
CREATED:20250901T110315Z
LAST-MODIFIED:20250901T110333Z
UID:14570-1756933200-1756933200@www.mallorcasunshineradio.com
SUMMARY:Nits de Flamenc @ Teatre Sans
DESCRIPTION:Flamenco Fusion by Estudi Zero and Palma Flamenco
URL:https://www.mallorcasunshineradio.com/event/nits-de-flamenc-teatre-sans/
LOCATION:Teatre Sans\, C/ Can Sanç\, 5\, Palma\, Illes Balears\, 07001\, Spain
CATEGORIES:Dance,Jazz,Music
ATTACH;FMTTYPE=image/jpeg:https://www.mallorcasunshineradio.com/wp-content/uploads/close-up-flamenca-tomados-de-la-mano-sobre-fondo-negro-683x1024-1.jpg
END:VEVENT
BEGIN:VEVENT
DTSTART;TZID=Europe/Madrid:20250828T210000
DTEND;TZID=Europe/Madrid:20250828T210000
DTSTAMP:20260424T202204
CREATED:20250804T164403Z
LAST-MODIFIED:20250804T164403Z
UID:14408-1756414800-1756414800@www.mallorcasunshineradio.com
SUMMARY:Hard Bop Drivers @ Jazz Palma Festival 2025
DESCRIPTION:
URL:https://www.mallorcasunshineradio.com/event/hard-bop-drivers-jazz-palma-festival-2025/
LOCATION:Castell de Bellver\, Palma
CATEGORIES:Festival,Jazz,Music
ATTACH;FMTTYPE=image/jpeg:https://www.mallorcasunshineradio.com/wp-content/uploads/Hard-Bop-Drivers-F.jpg
ORGANIZER;CN="Ajuntament de Palma":MAILTO:cultura@palma.es
END:VEVENT
BEGIN:VEVENT
DTSTART;TZID=Europe/Madrid:20250821T210000
DTEND;TZID=Europe/Madrid:20250821T210000
DTSTAMP:20260424T202204
CREATED:20250804T164242Z
LAST-MODIFIED:20250804T164423Z
UID:14405-1755810000-1755810000@www.mallorcasunshineradio.com
SUMMARY:Giulia Valle Trio @ Jazz Palma Festival 2025
DESCRIPTION:
URL:https://www.mallorcasunshineradio.com/event/giulia-valle-trio-jazz-palma-festival-2025/
LOCATION:Castell de Bellver\, Palma
CATEGORIES:Festival,Jazz,Music
ATTACH;FMTTYPE=image/jpeg:https://www.mallorcasunshineradio.com/wp-content/uploads/FOTO_Giulia-Valle1-F.jpg
ORGANIZER;CN="Ajuntament de Palma":MAILTO:cultura@palma.es
END:VEVENT
BEGIN:VEVENT
DTSTART;TZID=Europe/Madrid:20250814T210000
DTEND;TZID=Europe/Madrid:20250814T210000
DTSTAMP:20260424T202204
CREATED:20250804T164106Z
LAST-MODIFIED:20250804T164106Z
UID:14402-1755205200-1755205200@www.mallorcasunshineradio.com
SUMMARY:Glenda del E @ Jazz Palma Festival 2025
DESCRIPTION:
URL:https://www.mallorcasunshineradio.com/event/glenda-del-e-jazz-palma-festival-2025/
LOCATION:Castell de Bellver\, Palma
CATEGORIES:Festival,Jazz,Music
ATTACH;FMTTYPE=image/jpeg:https://www.mallorcasunshineradio.com/wp-content/uploads/FOTO_Glenda3-F.jpg
ORGANIZER;CN="Ajuntament de Palma":MAILTO:cultura@palma.es
END:VEVENT
BEGIN:VEVENT
DTSTART;TZID=Europe/Madrid:20250807T210000
DTEND;TZID=Europe/Madrid:20250807T210000
DTSTAMP:20260424T202204
CREATED:20250804T163731Z
LAST-MODIFIED:20250804T163910Z
UID:14398-1754600400-1754600400@www.mallorcasunshineradio.com
SUMMARY:Myles Sanko @ Jazz Palma Festival 2025
DESCRIPTION:
URL:https://www.mallorcasunshineradio.com/event/myles-sanko-jazz-palma-festival-2025/
LOCATION:Castell de Bellver\, Palma
CATEGORIES:Festival,Jazz,Music
ATTACH;FMTTYPE=image/jpeg:https://www.mallorcasunshineradio.com/wp-content/uploads/Mylus-Sanko-Jazz-F.jpg
ORGANIZER;CN="Ajuntament de Palma":MAILTO:cultura@palma.es
END:VEVENT
END:VCALENDAR