BEGIN:VCALENDAR
VERSION:2.0
PRODID:-//Mallorca Sunshine Radio - ECPv6.15.20//NONSGML v1.0//EN
CALSCALE:GREGORIAN
METHOD:PUBLISH
X-WR-CALNAME:Mallorca Sunshine Radio
X-ORIGINAL-URL:https://www.mallorcasunshineradio.com
X-WR-CALDESC:Events for Mallorca Sunshine Radio
REFRESH-INTERVAL;VALUE=DURATION:PT1H
X-Robots-Tag:noindex
X-PUBLISHED-TTL:PT1H
BEGIN:VTIMEZONE
TZID:Europe/Madrid
BEGIN:DAYLIGHT
TZOFFSETFROM:+0100
TZOFFSETTO:+0200
TZNAME:CEST
DTSTART:20250330T010000
END:DAYLIGHT
BEGIN:STANDARD
TZOFFSETFROM:+0200
TZOFFSETTO:+0100
TZNAME:CET
DTSTART:20251026T010000
END:STANDARD
BEGIN:DAYLIGHT
TZOFFSETFROM:+0100
TZOFFSETTO:+0200
TZNAME:CEST
DTSTART:20260329T010000
END:DAYLIGHT
BEGIN:STANDARD
TZOFFSETFROM:+0200
TZOFFSETTO:+0100
TZNAME:CET
DTSTART:20261025T010000
END:STANDARD
BEGIN:DAYLIGHT
TZOFFSETFROM:+0100
TZOFFSETTO:+0200
TZNAME:CEST
DTSTART:20270328T010000
END:DAYLIGHT
BEGIN:STANDARD
TZOFFSETFROM:+0200
TZOFFSETTO:+0100
TZNAME:CET
DTSTART:20271031T010000
END:STANDARD
END:VTIMEZONE
BEGIN:VEVENT
DTSTART;TZID=Europe/Madrid:20260328T110000
DTEND;TZID=Europe/Madrid:20260328T110000
DTSTAMP:20260425T013359
CREATED:20260327T230816Z
LAST-MODIFIED:20260327T230816Z
UID:17048-1774695600-1774695600@www.mallorcasunshineradio.com
SUMMARY:Clothing Swap Party in Pere Garau\, Palma
DESCRIPTION:A clothing swap party takes place in the Pere Garau area of Palma\, inviting participants to refresh their wardrobe in a simple and social way. \nGuests are asked to bring between seven and twelve clothing items to exchange. The event also includes snacks\, drinks\, and music. The exact location will be shared after registration. \nImage credit: Instagram / @spanishbyliving
URL:https://www.mallorcasunshineradio.com/event/clothing-swap-party-pere-garau-palma-2026/
LOCATION:Plaça Pere Garau\, Plaça Pere Garau. Llevant\, Palma\, Illes Balears\, 07007\, Spain
CATEGORIES:Community,Lifestyle,Markets
ATTACH;FMTTYPE=image/webp:https://www.mallorcasunshineradio.com/wp-content/uploads/spanish_by_living.webp
END:VEVENT
END:VCALENDAR