BEGIN:VCALENDAR
VERSION:2.0
PRODID:-//Mallorca Sunshine Radio - ECPv6.15.20//NONSGML v1.0//EN
CALSCALE:GREGORIAN
METHOD:PUBLISH
X-ORIGINAL-URL:https://www.mallorcasunshineradio.com
X-WR-CALDESC:Events for Mallorca Sunshine Radio
REFRESH-INTERVAL;VALUE=DURATION:PT1H
X-Robots-Tag:noindex
X-PUBLISHED-TTL:PT1H
BEGIN:VTIMEZONE
TZID:Europe/Madrid
BEGIN:DAYLIGHT
TZOFFSETFROM:+0100
TZOFFSETTO:+0200
TZNAME:CEST
DTSTART:20240331T010000
END:DAYLIGHT
BEGIN:STANDARD
TZOFFSETFROM:+0200
TZOFFSETTO:+0100
TZNAME:CET
DTSTART:20241027T010000
END:STANDARD
BEGIN:DAYLIGHT
TZOFFSETFROM:+0100
TZOFFSETTO:+0200
TZNAME:CEST
DTSTART:20250330T010000
END:DAYLIGHT
BEGIN:STANDARD
TZOFFSETFROM:+0200
TZOFFSETTO:+0100
TZNAME:CET
DTSTART:20251026T010000
END:STANDARD
BEGIN:DAYLIGHT
TZOFFSETFROM:+0100
TZOFFSETTO:+0200
TZNAME:CEST
DTSTART:20260329T010000
END:DAYLIGHT
BEGIN:STANDARD
TZOFFSETFROM:+0200
TZOFFSETTO:+0100
TZNAME:CET
DTSTART:20261025T010000
END:STANDARD
END:VTIMEZONE
BEGIN:VEVENT
DTSTART;TZID=Europe/Madrid:20251022T210000
DTEND;TZID=Europe/Madrid:20251022T210000
DTSTAMP:20260425T014125
CREATED:20251021T213159Z
LAST-MODIFIED:20251021T213159Z
UID:14990-1761166800-1761166800@www.mallorcasunshineradio.com
SUMMARY:Jazz Evening with Pepe Ragonese
DESCRIPTION:At the Jazz Lounge in Palma\, enjoy a relaxed evening with jazz music by Pepe Ragonese. Sit back with a drink in hand and let the atmosphere surround you.
URL:https://www.mallorcasunshineradio.com/event/pepe-ragonese-jazz-lounge-palma-oct-2025/
LOCATION:Jazz Lounge Palma\, Carrer dels Apuntadors\, 5\, Centre\, Palma\, Illes Balears\, 07012\, Spain
CATEGORIES:Jazz,Live Music
ATTACH;FMTTYPE=image/webp:https://www.mallorcasunshineradio.com/wp-content/uploads/pepe_ragonese_jazzlounge.jpg.webp
END:VEVENT
END:VCALENDAR