BEGIN:VCALENDAR
VERSION:2.0
PRODID:-//Mallorca Sunshine Radio - ECPv6.15.20//NONSGML v1.0//EN
CALSCALE:GREGORIAN
METHOD:PUBLISH
X-ORIGINAL-URL:https://www.mallorcasunshineradio.com
X-WR-CALDESC:Events for Mallorca Sunshine Radio
REFRESH-INTERVAL;VALUE=DURATION:PT1H
X-Robots-Tag:noindex
X-PUBLISHED-TTL:PT1H
BEGIN:VTIMEZONE
TZID:Europe/Madrid
BEGIN:DAYLIGHT
TZOFFSETFROM:+0100
TZOFFSETTO:+0200
TZNAME:CEST
DTSTART:20240331T010000
END:DAYLIGHT
BEGIN:STANDARD
TZOFFSETFROM:+0200
TZOFFSETTO:+0100
TZNAME:CET
DTSTART:20241027T010000
END:STANDARD
BEGIN:DAYLIGHT
TZOFFSETFROM:+0100
TZOFFSETTO:+0200
TZNAME:CEST
DTSTART:20250330T010000
END:DAYLIGHT
BEGIN:STANDARD
TZOFFSETFROM:+0200
TZOFFSETTO:+0100
TZNAME:CET
DTSTART:20251026T010000
END:STANDARD
BEGIN:DAYLIGHT
TZOFFSETFROM:+0100
TZOFFSETTO:+0200
TZNAME:CEST
DTSTART:20260329T010000
END:DAYLIGHT
BEGIN:STANDARD
TZOFFSETFROM:+0200
TZOFFSETTO:+0100
TZNAME:CET
DTSTART:20261025T010000
END:STANDARD
END:VTIMEZONE
BEGIN:VEVENT
DTSTART;TZID=Europe/Madrid:20251029T160000
DTEND;TZID=Europe/Madrid:20251029T160000
DTSTAMP:20260424T235938
CREATED:20251024T002111Z
LAST-MODIFIED:20251024T002212Z
UID:15025-1761753600-1761753600@www.mallorcasunshineradio.com
SUMMARY:Tapas & Music Night with Roberto Galli @ Can Julià
DESCRIPTION:Tapas and live music with Roberto Galli. Tango\, Boogie\, Blues\, Rock’n’Roll and Swing Classics.
URL:https://www.mallorcasunshineradio.com/event/tapas-music-night-with-roberto-galli-can-julia/
LOCATION:Can Julia Restaurant\, C/ Joan Massanet 42\, Son Servera\, Balearic Islands\, 07550\, Spain
CATEGORIES:Food,Gastronomy,Live Music
ATTACH;FMTTYPE=image/webp:https://www.mallorcasunshineradio.com/wp-content/uploads/Roberto_Galli_Restaurant_Can_Julia.webp
END:VEVENT
END:VCALENDAR