BEGIN:VCALENDAR
VERSION:2.0
PRODID:-//Mallorca Sunshine Radio - ECPv6.15.20//NONSGML v1.0//EN
CALSCALE:GREGORIAN
METHOD:PUBLISH
X-WR-CALNAME:Mallorca Sunshine Radio
X-ORIGINAL-URL:https://www.mallorcasunshineradio.com
X-WR-CALDESC:Events for Mallorca Sunshine Radio
REFRESH-INTERVAL;VALUE=DURATION:PT1H
X-Robots-Tag:noindex
X-PUBLISHED-TTL:PT1H
BEGIN:VTIMEZONE
TZID:Europe/Madrid
BEGIN:DAYLIGHT
TZOFFSETFROM:+0100
TZOFFSETTO:+0200
TZNAME:CEST
DTSTART:20250330T010000
END:DAYLIGHT
BEGIN:STANDARD
TZOFFSETFROM:+0200
TZOFFSETTO:+0100
TZNAME:CET
DTSTART:20251026T010000
END:STANDARD
BEGIN:DAYLIGHT
TZOFFSETFROM:+0100
TZOFFSETTO:+0200
TZNAME:CEST
DTSTART:20260329T010000
END:DAYLIGHT
BEGIN:STANDARD
TZOFFSETFROM:+0200
TZOFFSETTO:+0100
TZNAME:CET
DTSTART:20261025T010000
END:STANDARD
BEGIN:DAYLIGHT
TZOFFSETFROM:+0100
TZOFFSETTO:+0200
TZNAME:CEST
DTSTART:20270328T010000
END:DAYLIGHT
BEGIN:STANDARD
TZOFFSETFROM:+0200
TZOFFSETTO:+0100
TZNAME:CET
DTSTART:20271031T010000
END:STANDARD
END:VTIMEZONE
BEGIN:VEVENT
DTSTART;TZID=Europe/Madrid:20260424T160000
DTEND;TZID=Europe/Madrid:20260424T160000
DTSTAMP:20260424T095058
CREATED:20260410T123844Z
LAST-MODIFIED:20260410T123851Z
UID:17210-1777046400-1777046400@www.mallorcasunshineradio.com
SUMMARY:GENN + The Marzipan Man + Toni Cobretti @ Es Gremi Palma
DESCRIPTION:
URL:https://www.mallorcasunshineradio.com/event/genn-the-marzipan-man-toni-cobretti-es-gremi-palma/
LOCATION:Es Gremi\, Es Gremi. Gremi de Porgadors\, 16\, Palma\, Balearic Islands\, 07009\, Spain
CATEGORIES:Live Music,Punk,Rock
ATTACH;FMTTYPE=image/jpeg:https://www.mallorcasunshineradio.com/wp-content/uploads/01_WEB_Banner_FridayIamInLove_GENN.jpg
ORGANIZER;CN="Es Gremi":MAILTO:info@esgremi.com
END:VEVENT
BEGIN:VEVENT
DTSTART;TZID=Europe/Madrid:20260425T200000
DTEND;TZID=Europe/Madrid:20260425T200000
DTSTAMP:20260424T095058
CREATED:20260416T002447Z
LAST-MODIFIED:20260416T002447Z
UID:17277-1777147200-1777147200@www.mallorcasunshineradio.com
SUMMARY:LA MALAFAMERA @ Es Gremi Palma
DESCRIPTION:The real Argentine party.\nLa Malafamera returns to Es Gremi with a show that transforms the dance floor into a meeting point for urban rhythms and Argentine party culture. A night designed to let loose and be swept away by the energy of cumbia\, RKT\, and reggaeton\, in a set that connects directly with the pulse of the dance floor and the collective spirit of dancing. \nWith an identity marked by intensity\, carefree abandon\, and non-stop celebration\, La Malafamera unfolds a sonic journey that moves between recognizable hits and beats that invite constant movement. An experience designed for those who understand partying as a shared language\, where every song contributes and every moment counts. \nA night to let loose\, dance\, and experience the dance floor without compromise. \nCome and experience it live!
URL:https://www.mallorcasunshineradio.com/event/la-malafamera-es-gremi-palma/
LOCATION:Es Gremi\, Es Gremi. Gremi de Porgadors\, 16\, Palma\, Balearic Islands\, 07009\, Spain
CATEGORIES:Latin,Live DJ,Live Music
ATTACH;FMTTYPE=image/jpeg:https://www.mallorcasunshineradio.com/wp-content/uploads/01_WEB_Banner_Malafamera.jpg
ORGANIZER;CN="Es Gremi":MAILTO:info@esgremi.com
END:VEVENT
BEGIN:VEVENT
DTSTART;TZID=Europe/Madrid:20260425T210000
DTEND;TZID=Europe/Madrid:20260425T210000
DTSTAMP:20260424T095058
CREATED:20260409T002152Z
LAST-MODIFIED:20260409T002201Z
UID:17176-1777150800-1777150800@www.mallorcasunshineradio.com
SUMMARY:The Other Side - A Pink Floyd Live Experience @ Auditorium Palma
DESCRIPTION:Immerse yourself in a sonic and visual journey through Pink Floyd’s immortal legacy with The Other Side\, the country’s longest-running band and undoubtedly among the best. They not only interpret the music of the legendary British band\, but also revive its soul with impeccable musical fidelity\, a hypnotic audiovisual display\, and a profound respect for the conceptual essence of each album. The Other Side transcends homage to offer an immersive experience that connects generations. \nFrom the introspection of “The Dark Side of the Moon\,” through the melancholy of “Wish You Were Here” and the emotional fury of “The Wall\,” to the ethereal atmospheres of “The Division Bell\,” the band recreates every note\, every solo\, and every word with a technical precision and passionate delivery that transports the viewer to “the other side” of music. \nMore than a show\, The Other Side is a psychedelic ceremony\, an evocation of time and space where music is memory\, protest\, and redemption. \n\n\n\n 
URL:https://www.mallorcasunshineradio.com/event/the-other-side-a-pink-floyd-live-experience-auditorium-palma/
LOCATION:Auditorium Palma\, Auditorium de Palma de Mallorca. Av. de Gabriel Roca\, 18\, Palma\, Illes Balears\, 07014\, Spain
CATEGORIES:Live Music,Rock
ATTACH;FMTTYPE=image/webp:https://www.mallorcasunshineradio.com/wp-content/uploads/The_Other_Side-1.webp
ORGANIZER;CN="Auditorium Palma de Mallorca":MAILTO:info@auditoriumpalma.com
END:VEVENT
BEGIN:VEVENT
DTSTART;TZID=Europe/Madrid:20260430T170000
DTEND;TZID=Europe/Madrid:20260430T170000
DTSTAMP:20260424T095058
CREATED:20260419T112132Z
LAST-MODIFIED:20260419T112517Z
UID:17297-1777568400-1777568400@www.mallorcasunshineradio.com
SUMMARY:Cardellino @ Es Gremi
DESCRIPTION:Cardellino arrives at Es Gremi with a sound that blends R&B\, soul\, and contemporary pop with an elegant and personal sensibility. \nThe Uruguayan artist\, active since 2018 as a performer\, songwriter\, and producer\, has built his own sonic universe where his songs move naturally between the warmth of soul and the current pulse of Latin pop. \nHis album\, Todos los Días Son Sábado (2020)\, marked a key point in the development of his solo project\, which he has continued to shape through various singles with a strong presence on digital platforms and a growing community of listeners. His live performances bring this universe to the stage with an intimate and immersive experience. \nAfter performing in venues and cultural events in Uruguay\, Argentina\, and Chile\, Cardellino continues to expand his international reach with planned performances in Europe in 2026\, at a time of artistic consolidation and expansion of his project.
URL:https://www.mallorcasunshineradio.com/event/cardellino-es-gremi/
LOCATION:Es Gremi\, Es Gremi. Gremi de Porgadors\, 16\, Palma\, Balearic Islands\, 07009\, Spain
CATEGORIES:Live Music,Rhythm & Blues
ATTACH;FMTTYPE=image/jpeg:https://www.mallorcasunshineradio.com/wp-content/uploads/01_WEB_Banner_Cardellino.jpg
ORGANIZER;CN="Es Gremi":MAILTO:info@esgremi.com
END:VEVENT
BEGIN:VEVENT
DTSTART;TZID=Europe/Madrid:20260430T180000
DTEND;TZID=Europe/Madrid:20260430T180000
DTSTAMP:20260424T095058
CREATED:20260419T112423Z
LAST-MODIFIED:20260419T112427Z
UID:17300-1777572000-1777572000@www.mallorcasunshineradio.com
SUMMARY:Melon Diesel @ Es Gremi
DESCRIPTION:MELON DIESEL returns to Mallorca!\nThe rock that defined a generation is back stronger than ever. Melon Diesel returns to Mallorca for a new tour that promises an absolute blast of energy\, attitude\, and songs that have already become part of history. \nA unique concert featuring all-time anthems alongside the tracks that define this new era for the band: powerful sound\, direct lyrics\, and a show designed to make you vibrate from the very first chord. \nAn unforgettable night to reconnect with an essential band. If you’ve ever sung along to their songs\, this concert is for you. \nAnd if you’ve never seen them live\, get ready to understand why they remain a benchmark.
URL:https://www.mallorcasunshineradio.com/event/melon-diesel-es-gremi/
LOCATION:Es Gremi\, Es Gremi. Gremi de Porgadors\, 16\, Palma\, Balearic Islands\, 07009\, Spain
CATEGORIES:Live Music,Rock
ATTACH;FMTTYPE=image/jpeg:https://www.mallorcasunshineradio.com/wp-content/uploads/01_Web_Banner_MelonDiesel.jpg
ORGANIZER;CN="Es Gremi":MAILTO:info@esgremi.com
END:VEVENT
END:VCALENDAR