BEGIN:VCALENDAR
VERSION:2.0
PRODID:-//Mallorca Sunshine Radio - ECPv6.15.20//NONSGML v1.0//EN
CALSCALE:GREGORIAN
METHOD:PUBLISH
X-WR-CALNAME:Mallorca Sunshine Radio
X-ORIGINAL-URL:https://www.mallorcasunshineradio.com
X-WR-CALDESC:Events for Mallorca Sunshine Radio
REFRESH-INTERVAL;VALUE=DURATION:PT1H
X-Robots-Tag:noindex
X-PUBLISHED-TTL:PT1H
BEGIN:VTIMEZONE
TZID:Europe/Madrid
BEGIN:DAYLIGHT
TZOFFSETFROM:+0100
TZOFFSETTO:+0200
TZNAME:CEST
DTSTART:20250330T010000
END:DAYLIGHT
BEGIN:STANDARD
TZOFFSETFROM:+0200
TZOFFSETTO:+0100
TZNAME:CET
DTSTART:20251026T010000
END:STANDARD
BEGIN:DAYLIGHT
TZOFFSETFROM:+0100
TZOFFSETTO:+0200
TZNAME:CEST
DTSTART:20260329T010000
END:DAYLIGHT
BEGIN:STANDARD
TZOFFSETFROM:+0200
TZOFFSETTO:+0100
TZNAME:CET
DTSTART:20261025T010000
END:STANDARD
BEGIN:DAYLIGHT
TZOFFSETFROM:+0100
TZOFFSETTO:+0200
TZNAME:CEST
DTSTART:20270328T010000
END:DAYLIGHT
BEGIN:STANDARD
TZOFFSETFROM:+0200
TZOFFSETTO:+0100
TZNAME:CET
DTSTART:20271031T010000
END:STANDARD
END:VTIMEZONE
BEGIN:VEVENT
DTSTART;TZID=Europe/Madrid:20260425T140000
DTEND;TZID=Europe/Madrid:20260425T200000
DTSTAMP:20260424T220136
CREATED:20260416T002119Z
LAST-MODIFIED:20260416T002126Z
UID:17274-1777125600-1777147200@www.mallorcasunshineradio.com
SUMMARY:This is Drag @ Es Gremi Palma
DESCRIPTION:THIS IS DRAG arrives at Es Gremi in an afternoon format with a show celebrating spectacle\, diversity\, and drag culture at its most vibrant. An event designed to deliver six hours of showmanship\, pop\, and collective energy with some of the most iconic names on the national scene. \nOn our stage\, artists like Supremme de Luxe\, Kika Lorace\, and Denebola Murnau\, along with a wide array of performers\, will move seamlessly between lip-syncing\, performance art\, and contemporary drag imagery. All of this will be accompanied by a dance crew that amplifies the experience\, transforming it into a vibrant and festive journey. \nAn open\, colorful\, and unfiltered celebration that connects with the current pulse of the scene.\nCome and experience it live!
URL:https://www.mallorcasunshineradio.com/event/this-is-drag-es-gremi-palma/
LOCATION:Es Gremi\, Es Gremi. Gremi de Porgadors\, 16\, Palma\, Balearic Islands\, 07009\, Spain
CATEGORIES:Live Performance,Live Show
ATTACH;FMTTYPE=image/jpeg:https://www.mallorcasunshineradio.com/wp-content/uploads/01_Web_Banner_ThisIsDrag.jpg
ORGANIZER;CN="Es Gremi":MAILTO:info@esgremi.com
END:VEVENT
END:VCALENDAR