BEGIN:VCALENDAR
VERSION:2.0
PRODID:-//Mallorca Sunshine Radio - ECPv6.15.20//NONSGML v1.0//EN
CALSCALE:GREGORIAN
METHOD:PUBLISH
X-ORIGINAL-URL:https://www.mallorcasunshineradio.com
X-WR-CALDESC:Events for Mallorca Sunshine Radio
REFRESH-INTERVAL;VALUE=DURATION:PT1H
X-Robots-Tag:noindex
X-PUBLISHED-TTL:PT1H
BEGIN:VTIMEZONE
TZID:Europe/Madrid
BEGIN:DAYLIGHT
TZOFFSETFROM:+0100
TZOFFSETTO:+0200
TZNAME:CEST
DTSTART:20240331T010000
END:DAYLIGHT
BEGIN:STANDARD
TZOFFSETFROM:+0200
TZOFFSETTO:+0100
TZNAME:CET
DTSTART:20241027T010000
END:STANDARD
BEGIN:DAYLIGHT
TZOFFSETFROM:+0100
TZOFFSETTO:+0200
TZNAME:CEST
DTSTART:20250330T010000
END:DAYLIGHT
BEGIN:STANDARD
TZOFFSETFROM:+0200
TZOFFSETTO:+0100
TZNAME:CET
DTSTART:20251026T010000
END:STANDARD
BEGIN:DAYLIGHT
TZOFFSETFROM:+0100
TZOFFSETTO:+0200
TZNAME:CEST
DTSTART:20260329T010000
END:DAYLIGHT
BEGIN:STANDARD
TZOFFSETFROM:+0200
TZOFFSETTO:+0100
TZNAME:CET
DTSTART:20261025T010000
END:STANDARD
END:VTIMEZONE
BEGIN:VEVENT
DTSTART;TZID=Europe/Madrid:20251110T200000
DTEND;TZID=Europe/Madrid:20251110T200000
DTSTAMP:20260424T183943
CREATED:20251109T190758Z
LAST-MODIFIED:20251109T190758Z
UID:15255-1762804800-1762804800@www.mallorcasunshineradio.com
SUMMARY:Drinks at Bar Nicolás
DESCRIPTION:Enjoy a stylish evening in the heart of Palma at Bar Nicolás. Known for its elegant lounge atmosphere and exceptional drinks menu\, this popular spot offers a refined selection of cocktails\, wines\, and alcohol-free creations — perfect for a relaxed night out that can easily stretch into the early hours. \nImage: barnicolas.com
URL:https://www.mallorcasunshineradio.com/event/drinks-at-bar-nicolas-palma/
LOCATION:Bar Nicolás\, Plaça del Mercat\, 19\, Palma\, Illes Balears\, 07001\, Spain
CATEGORIES:Drinks,Lounge,Nightlife
ATTACH;FMTTYPE=image/jpeg:https://www.mallorcasunshineradio.com/wp-content/uploads/bar_nicolas_palma.jpg
END:VEVENT
END:VCALENDAR