BEGIN:VCALENDAR
VERSION:2.0
PRODID:-//Mallorca Sunshine Radio - ECPv6.15.20//NONSGML v1.0//EN
CALSCALE:GREGORIAN
METHOD:PUBLISH
X-ORIGINAL-URL:https://www.mallorcasunshineradio.com
X-WR-CALDESC:Events for Mallorca Sunshine Radio
REFRESH-INTERVAL;VALUE=DURATION:PT1H
X-Robots-Tag:noindex
X-PUBLISHED-TTL:PT1H
BEGIN:VTIMEZONE
TZID:Europe/Madrid
BEGIN:DAYLIGHT
TZOFFSETFROM:+0100
TZOFFSETTO:+0200
TZNAME:CEST
DTSTART:20240331T010000
END:DAYLIGHT
BEGIN:STANDARD
TZOFFSETFROM:+0200
TZOFFSETTO:+0100
TZNAME:CET
DTSTART:20241027T010000
END:STANDARD
BEGIN:DAYLIGHT
TZOFFSETFROM:+0100
TZOFFSETTO:+0200
TZNAME:CEST
DTSTART:20250330T010000
END:DAYLIGHT
BEGIN:STANDARD
TZOFFSETFROM:+0200
TZOFFSETTO:+0100
TZNAME:CET
DTSTART:20251026T010000
END:STANDARD
BEGIN:DAYLIGHT
TZOFFSETFROM:+0100
TZOFFSETTO:+0200
TZNAME:CEST
DTSTART:20260329T010000
END:DAYLIGHT
BEGIN:STANDARD
TZOFFSETFROM:+0200
TZOFFSETTO:+0100
TZNAME:CET
DTSTART:20261025T010000
END:STANDARD
BEGIN:DAYLIGHT
TZOFFSETFROM:+0100
TZOFFSETTO:+0200
TZNAME:CEST
DTSTART:20270328T010000
END:DAYLIGHT
BEGIN:STANDARD
TZOFFSETFROM:+0200
TZOFFSETTO:+0100
TZNAME:CET
DTSTART:20271031T010000
END:STANDARD
END:VTIMEZONE
BEGIN:VEVENT
DTSTART;TZID=Europe/Madrid:20260412T170000
DTEND;TZID=Europe/Madrid:20260412T170000
DTSTAMP:20260424T195010
CREATED:20260409T001427Z
LAST-MODIFIED:20260409T002259Z
UID:17173-1776013200-1776013200@www.mallorcasunshineradio.com
SUMMARY:Rapunzel The Musical @ Auditorium Palma
DESCRIPTION:Flynn Rider\, the kingdom’s most wanted and charming bandit\, hides in a mysterious tower and there meets Rapunzel\, a beautiful and clever teenager with 21 meters of golden hair\, who has been locked up there for years. The two make a deal\, and from that moment on\, the pair embarks on thrilling adventures accompanied by a super-cop horse and a rough gang of thugs. \n**Children under three years old do not require a ticket and will not occupy a seat.
URL:https://www.mallorcasunshineradio.com/event/rapunzel-the-musical-auditorium-palma/
LOCATION:Auditorium Palma\, Auditorium de Palma de Mallorca. Av. de Gabriel Roca\, 18\, Palma\, Illes Balears\, 07014\, Spain
CATEGORIES:Musical
ATTACH;FMTTYPE=image/jpeg:https://www.mallorcasunshineradio.com/wp-content/uploads/rapunze.jpg
ORGANIZER;CN="Auditorium Palma de Mallorca":MAILTO:info@auditoriumpalma.com
END:VEVENT
BEGIN:VEVENT
DTSTART;TZID=Europe/Madrid:20260403T200000
DTEND;TZID=Europe/Madrid:20260403T200000
DTSTAMP:20260424T195010
CREATED:20260329T215245Z
LAST-MODIFIED:20260329T215245Z
UID:17065-1775246400-1775246400@www.mallorcasunshineradio.com
SUMMARY:Tarzan – The Musical @ Trui Teatre in Palma
DESCRIPTION:Lianas\, drums\, and adventure: Tarzan arrives as a musical at Trui Teatre in Palma. The story centres on an orphaned boy raised by apes\, who grows up caught between two worlds while searching for where he truly belongs. \nImage credit: truiteatre.es
URL:https://www.mallorcasunshineradio.com/event/tarzan-musical-trui-teatre-palma/
LOCATION:Trui Teatre\, Palma\, Trui Teatre. Cami Son Rapinya 29\, Palma Mallorca\, Illes Balears\, 0713\, Spain
CATEGORIES:Family,Musical,Theatre
ATTACH;FMTTYPE=image/webp:https://www.mallorcasunshineradio.com/wp-content/uploads/Trui_Teatre_Tarzan.webp
END:VEVENT
BEGIN:VEVENT
DTSTART;TZID=Europe/Madrid:20260227T180000
DTEND;TZID=Europe/Madrid:20260227T180000
DTSTAMP:20260424T195010
CREATED:20260121T144442Z
LAST-MODIFIED:20260121T144448Z
UID:16247-1772215200-1772215200@www.mallorcasunshineradio.com
SUMMARY:The Phantom of the Opera @ Auditorium Palma
DESCRIPTION:Inspired by Gaston Leroux’s 1910 novel\, *Le Fantôme de l’Opéra*\, Andrew Lloyd Webber’s *The Phantom of the Opera* tells the story of a mysterious masked figure who lurks beneath the Paris Opera House. \nHe falls madly in love with a young soprano\, Christine Daaé\, and dedicates himself to cultivating her extraordinary talent\, employing every tortuous method at his disposal. \nAfter its huge success in Madrid and having captivated more than 160 million spectators worldwide\, the musical *The Phantom of the Opera* is touring Spain. During 2025-2026\, it will tour the entire country\, bringing its unforgettable spectacle to thousands of people. The most successful musical in history is coming to your city… and you\, are you going to miss it? \n  \nMORE DATES: \n\n\nSaturday\, 28 de February 2026\, 17 h\n\n\n\n\nSaturday\, 28 de February 2026\, 21 h\n\n\n\n\nSunday\, 1 de March 2026\, 16.30 h\n\n \n\n\n\nSunday\, 1 de March 2026\, 20.30 h\n\n\n\n\nWednesday\, 4 de March 2026\, 20 h\n\n\n\n\nThursday\, 5 de March 2026\, 20 h\n\n\n\n\nFriday\, 6 de March 2026\, 17.30 h\n\n\n\n\nFriday\, 6 de March 2026\, 21.30 h\n\n\n\n\nSaturday\, 7 de March 2026\, 17 h\n\n\n\n\nSaturday\, 7 de March 2026\, 21 h\n\n\n\n\nSunday\, 8 de March 2026\, 17 h\n\n \n\n 
URL:https://www.mallorcasunshineradio.com/event/the-phantom-of-the-opera-auditorium-palma/
LOCATION:Auditorium Palma\, Auditorium de Palma de Mallorca. Av. de Gabriel Roca\, 18\, Palma\, Illes Balears\, 07014\, Spain
CATEGORIES:Concert,Musical,opera,Theatre
ATTACH;FMTTYPE=image/jpeg:https://www.mallorcasunshineradio.com/wp-content/uploads/espectaculo-4138-imagen-cabecera-2.jpg
ORGANIZER;CN="Auditorium Palma de Mallorca":MAILTO:info@auditoriumpalma.com
END:VEVENT
BEGIN:VEVENT
DTSTART;TZID=Europe/Madrid:20260124T183000
DTEND;TZID=Europe/Madrid:20260124T183000
DTSTAMP:20260424T195010
CREATED:20260121T145053Z
LAST-MODIFIED:20260121T145222Z
UID:16251-1769279400-1769279400@www.mallorcasunshineradio.com
SUMMARY:The Greatest Show Musical @ Trui Teatre Palma
DESCRIPTION:Coming to Palma: THE GREATEST SHOW – THE MUSICAL. An extraordinary musical adaptation of the film “The Greatest Showman.” \nTHE GREATEST SHOW is a musical that celebrates the birth of show business and tells the story of P.T. Barnum\, a visionary showman and circus entrepreneur who rose from nothing to create a spectacle that became a worldwide sensation and was known as “The Greatest Show on Earth.” \nWith 25 artists on stage\, including dancers\, singers\, and actors\, and an original and surprising staging\, featuring stunning makeup and costumes created specifically for the production by performing arts professionals. \nThe set design utilizes 3D technology\, employing high-resolution LED screens for incredible and realistic results\, complemented by impressive props. \nAll of this is accompanied by live vocals and captivating choreography under the direction of the professional Miriam Forte. \nA THRILLING SHOW THAT WILL UNDOUBTEDLY EXCITE ALL SPECTATORS
URL:https://www.mallorcasunshineradio.com/event/the-greatest-show-musical-trui-teatre-palma/
LOCATION:Trui Teatre\, Palma\, Trui Teatre. Cami Son Rapinya 29\, Palma Mallorca\, Illes Balears\, 0713\, Spain
CATEGORIES:Musical,Theatre
ATTACH;FMTTYPE=image/webp:https://www.mallorcasunshineradio.com/wp-content/uploads/Greatest_Showman.webp
END:VEVENT
BEGIN:VEVENT
DTSTART;TZID=Europe/Madrid:20260102T170000
DTEND;TZID=Europe/Madrid:20260102T170000
DTSTAMP:20260424T195010
CREATED:20251210T130807Z
LAST-MODIFIED:20251210T130807Z
UID:15844-1767373200-1767373200@www.mallorcasunshineradio.com
SUMMARY:Aladdin – The Musical at Auditorium Palma
DESCRIPTION:Auditorium Palma presents *Aladdin – The Musical*\, a colourful family show filled with music\, magic and adventure.\nA lively staging of the classic story\, suitable for children and adults alike. \nImage credit: auditoriumpalma.com
URL:https://www.mallorcasunshineradio.com/event/aladdin-musical-auditorium-palma-2026/
LOCATION:Auditorium Palma\, Auditorium de Palma de Mallorca. Av. de Gabriel Roca\, 18\, Palma\, Illes Balears\, 07014\, Spain
CATEGORIES:Family,Musical,Theatre
ATTACH;FMTTYPE=image/webp:https://www.mallorcasunshineradio.com/wp-content/uploads/Aladin_Musical.jpeg.webp
ORGANIZER;CN="Auditorium Palma de Mallorca":MAILTO:info@auditoriumpalma.com
END:VEVENT
BEGIN:VEVENT
DTSTART;TZID=Europe/Madrid:20251226T170000
DTEND;TZID=Europe/Madrid:20251226T170000
DTSTAMP:20260424T195010
CREATED:20251223T101537Z
LAST-MODIFIED:20251223T101537Z
UID:16005-1766768400-1766768400@www.mallorcasunshineradio.com
SUMMARY:Ariel Musical
DESCRIPTION:The musical “Ariel – The Little Mermaid” is being shown at Auditorium Palma. With well-known songs\, elaborate costumes\, and a large stage setting\, the story is brought to life. The performance begins on the second day of Christmas at 5:00 pm. \nImage credit: auditoriumpalma.com
URL:https://www.mallorcasunshineradio.com/event/ariel-the-little-mermaid-musical-palma/
LOCATION:Auditorium Palma\, Auditorium de Palma de Mallorca. Av. de Gabriel Roca\, 18\, Palma\, Illes Balears\, 07014\, Spain
CATEGORIES:Family,Musical,Theatre
ATTACH;FMTTYPE=image/webp:https://www.mallorcasunshineradio.com/wp-content/uploads/Arielle_Meerjungfrau.jpg.webp
ORGANIZER;CN="Auditorium Palma de Mallorca":MAILTO:info@auditoriumpalma.com
END:VEVENT
BEGIN:VEVENT
DTSTART;TZID=Europe/Madrid:20251109T163000
DTEND;TZID=Europe/Madrid:20251109T163000
DTSTAMP:20260424T195010
CREATED:20251106T105949Z
LAST-MODIFIED:20251106T111245Z
UID:15198-1762705800-1762705800@www.mallorcasunshineradio.com
SUMMARY:Mamma Mia at the Auditorium Palma
DESCRIPTION:At the Auditorium Palma you can experience the musical “Mamma Mia!” — an exciting show full of humour and unforgettable ABBA hits like “Dancing Queen” and “The Winner Takes It All”. \nA musical highlight for all generations. \nImage: auditoriumpalma.com
URL:https://www.mallorcasunshineradio.com/event/mamma-mia-auditorium-palma/
LOCATION:Auditorium Palma\, Auditorium de Palma de Mallorca. Av. de Gabriel Roca\, 18\, Palma\, Illes Balears\, 07014\, Spain
CATEGORIES:Musical,Theatre
ATTACH;FMTTYPE=image/webp:https://www.mallorcasunshineradio.com/wp-content/uploads/mammamia_auditoriumpalma.com_.webp
ORGANIZER;CN="Auditorium Palma de Mallorca":MAILTO:info@auditoriumpalma.com
END:VEVENT
BEGIN:VEVENT
DTSTART;TZID=Europe/Madrid:20251019T173000
DTEND;TZID=Europe/Madrid:20251019T173000
DTSTAMP:20260424T195010
CREATED:20251016T113918Z
LAST-MODIFIED:20251016T113918Z
UID:14897-1760895000-1760895000@www.mallorcasunshineradio.com
SUMMARY:Rocky Horror Show @ Auditorium Palma
DESCRIPTION:Rocky Horror Show with Jason Donovan – Auditorium Palma\, Sala Magna \nThe cult musical The Rocky Horror Show returns to Mallorca! With spectacular staging\, dazzling costumes\, and Jason Donovan in the leading role\, this iconic production promises a night full of excitement and entertainment. \nExperience legendary songs like The Time Warp live\, and join an audience that has celebrated this show for decades around the world. \nPerformances take place from October 16th to 19th at the Auditorium Palma’s Sala Magna. \nTickets are already available – don’t miss the most outrageous musical of the season!
URL:https://www.mallorcasunshineradio.com/event/rocky-horror-show-auditorium-palma-2-3/
LOCATION:Auditorium Palma\, Auditorium de Palma de Mallorca. Av. de Gabriel Roca\, 18\, Palma\, Illes Balears\, 07014\, Spain
CATEGORIES:Culture,Musical,Rock,Theatre
ATTACH;FMTTYPE=image/jpeg:https://www.mallorcasunshineradio.com/wp-content/uploads/rocky_horror_show_auditoriumpalma.com_.jpg
ORGANIZER;CN="Auditorium Palma de Mallorca":MAILTO:info@auditoriumpalma.com
END:VEVENT
BEGIN:VEVENT
DTSTART;TZID=Europe/Madrid:20251018T173000
DTEND;TZID=Europe/Madrid:20251018T173000
DTSTAMP:20260424T195010
CREATED:20251016T113439Z
LAST-MODIFIED:20251016T113749Z
UID:14890-1760808600-1760808600@www.mallorcasunshineradio.com
SUMMARY:Rocky Horror Show @ Auditorium Palma
DESCRIPTION:Rocky Horror Show with Jason Donovan – Auditorium Palma\, Sala Magna \nThe cult musical The Rocky Horror Show returns to Mallorca! With spectacular staging\, dazzling costumes\, and Jason Donovan in the leading role\, this iconic production promises a night full of excitement and entertainment. \nExperience legendary songs like The Time Warp live\, and join an audience that has celebrated this show for decades around the world. \nPerformances take place from October 16th to 19th at the Auditorium Palma’s Sala Magna. \nTickets are already available – don’t miss the most outrageous musical of the season!
URL:https://www.mallorcasunshineradio.com/event/rocky-horror-show-auditorium-palma-2/
LOCATION:Auditorium Palma\, Auditorium de Palma de Mallorca. Av. de Gabriel Roca\, 18\, Palma\, Illes Balears\, 07014\, Spain
CATEGORIES:Culture,Musical,Rock,Theatre
ATTACH;FMTTYPE=image/jpeg:https://www.mallorcasunshineradio.com/wp-content/uploads/rocky_horror_show_auditoriumpalma.com_.jpg
ORGANIZER;CN="Auditorium Palma de Mallorca":MAILTO:info@auditoriumpalma.com
END:VEVENT
BEGIN:VEVENT
DTSTART;TZID=Europe/Madrid:20251017T173000
DTEND;TZID=Europe/Madrid:20251017T173000
DTSTAMP:20260424T195010
CREATED:20251016T113828Z
LAST-MODIFIED:20251016T113828Z
UID:14895-1760722200-1760722200@www.mallorcasunshineradio.com
SUMMARY:Rocky Horror Show @ Auditorium Palma
DESCRIPTION:Rocky Horror Show with Jason Donovan – Auditorium Palma\, Sala Magna \nThe cult musical The Rocky Horror Show returns to Mallorca! With spectacular staging\, dazzling costumes\, and Jason Donovan in the leading role\, this iconic production promises a night full of excitement and entertainment. \nExperience legendary songs like The Time Warp live\, and join an audience that has celebrated this show for decades around the world. \nPerformances take place from October 16th to 19th at the Auditorium Palma’s Sala Magna. \nTickets are already available – don’t miss the most outrageous musical of the season!
URL:https://www.mallorcasunshineradio.com/event/rocky-horror-show-auditorium-palma-2-2/
LOCATION:Auditorium Palma\, Auditorium de Palma de Mallorca. Av. de Gabriel Roca\, 18\, Palma\, Illes Balears\, 07014\, Spain
CATEGORIES:Culture,Musical,Rock,Theatre
ATTACH;FMTTYPE=image/jpeg:https://www.mallorcasunshineradio.com/wp-content/uploads/rocky_horror_show_auditoriumpalma.com_.jpg
ORGANIZER;CN="Auditorium Palma de Mallorca":MAILTO:info@auditoriumpalma.com
END:VEVENT
BEGIN:VEVENT
DTSTART;TZID=Europe/Madrid:20251016T200000
DTEND;TZID=Europe/Madrid:20251016T200000
DTSTAMP:20260424T195010
CREATED:20251016T112959Z
LAST-MODIFIED:20251016T112959Z
UID:14881-1760644800-1760644800@www.mallorcasunshineradio.com
SUMMARY:Rocky Horror Show @ Auditorium Palma
DESCRIPTION:Rocky Horror Show with Jason Donovan – Auditorium Palma\, Sala Magna \nThe cult musical The Rocky Horror Show returns to Mallorca! With spectacular staging\, dazzling costumes\, and Jason Donovan in the leading role\, this iconic production promises a night full of excitement and entertainment. \nExperience legendary songs like The Time Warp live\, and join an audience that has celebrated this show for decades around the world. \nPerformances take place from October 16th to 19th at the Auditorium Palma’s Sala Magna. \nTickets are already available – don’t miss the most outrageous musical of the season!
URL:https://www.mallorcasunshineradio.com/event/rocky-horror-show-auditorium-palma/
LOCATION:Auditorium Palma\, Auditorium de Palma de Mallorca. Av. de Gabriel Roca\, 18\, Palma\, Illes Balears\, 07014\, Spain
CATEGORIES:Culture,Musical,Rock,Theatre
ATTACH;FMTTYPE=image/jpeg:https://www.mallorcasunshineradio.com/wp-content/uploads/rocky_horror_show_auditoriumpalma.com_.jpg
ORGANIZER;CN="Auditorium Palma de Mallorca":MAILTO:info@auditoriumpalma.com
END:VEVENT
END:VCALENDAR