BEGIN:VCALENDAR
VERSION:2.0
PRODID:-//Mallorca Sunshine Radio - ECPv6.15.20//NONSGML v1.0//EN
CALSCALE:GREGORIAN
METHOD:PUBLISH
X-ORIGINAL-URL:https://www.mallorcasunshineradio.com
X-WR-CALDESC:Events for Mallorca Sunshine Radio
REFRESH-INTERVAL;VALUE=DURATION:PT1H
X-Robots-Tag:noindex
X-PUBLISHED-TTL:PT1H
BEGIN:VTIMEZONE
TZID:Europe/Madrid
BEGIN:DAYLIGHT
TZOFFSETFROM:+0100
TZOFFSETTO:+0200
TZNAME:CEST
DTSTART:20240331T010000
END:DAYLIGHT
BEGIN:STANDARD
TZOFFSETFROM:+0200
TZOFFSETTO:+0100
TZNAME:CET
DTSTART:20241027T010000
END:STANDARD
BEGIN:DAYLIGHT
TZOFFSETFROM:+0100
TZOFFSETTO:+0200
TZNAME:CEST
DTSTART:20250330T010000
END:DAYLIGHT
BEGIN:STANDARD
TZOFFSETFROM:+0200
TZOFFSETTO:+0100
TZNAME:CET
DTSTART:20251026T010000
END:STANDARD
BEGIN:DAYLIGHT
TZOFFSETFROM:+0100
TZOFFSETTO:+0200
TZNAME:CEST
DTSTART:20260329T010000
END:DAYLIGHT
BEGIN:STANDARD
TZOFFSETFROM:+0200
TZOFFSETTO:+0100
TZNAME:CET
DTSTART:20261025T010000
END:STANDARD
END:VTIMEZONE
BEGIN:VEVENT
DTSTART;TZID=Europe/Madrid:20251121T190000
DTEND;TZID=Europe/Madrid:20251121T190000
DTSTAMP:20260424T184100
CREATED:20251102T234246Z
LAST-MODIFIED:20251109T150420Z
UID:15140-1763751600-1763751600@www.mallorcasunshineradio.com
SUMMARY:Crime Dinner @ Motorworld Mallorca
DESCRIPTION:An exciting evening awaits at Motorworld Palma! During this immersive crime dinner\, you’ll become part of a thrilling murder mystery and help solve the case — all while enjoying a delicious buffet and a welcome drink. \nA perfect mix of suspense and good food in a unique setting.
URL:https://www.mallorcasunshineradio.com/event/crime-dinner-motorworld-mallorca-2025/
LOCATION:Motorworld Mallorca\, Motorworld Mallorca. Camí Vell de Llucmajor\, 112\, Palma\, Balearic Islands\, 07007\, Spain
CATEGORIES:Dinner show,Mystery,Theatre
ATTACH;FMTTYPE=image/webp:https://www.mallorcasunshineradio.com/wp-content/uploads/Krimidinner_Mallorca.jpg.webp
END:VEVENT
END:VCALENDAR