BEGIN:VCALENDAR
VERSION:2.0
PRODID:-//Mallorca Sunshine Radio - ECPv6.15.20//NONSGML v1.0//EN
CALSCALE:GREGORIAN
METHOD:PUBLISH
X-ORIGINAL-URL:https://www.mallorcasunshineradio.com
X-WR-CALDESC:Events for Mallorca Sunshine Radio
REFRESH-INTERVAL;VALUE=DURATION:PT1H
X-Robots-Tag:noindex
X-PUBLISHED-TTL:PT1H
BEGIN:VTIMEZONE
TZID:Europe/Madrid
BEGIN:DAYLIGHT
TZOFFSETFROM:+0100
TZOFFSETTO:+0200
TZNAME:CEST
DTSTART:20240331T010000
END:DAYLIGHT
BEGIN:STANDARD
TZOFFSETFROM:+0200
TZOFFSETTO:+0100
TZNAME:CET
DTSTART:20241027T010000
END:STANDARD
BEGIN:DAYLIGHT
TZOFFSETFROM:+0100
TZOFFSETTO:+0200
TZNAME:CEST
DTSTART:20250330T010000
END:DAYLIGHT
BEGIN:STANDARD
TZOFFSETFROM:+0200
TZOFFSETTO:+0100
TZNAME:CET
DTSTART:20251026T010000
END:STANDARD
BEGIN:DAYLIGHT
TZOFFSETFROM:+0100
TZOFFSETTO:+0200
TZNAME:CEST
DTSTART:20260329T010000
END:DAYLIGHT
BEGIN:STANDARD
TZOFFSETFROM:+0200
TZOFFSETTO:+0100
TZNAME:CET
DTSTART:20261025T010000
END:STANDARD
END:VTIMEZONE
BEGIN:VEVENT
DTSTART;TZID=Europe/Madrid:20251228T190000
DTEND;TZID=Europe/Madrid:20251228T190000
DTSTAMP:20260424T184119
CREATED:20251223T105546Z
LAST-MODIFIED:20251223T105546Z
UID:16018-1766948400-1766948400@www.mallorcasunshineradio.com
SUMMARY:Open-Air Concert: Veronica
DESCRIPTION:In the garden of the La Misericòrdia Cultural Centre\, there are daily open-air Christmas concerts until the arrival of the Three Kings. Various artists perform short sets. \nImage credit: conselldemallorca.
URL:https://www.mallorcasunshineradio.com/event/open-air-concert-veronica-la-misericordia-palma/
LOCATION:La Misericordia\, La Misericordia. Plaça de l'Hospital\, 4\, Centre\, Palma\, Illes Balears\, 07012
CATEGORIES:Live Music,Music,Outdoor
ATTACH;FMTTYPE=image/webp:https://www.mallorcasunshineradio.com/wp-content/uploads/La_Misericordia_Garten.jpg.webp
END:VEVENT
BEGIN:VEVENT
DTSTART;TZID=Europe/Madrid:20251122T190000
DTEND;TZID=Europe/Madrid:20251122T190000
DTSTAMP:20260424T184119
CREATED:20251120T222657Z
LAST-MODIFIED:20251120T222657Z
UID:15412-1763838000-1763838000@www.mallorcasunshineradio.com
SUMMARY:Switching on Palma’s Christmas Lights
DESCRIPTION:Palma hosts the official switching-on of the Christmas lights at Plaza España.\nThe event features a 35-minute show with music\, acrobatics\, snow effects and the traditional countdown. \nImage credit: Inselradio Mallorca
URL:https://www.mallorcasunshineradio.com/event/switching-on-christmas-lights-palma/
LOCATION:Plaza de España\, Pl. d'Espanya\, 1\, Centre\, Palma\, Illes Balears\, 07002\, Spain
CATEGORIES:Christmas,Outdoor
ATTACH;FMTTYPE=image/webp:https://www.mallorcasunshineradio.com/wp-content/uploads/Weihnachten_Lichter_Paseo_Born.webp
ORGANIZER;CN="Ajuntament de Palma":MAILTO:cultura@palma.es
END:VEVENT
BEGIN:VEVENT
DTSTART;TZID=Europe/Madrid:20251116T110000
DTEND;TZID=Europe/Madrid:20251116T110000
DTSTAMP:20260424T184119
CREATED:20251114T162341Z
LAST-MODIFIED:20251114T162341Z
UID:15342-1763290800-1763290800@www.mallorcasunshineradio.com
SUMMARY:United Engines at Motorworld Mallorca
DESCRIPTION:Two wheels\, powerful engines\, and plenty of action await at Motorworld Mallorca. Enjoy stunt shows\, food trucks\, exhibitors\, and a large tombola with great prizes. \nImage courtesy of Motorworld Mallorca.
URL:https://www.mallorcasunshineradio.com/event/united-engines-motorworld-16-nov/
LOCATION:Motorworld Mallorca\, Motorworld Mallorca. Camí Vell de Llucmajor\, 112\, Palma\, Balearic Islands\, 07007\, Spain
CATEGORIES:Exhibition,Motorsport,Outdoor
ATTACH;FMTTYPE=image/jpeg:https://www.mallorcasunshineradio.com/wp-content/uploads/Motorworld_united_engines_1080x1346_001.jpeg
END:VEVENT
BEGIN:VEVENT
DTSTART;TZID=Europe/Madrid:20251110T100000
DTEND;TZID=Europe/Madrid:20251110T100000
DTSTAMP:20260424T184119
CREATED:20251109T185753Z
LAST-MODIFIED:20251109T185753Z
UID:15250-1762768800-1762768800@www.mallorcasunshineradio.com
SUMMARY:Botanical Garden
DESCRIPTION:Discover the fascinating plant world of the Balearic Islands at the Botanical Garden of Sóller — from medicinal herbs to fruit and vegetable species. \nThis lush green oasis lies along the road leading to the harbour\, offering a peaceful escape surrounded by nature. \n  \nImage: Jardí Botànic de Sóller / Museu Balear de Ciències Naturals
URL:https://www.mallorcasunshineradio.com/event/botanical-garden-soller/
LOCATION:Jardí Botànic de Sóller\, Ctra. Palma\, Ma-10\, Km 30.5\, Port de Sóller\, Illes Ballears\, 07100
CATEGORIES:Family,Nature,Outdoor
ATTACH;FMTTYPE=image/webp:https://www.mallorcasunshineradio.com/wp-content/uploads/botanischerGarten_mucbo.org_.webp
END:VEVENT
END:VCALENDAR