BEGIN:VCALENDAR
VERSION:2.0
PRODID:-//Mallorca Sunshine Radio - ECPv6.15.20//NONSGML v1.0//EN
CALSCALE:GREGORIAN
METHOD:PUBLISH
X-ORIGINAL-URL:https://www.mallorcasunshineradio.com
X-WR-CALDESC:Events for Mallorca Sunshine Radio
REFRESH-INTERVAL;VALUE=DURATION:PT1H
X-Robots-Tag:noindex
X-PUBLISHED-TTL:PT1H
BEGIN:VTIMEZONE
TZID:Europe/Madrid
BEGIN:DAYLIGHT
TZOFFSETFROM:+0100
TZOFFSETTO:+0200
TZNAME:CEST
DTSTART:20240331T010000
END:DAYLIGHT
BEGIN:STANDARD
TZOFFSETFROM:+0200
TZOFFSETTO:+0100
TZNAME:CET
DTSTART:20241027T010000
END:STANDARD
BEGIN:DAYLIGHT
TZOFFSETFROM:+0100
TZOFFSETTO:+0200
TZNAME:CEST
DTSTART:20250330T010000
END:DAYLIGHT
BEGIN:STANDARD
TZOFFSETFROM:+0200
TZOFFSETTO:+0100
TZNAME:CET
DTSTART:20251026T010000
END:STANDARD
BEGIN:DAYLIGHT
TZOFFSETFROM:+0100
TZOFFSETTO:+0200
TZNAME:CEST
DTSTART:20260329T010000
END:DAYLIGHT
BEGIN:STANDARD
TZOFFSETFROM:+0200
TZOFFSETTO:+0100
TZNAME:CET
DTSTART:20261025T010000
END:STANDARD
END:VTIMEZONE
BEGIN:VEVENT
DTSTART;TZID=Europe/Madrid:20251021T115900
DTEND;TZID=Europe/Madrid:20251021T115900
DTSTAMP:20260424T211151
CREATED:20251020T150730Z
LAST-MODIFIED:20251020T160723Z
UID:14968-1761047940-1761047940@www.mallorcasunshineradio.com
SUMMARY:Reggae Night at Shamrock Palma
DESCRIPTION:Get ready for a lively reggae night at the Shamrock in Palma! Glasford & The Providence bring their signature mix of reggae and funk rhythms\, creating an upbeat party atmosphere that lasts until dawn. \nEnjoy an energetic live performance right by the seafront. \nTickets\nFacebook
URL:https://www.mallorcasunshineradio.com/event/reggae-night-at-shamrock-palma/
LOCATION:Shamrock Palma\, Shamrock Palma. Av. de Gabriel Roca\, 3\, Ponent\, Palma\, Illes Balears\, 07014\, Spain
CATEGORIES:Music,Reggae
ATTACH;FMTTYPE=image/webp:https://www.mallorcasunshineradio.com/wp-content/uploads/Glasford__The_Providence_Reggae_shamrock_website.jpg-1.webp
END:VEVENT
END:VCALENDAR