BEGIN:VCALENDAR
VERSION:2.0
PRODID:-//Mallorca Sunshine Radio - ECPv6.15.20//NONSGML v1.0//EN
CALSCALE:GREGORIAN
METHOD:PUBLISH
X-WR-CALNAME:Mallorca Sunshine Radio
X-ORIGINAL-URL:https://www.mallorcasunshineradio.com
X-WR-CALDESC:Events for Mallorca Sunshine Radio
REFRESH-INTERVAL;VALUE=DURATION:PT1H
X-Robots-Tag:noindex
X-PUBLISHED-TTL:PT1H
BEGIN:VTIMEZONE
TZID:Europe/Madrid
BEGIN:DAYLIGHT
TZOFFSETFROM:+0100
TZOFFSETTO:+0200
TZNAME:CEST
DTSTART:20240331T010000
END:DAYLIGHT
BEGIN:STANDARD
TZOFFSETFROM:+0200
TZOFFSETTO:+0100
TZNAME:CET
DTSTART:20241027T010000
END:STANDARD
BEGIN:DAYLIGHT
TZOFFSETFROM:+0100
TZOFFSETTO:+0200
TZNAME:CEST
DTSTART:20250330T010000
END:DAYLIGHT
BEGIN:STANDARD
TZOFFSETFROM:+0200
TZOFFSETTO:+0100
TZNAME:CET
DTSTART:20251026T010000
END:STANDARD
BEGIN:DAYLIGHT
TZOFFSETFROM:+0100
TZOFFSETTO:+0200
TZNAME:CEST
DTSTART:20260329T010000
END:DAYLIGHT
BEGIN:STANDARD
TZOFFSETFROM:+0200
TZOFFSETTO:+0100
TZNAME:CET
DTSTART:20261025T010000
END:STANDARD
END:VTIMEZONE
BEGIN:VEVENT
DTSTART;TZID=Europe/Madrid:20251224T170000
DTEND;TZID=Europe/Madrid:20251224T170000
DTSTAMP:20260425T030843
CREATED:20251218T232138Z
LAST-MODIFIED:20251218T232138Z
UID:15966-1766595600-1766595600@www.mallorcasunshineradio.com
SUMMARY:Circus Show in Palma
DESCRIPTION:At Son Fusteret in Palma\, Circo Alegría presents a circus show featuring laser shows\, acrobatics and illuminated animal projections instead of real animals. A modern circus show for the whole family. \nImage Credit: Circo Alegría
URL:https://www.mallorcasunshineradio.com/event/circus-show-palma-circo-alegria/
LOCATION:Son Fusteret\, Son Fusteret. Camí Vell de Bunyola\, s/n\, Nord\, Palma\, Illes Balears\, 07009\, Spain
CATEGORIES:Family,Show
ATTACH;FMTTYPE=image/webp:https://www.mallorcasunshineradio.com/wp-content/uploads/Bild_Circo_Alegria.png.webp
END:VEVENT
END:VCALENDAR